BEGIN:VCALENDAR
VERSION:2.0
PRODID:-//Dansville Public Library - ECPv6.2.3//NONSGML v1.0//EN
CALSCALE:GREGORIAN
METHOD:PUBLISH
X-ORIGINAL-URL:https://dansvillelibrary.org
X-WR-CALDESC:Events for Dansville Public Library
REFRESH-INTERVAL;VALUE=DURATION:PT1H
X-Robots-Tag:noindex
X-PUBLISHED-TTL:PT1H
BEGIN:VTIMEZONE
TZID:America/New_York
BEGIN:DAYLIGHT
TZOFFSETFROM:-0500
TZOFFSETTO:-0400
TZNAME:EDT
DTSTART:20160313T070000
END:DAYLIGHT
BEGIN:STANDARD
TZOFFSETFROM:-0400
TZOFFSETTO:-0500
TZNAME:EST
DTSTART:20161106T060000
END:STANDARD
BEGIN:DAYLIGHT
TZOFFSETFROM:-0500
TZOFFSETTO:-0400
TZNAME:EDT
DTSTART:20170312T070000
END:DAYLIGHT
BEGIN:STANDARD
TZOFFSETFROM:-0400
TZOFFSETTO:-0500
TZNAME:EST
DTSTART:20171105T060000
END:STANDARD
END:VTIMEZONE
BEGIN:VEVENT
DTSTART;TZID=America/New_York:20170426T100000
DTEND;TZID=America/New_York:20170426T110000
DTSTAMP:20260421T171529
CREATED:20170415T124041Z
LAST-MODIFIED:20170415T124041Z
UID:2569-1493200800-1493204400@dansvillelibrary.org
SUMMARY:Read & Play
DESCRIPTION:This spring we will continue our early literacy programs with Ms. Brandy in the Story Time Chair! “Read & Play” is for children ages 3-5 years old. Kids can enjoy stories\, songs\, crafts and much more! To pre-register your child call (585)335-6720 or stop in the library! Today’s theme is Bubbles & Bath Time.
URL:https://dansvillelibrary.org/event/read-play/
LOCATION:Dansville Public Library\, 200 Main Street\, Dansville\, NY\, 14437\, United States
END:VEVENT
BEGIN:VEVENT
DTSTART;TZID=America/New_York:20170425T173000
DTEND;TZID=America/New_York:20170425T173000
DTSTAMP:20260421T171529
CREATED:20170415T124346Z
LAST-MODIFIED:20170415T124401Z
UID:2572-1493141400-1493141400@dansvillelibrary.org
SUMMARY:Family Night@ the Movies!
DESCRIPTION:Families can enjoy a movie night at the library! We will show a different children’s movie at 5:30 p.m. every 2nd and 4th Tuesday of each month beginning in February and ending in April. Pizza and refreshments will also be provided. This movie night is sponsored by Tony’s Pizzeria and Genesee Valley Federal Credit Union. For more information call 335-6720 or stop in the library.
URL:https://dansvillelibrary.org/event/family-nightthe-movies/
LOCATION:Dansville Public Library\, 200 Main Street\, Dansville\, NY\, 14437\, United States
END:VEVENT
BEGIN:VEVENT
DTSTART;TZID=America/New_York:20170422T130000
DTEND;TZID=America/New_York:20170422T150000
DTSTAMP:20260421T171530
CREATED:20170415T124530Z
LAST-MODIFIED:20170415T124530Z
UID:2575-1492866000-1492873200@dansvillelibrary.org
SUMMARY:Kids Free Play!
DESCRIPTION:Join us at the library on Saturday\, April 22\, 2017 from 1-3 p.m. for this special play event! Children can learn and grow together with Legos\, K’NEX\, Games\, Puzzles\, & More! For children ages 3-12. This program was made possible by the Pioneer Library System Play Spaces Grant. Please call the library or stop in to register your child for this program.
URL:https://dansvillelibrary.org/event/kids-free-play/
LOCATION:Dansville Public Library\, 200 Main Street\, Dansville\, NY\, 14437\, United States
END:VEVENT
BEGIN:VEVENT
DTSTART;VALUE=DATE:20170422
DTEND;VALUE=DATE:20170423
DTSTAMP:20260421T171530
CREATED:20170415T124616Z
LAST-MODIFIED:20170415T125711Z
UID:2577-1492819200-1492905599@dansvillelibrary.org
SUMMARY:Happy Earth Day!
DESCRIPTION:Earth Day is an annual event\, celebrated on April 22\, on which events are held worldwide to demonstrate support for environmental protection. It was first celebrated in 1970\, and is now coordinated globally by the Earth Day Network and celebrated in more than 192 countries each year.
URL:https://dansvillelibrary.org/event/happy-earth-day/
LOCATION:Dansville Public Library\, 200 Main Street\, Dansville\, NY\, 14437\, United States
END:VEVENT
BEGIN:VEVENT
DTSTART;TZID=America/New_York:20170420T100000
DTEND;TZID=America/New_York:20170420T100000
DTSTAMP:20260421T171530
CREATED:20170415T124921Z
LAST-MODIFIED:20170415T125741Z
UID:2579-1492682400-1492682400@dansvillelibrary.org
SUMMARY:Babies Book Buddies
DESCRIPTION:Lapsit storytime starts today! Baby’s Book Buddies begins this spring with Ms. Brandy introducing children ages 6 to 36 months to the joy of books\, fingerplays and songs! Please call (585)335-6720 to register your child or stop in the library. Today’s theme is The Very Hungry Caterpillar.
URL:https://dansvillelibrary.org/event/babies-book-buddies-2/
LOCATION:Dansville Public Library\, 200 Main Street\, Dansville\, NY\, 14437\, United States
END:VEVENT
BEGIN:VEVENT
DTSTART;TZID=America/New_York:20170419T100000
DTEND;TZID=America/New_York:20170419T110000
DTSTAMP:20260421T171530
CREATED:20170415T125114Z
LAST-MODIFIED:20170415T125114Z
UID:2581-1492596000-1492599600@dansvillelibrary.org
SUMMARY:Read & Play
DESCRIPTION:This spring we will continue our early literacy programs with Ms. Brandy in the Story Time Chair! “Read & Play” is for children ages 3-5 years old. Kids can enjoy stories\, songs\, crafts and much more! To pre-register your child call (585)335-6720 or stop in the library! Today’s theme is Caterpillars & Butterflies.
URL:https://dansvillelibrary.org/event/read-play-2/
LOCATION:Dansville Public Library\, 200 Main Street\, Dansville\, NY\, 14437\, United States
END:VEVENT
BEGIN:VEVENT
DTSTART;VALUE=DATE:20170416
DTEND;VALUE=DATE:20170417
DTSTAMP:20260421T171530
CREATED:20170415T125257Z
LAST-MODIFIED:20170415T125257Z
UID:2583-1492300800-1492387199@dansvillelibrary.org
SUMMARY:Easter
DESCRIPTION:Learn more about this holiday by checking out the Easter books at the library.
URL:https://dansvillelibrary.org/event/easter/
LOCATION:Dansville Public Library\, 200 Main Street\, Dansville\, NY\, 14437\, United States
END:VEVENT
BEGIN:VEVENT
DTSTART;TZID=America/New_York:20170410T160000
DTEND;TZID=America/New_York:20170410T160000
DTSTAMP:20260421T171530
CREATED:20170415T130303Z
LAST-MODIFIED:20170415T130303Z
UID:2587-1491840000-1491840000@dansvillelibrary.org
SUMMARY:Public Library Board Meeting
DESCRIPTION:Monthly meeting of the Dansville Public Library Board
URL:https://dansvillelibrary.org/event/public-library-board-meeting-2/
LOCATION:Dansville Public Library\, 200 Main Street\, Dansville\, NY\, 14437\, United States
END:VEVENT
BEGIN:VEVENT
DTSTART;VALUE=DATE:20170409
DTEND;VALUE=DATE:20170410
DTSTAMP:20260421T171530
CREATED:20170415T130053Z
LAST-MODIFIED:20170415T130053Z
UID:2585-1491696000-1491782399@dansvillelibrary.org
SUMMARY:National Library Week!
DESCRIPTION:Celebrate National Library Week on April 9-15. First sponsored in 1958\, National Library Week is a national observance sponsored by the American Library Association (ALA) and libraries across the country each April. It is a time to celebrate the contributions of our nation’s libraries and librarians and to promote library use and support. All types of libraries – school\, public\, academic and special – participate. Stop by the library\, check out a good book and learn all about what we have to offer!
URL:https://dansvillelibrary.org/event/national-library-week/
LOCATION:Dansville Public Library\, 200 Main Street\, Dansville\, NY\, 14437\, United States
END:VEVENT
BEGIN:VEVENT
DTSTART;TZID=America/New_York:20170408T130000
DTEND;TZID=America/New_York:20170408T130000
DTSTAMP:20260421T171530
CREATED:20170415T123245Z
LAST-MODIFIED:20170415T123245Z
UID:2563-1491656400-1491656400@dansvillelibrary.org
SUMMARY:1000 Books
DESCRIPTION:Introducing…1000 Books Before Kindergarten! An Early Literacy Program for Babies\, Toddlers\, & Preschoolers.\nJoin us at the library on Saturday\, April 8\, 2017 at 1 p.m. for a kick-off party and puppet show! 1000 Books Before Kindergarten is a national initiative to encourage parents/caregivers to read 1\,000 books to their children before they enter Kindergarten. By reading just one book a night\, families can reach the 1\,000-book goal in three years and provide their children essential early literacy skills. Participants will have a reading log to keep track of the book titles they have read. All pre-K children\, 0-5 years\, may register for the program at the Dansville Public Library. This program is funded in part by the Friends of the Dansville Public Library\, Dansville Women’s Civic Club\, and Kathy Rose. It was also made possible by a grant from Senator Michael F. Nozzolio. For more information about this program please call the library at 585-335-6720.
URL:https://dansvillelibrary.org/event/1000-books/
LOCATION:Dansville Public Library\, 200 Main Street\, Dansville\, NY\, 14437\, United States
END:VEVENT
BEGIN:VEVENT
DTSTART;TZID=America/New_York:20170308T183000
DTEND;TZID=America/New_York:20170308T200000
DTSTAMP:20260421T171530
CREATED:20170307T154515Z
LAST-MODIFIED:20170310T183546Z
UID:2388-1488997800-1489003200@dansvillelibrary.org
SUMMARY:Gardening with Julie
DESCRIPTION:Gardening with seeds or plants. Sponsored by the Friends of the Library.
URL:https://dansvillelibrary.org/event/gardening-with-julie/
LOCATION:Dansville Public Library\, 200 Main Street\, Dansville\, NY\, 14437\, United States
CATEGORIES:Children's
ORGANIZER;CN="Friends of Library":MAILTO:tdearing@pls-net.org
END:VEVENT
BEGIN:VEVENT
DTSTART;VALUE=DATE:20170214
DTEND;VALUE=DATE:20170215
DTSTAMP:20260421T171530
CREATED:20170212T220246Z
LAST-MODIFIED:20170225T022339Z
UID:2321-1487030400-1487116799@dansvillelibrary.org
SUMMARY:Valentine's Day
DESCRIPTION:
URL:https://dansvillelibrary.org/event/valentines-day/
LOCATION:Dansville Public Library\, 200 Main Street\, Dansville\, NY\, 14437\, United States
END:VEVENT
BEGIN:VEVENT
DTSTART;TZID=America/New_York:20170112T183000
DTEND;TZID=America/New_York:20170112T183000
DTSTAMP:20260421T171530
CREATED:20161218T184135Z
LAST-MODIFIED:20161218T184135Z
UID:2305-1484245800-1484245800@dansvillelibrary.org
SUMMARY:Ravenous Readers
DESCRIPTION:Looking to join a Book Club? We’re looking for YOU! Meets second Thursday of the Month at the Library @ 6:30 p.m. Call ahead in time to read our next selection! January selection is The Deepest Secret by Carla Buckley.
URL:https://dansvillelibrary.org/event/ravenous-readers/
LOCATION:Dansville Public Library\, 200 Main Street\, Dansville\, NY\, 14437\, United States
END:VEVENT
BEGIN:VEVENT
DTSTART;TZID=America/New_York:20170109T160000
DTEND;TZID=America/New_York:20170109T160000
DTSTAMP:20260421T171530
CREATED:20161218T184013Z
LAST-MODIFIED:20161218T184013Z
UID:2302-1483977600-1483977600@dansvillelibrary.org
SUMMARY:Public Library Board Meeting
DESCRIPTION:Monthly meeting of the Dansville Public Library Board
URL:https://dansvillelibrary.org/event/public-library-board-meeting/
LOCATION:Dansville Public Library\, 200 Main Street\, Dansville\, NY\, 14437\, United States
END:VEVENT
BEGIN:VEVENT
DTSTART;VALUE=DATE:20170102
DTEND;VALUE=DATE:20170103
DTSTAMP:20260421T171530
CREATED:20161218T183843Z
LAST-MODIFIED:20161221T161349Z
UID:2299-1483315200-1483401599@dansvillelibrary.org
SUMMARY:Library Closed
DESCRIPTION:The library will be closed on Monday\, January 2nd. We will reopen on Tuesday\, 3rd at 10 AM.
URL:https://dansvillelibrary.org/event/library-closed-on-2nd/
LOCATION:Dansville Public Library\, 200 Main Street\, Dansville\, NY\, 14437\, United States
END:VEVENT
BEGIN:VEVENT
DTSTART;VALUE=DATE:20161226
DTEND;VALUE=DATE:20161227
DTSTAMP:20260421T171530
CREATED:20161218T183508Z
LAST-MODIFIED:20161218T183508Z
UID:2294-1482710400-1482796799@dansvillelibrary.org
SUMMARY:Kwanzaa Begins
DESCRIPTION:Kwanzaa is a week-long celebration held in the United States and also celebrated in the Western African Diaspora in other nations of the Americas. The celebration honors African heritage in African-American culture\, and is observed from December 26 to January 1\, culminating in a feast and gift-giving.
URL:https://dansvillelibrary.org/event/kwanzaa-begins/
LOCATION:Dansville Public Library\, 200 Main Street\, Dansville\, NY\, 14437\, United States
END:VEVENT
BEGIN:VEVENT
DTSTART;VALUE=DATE:20161226
DTEND;VALUE=DATE:20161227
DTSTAMP:20260421T171530
CREATED:20161218T183258Z
LAST-MODIFIED:20161218T183554Z
UID:2292-1482710400-1482796799@dansvillelibrary.org
SUMMARY:Library Closed
DESCRIPTION:The library will be closed on Monday\, December 26th. We will reopen on Tuesday\, 27th at 10 AM
URL:https://dansvillelibrary.org/event/library-closed-2/
END:VEVENT
BEGIN:VEVENT
DTSTART;VALUE=DATE:20161225
DTEND;VALUE=DATE:20161226
DTSTAMP:20260421T171530
CREATED:20161218T183203Z
LAST-MODIFIED:20161218T183203Z
UID:2289-1482624000-1482710399@dansvillelibrary.org
SUMMARY:Christmas Day
DESCRIPTION:Christmas is an annual commemoration of the birth of Jesus Christ and a widely observed holiday\, celebrated generally on December 25 by billions of people around the world. Enjoy the holiday season with your loved ones and have a happy new year!
URL:https://dansvillelibrary.org/event/christmas-day/
LOCATION:Dansville Public Library\, 200 Main Street\, Dansville\, NY\, 14437\, United States
END:VEVENT
BEGIN:VEVENT
DTSTART;VALUE=DATE:20161224
DTEND;VALUE=DATE:20161225
DTSTAMP:20260421T171530
CREATED:20161205T015628Z
LAST-MODIFIED:20161218T184230Z
UID:125-1482537600-1482623999@dansvillelibrary.org
SUMMARY:Library Closed
DESCRIPTION:The library will be closed to observe Christmas Eve. We will reopen the 27th at 10AM.
URL:https://dansvillelibrary.org/event/library-closed/
END:VEVENT
BEGIN:VEVENT
DTSTART;VALUE=DATE:20161224
DTEND;VALUE=DATE:20161225
DTSTAMP:20260421T171530
CREATED:20161218T183719Z
LAST-MODIFIED:20161218T183719Z
UID:2297-1482537600-1482623999@dansvillelibrary.org
SUMMARY:Hanukkah Begins
DESCRIPTION:Hanukkah is the eight-day Jewish holiday of lights. It begins on the night of the 25th day of the Jewish month of Kislev\, which usually falls in December. The holiday celebrates events that happened over 2\,000 years ago. \nToday\, in Jewish homes throughout the world\, candles are lighted on each of the eight nights of Hanukkah to commemorate the glorious military victory and the miracle of the oil. The Hanukkah menorah has nine branches\, with eight candles on one level and the ninth slightly higher.
URL:https://dansvillelibrary.org/event/hanukkah-begins/
LOCATION:Dansville Public Library\, 200 Main Street\, Dansville\, NY\, 14437\, United States
END:VEVENT
BEGIN:VEVENT
DTSTART;TZID=America/New_York:20161217T130000
DTEND;TZID=America/New_York:20161217T150000
DTSTAMP:20260421T171530
CREATED:20161205T011333Z
LAST-MODIFIED:20161205T011333Z
UID:123-1481979600-1481986800@dansvillelibrary.org
SUMMARY:Santa Visits the Library
DESCRIPTION:Santa and Mrs. Claus will be making a special visit to the Dansville Public Library!! Children of all ages can come to hear Santa read stories and have their picture taken with him and Mrs. Claus. Also enjoy crafts\, cookies\, and cider! Don’t miss this special event!! For more information please call (585)335-6720.
URL:https://dansvillelibrary.org/event/santa-visits-the-library/
LOCATION:Dansville Public Library\, 200 Main Street\, Dansville\, NY\, 14437\, United States
END:VEVENT
BEGIN:VEVENT
DTSTART;TZID=America/New_York:20161215T100000
DTEND;TZID=America/New_York:20161215T100000
DTSTAMP:20260421T171530
CREATED:20161205T010601Z
LAST-MODIFIED:20161221T140927Z
UID:121-1481796000-1481796000@dansvillelibrary.org
SUMMARY:Baby's Book Buddies
DESCRIPTION:Baby’s Book Buddies lapsit storytime program will finish for the fall season today! Ms. Brandy introduces children ages 6 to 36 months to the joy of books\, fingerplays and songs! Please call (585)335-6720 to register your child or stop in the library. Today’s theme is Let it Snow! We will continue Baby’s Book Buddies in January. More information to follow soon!
URL:https://dansvillelibrary.org/event/babys-book-buddies-2/
LOCATION:Dansville Public Library\, 200 Main Street\, Dansville\, NY\, 14437\, United States
CATEGORIES:Children's
END:VEVENT
BEGIN:VEVENT
DTSTART;TZID=America/New_York:20161214T100000
DTEND;TZID=America/New_York:20161214T230000
DTSTAMP:20260421T171530
CREATED:20161205T005756Z
LAST-MODIFIED:20161205T010134Z
UID:116-1481709600-1481756400@dansvillelibrary.org
SUMMARY:Read and Play
DESCRIPTION:We will finish up our fall literacy programs with Ms. Brandy in the Story Time Chair! “Read & Play” is for children ages 3-5 years old. Kids can enjoy stories\, songs\, crafts and much more! To pre-register your child call (585)335-6720 or stop in the library! Today’s theme is Snowmen. Read & Play storytime will begin again in January. More information to follow soon.
URL:https://dansvillelibrary.org/event/read-and-play-2/
LOCATION:Dansville Public Library\, 200 Main Street\, Dansville\, NY\, 14437\, United States
END:VEVENT
BEGIN:VEVENT
DTSTART;TZID=America/New_York:20161212T160000
DTEND;TZID=America/New_York:20161212T160000
DTSTAMP:20260421T171530
CREATED:20161205T010440Z
LAST-MODIFIED:20161205T010440Z
UID:119-1481558400-1481558400@dansvillelibrary.org
SUMMARY:Public Library Board Mtg
DESCRIPTION:Monthly meeting of the Dansville Public Library Board
URL:https://dansvillelibrary.org/event/public-library-board-mtg/
LOCATION:Dansville Public Library\, 200 Main Street\, Dansville\, NY\, 14437\, United States
END:VEVENT
BEGIN:VEVENT
DTSTART;TZID=America/New_York:20161208T183000
DTEND;TZID=America/New_York:20161208T183000
DTSTAMP:20260421T171530
CREATED:20161203T190012Z
LAST-MODIFIED:20161203T190317Z
UID:71-1481221800-1481221800@dansvillelibrary.org
SUMMARY:Ravenous Readers
DESCRIPTION:Looking to join a Book Club? We’re looking for YOU! Meets second Thursday of the Month at the Library @ 6:30 p.m. Call ahead in time to read our next selection! December selection is Boys in the Boat by Daniel James Brown.
URL:https://dansvillelibrary.org/event/ravenous-readers-2/
LOCATION:Dansville Public Library\, 200 Main Street\, Dansville\, NY\, 14437\, United States
END:VEVENT
BEGIN:VEVENT
DTSTART;TZID=America/New_York:20161208T180000
DTEND;TZID=America/New_York:20161208T180000
DTSTAMP:20260421T171530
CREATED:20161203T235250Z
LAST-MODIFIED:20161203T190109Z
UID:69-1481220000-1481220000@dansvillelibrary.org
SUMMARY:Craft a Tree 4 Christmas
DESCRIPTION:You can make a tree! Craft workshop for adults will show you how to create Christmas table-top decoration. All supplies provided. No fees. Thursday\, December 8th at 6 pm with Sheila McAtee.
URL:https://dansvillelibrary.org/event/craft-a-tree-4-christmas/
LOCATION:Dansville Public Library\, 200 Main Street\, Dansville\, NY\, 14437\, United States
END:VEVENT
BEGIN:VEVENT
DTSTART;TZID=America/New_York:20161208T100000
DTEND;TZID=America/New_York:20161208T100000
DTSTAMP:20260421T171530
CREATED:20161205T003221Z
LAST-MODIFIED:20161205T003221Z
UID:111-1481191200-1481191200@dansvillelibrary.org
SUMMARY:Baby's Book Buddies
DESCRIPTION:Baby’s Book Buddies lapsit storytime program begins this fall! Ms. Brandy introduces children ages 6 to 36 months to the joy of books\, fingerplays and songs! Please call (585)335-6720 to register your child or stop in the library. Today’s theme is Let it Snow!
URL:https://dansvillelibrary.org/event/babys-book-buddies/
LOCATION:Dansville Public Library\, 200 Main Street\, Dansville\, NY\, 14437\, United States
END:VEVENT
BEGIN:VEVENT
DTSTART;TZID=America/New_York:20161207T100000
DTEND;TZID=America/New_York:20161207T110000
DTSTAMP:20260421T171530
CREATED:20161205T005705Z
LAST-MODIFIED:20161205T005705Z
UID:114-1481104800-1481108400@dansvillelibrary.org
SUMMARY:Read and Play
DESCRIPTION:This fall we will continue our early literacy programs with Ms. Brandy in the Story Time Chair! “Read & Play” is for children ages 3-5 years old. Kids can enjoy stories\, songs\, crafts and much more! To pre-register your child call (585)335-6720 or stop in the library! Today’s theme is Snowflakes.
URL:https://dansvillelibrary.org/event/read-and-play/
LOCATION:Dansville Public Library\, 200 Main Street\, Dansville\, NY\, 14437\, United States
END:VEVENT
END:VCALENDAR