BEGIN:VCALENDAR
VERSION:2.0
PRODID:-//Dansville Public Library - ECPv6.2.3//NONSGML v1.0//EN
CALSCALE:GREGORIAN
METHOD:PUBLISH
X-WR-CALNAME:Dansville Public Library
X-ORIGINAL-URL:https://dansvillelibrary.org
X-WR-CALDESC:Events for Dansville Public Library
REFRESH-INTERVAL;VALUE=DURATION:PT1H
X-Robots-Tag:noindex
X-PUBLISHED-TTL:PT1H
BEGIN:VTIMEZONE
TZID:America/New_York
BEGIN:DAYLIGHT
TZOFFSETFROM:-0500
TZOFFSETTO:-0400
TZNAME:EDT
DTSTART:20170312T070000
END:DAYLIGHT
BEGIN:STANDARD
TZOFFSETFROM:-0400
TZOFFSETTO:-0500
TZNAME:EST
DTSTART:20171105T060000
END:STANDARD
END:VTIMEZONE
BEGIN:VEVENT
DTSTART;TZID=America/New_York:20170822T130000
DTEND;TZID=America/New_York:20170822T140000
DTSTAMP:20260421T114159
CREATED:20170726T184539Z
LAST-MODIFIED:20170726T184539Z
UID:2790-1503406800-1503410400@dansvillelibrary.org
SUMMARY:Summer Reading Club – “Build A Better World!”
DESCRIPTION:Join us every Tuesday at 1 p.m. for the library’s summer reading club for children grades K-6.  Readers of all ages will create\, repurpose\, and build. Participants will also discover news ways of looking at the world around them through books\, games\, and many STEAM (science\, technology\, engineering\, art\, and math) activities. This year’s program will include performers\, storytelling\, crafts and an end of summer reading party! Children will receive a goodie bag for signing up.  Please register your child by calling 585-335-6720 or visiting the library.  Don’t miss this special event!
URL:https://dansvillelibrary.org/event/summer-reading-club-build-a-better-world-3/
END:VEVENT
BEGIN:VEVENT
DTSTART;TZID=America/New_York:20170821T130000
DTEND;TZID=America/New_York:20170825T150000
DTSTAMP:20260421T114159
CREATED:20170726T185813Z
LAST-MODIFIED:20170726T185813Z
UID:2793-1503320400-1503673200@dansvillelibrary.org
SUMMARY:The Tale of Ice Cream & Frog Soup with Reneé Coombs
DESCRIPTION:Children will explore the world of art and imagination and let their creative senses come alive at this workshop. They will also learn how to use different art mediums and make artistic creations out of recycled materials.  Features painting\, drawing\, story writing\, songs\, and more.  For children ages 8-12. Space is limited! Don’t miss this special “Discovery Workshop” sponsored by the Dansville Lions Club. For more information please call or stop in the library.
URL:https://dansvillelibrary.org/event/the-tale-of-ice-cream-frog-soup-with-renee-coombs/
END:VEVENT
BEGIN:VEVENT
DTSTART;TZID=America/New_York:20170817T100000
DTEND;TZID=America/New_York:20170817T103000
DTSTAMP:20260421T114159
CREATED:20170728T151948Z
LAST-MODIFIED:20170728T151948Z
UID:2811-1502964000-1502965800@dansvillelibrary.org
SUMMARY:Baby’s Book Buddies
DESCRIPTION:Baby’s Book Buddies continues this summer with Ms. Brandy introducing children ages 6 to 36 months to the joy of books\, fingerplays and songs! Please call (585)335-6720 to register your child or stop in the library. Today’s theme is Mud Pies.
URL:https://dansvillelibrary.org/event/babys-book-buddies-10/
END:VEVENT
BEGIN:VEVENT
DTSTART;TZID=America/New_York:20170816T100000
DTEND;TZID=America/New_York:20170816T110000
DTSTAMP:20260421T114159
CREATED:20170727T194319Z
LAST-MODIFIED:20170727T194319Z
UID:2806-1502877600-1502881200@dansvillelibrary.org
SUMMARY:Read & Play!
DESCRIPTION:This summer we will continue our early literacy programs with Ms. Brandy in the Story Time Chair! “Read & Play” is for children ages 3-6 years old. Kids can enjoy stories\, songs\, crafts and much more! To pre-register your child call (585)335-6720 or stop in the library! Today’s theme is Dirt\, Sand\, & Mud.
URL:https://dansvillelibrary.org/event/read-play-15/
END:VEVENT
BEGIN:VEVENT
DTSTART;TZID=America/New_York:20170815T130000
DTEND;TZID=America/New_York:20170815T140000
DTSTAMP:20260421T114159
CREATED:20170726T184702Z
LAST-MODIFIED:20170726T184702Z
UID:2791-1502802000-1502805600@dansvillelibrary.org
SUMMARY:Summer Reading Club – “Build A Better World!”
DESCRIPTION:Join us every Tuesday at 1 p.m. for the library’s summer reading club for children grades K-6.  Readers of all ages will create\, repurpose\, and build. Participants will also discover news ways of looking at the world around them through books\, games\, and many STEAM (science\, technology\, engineering\, art\, and math) activities. This year’s program will include performers\, storytelling\, crafts and an end of summer reading party! Children will receive a goodie bag for signing up.  Please register your child by calling 585-335-6720 or visiting the library.  Don’t miss this special event!
URL:https://dansvillelibrary.org/event/summer-reading-club-build-a-better-world-3-2/
END:VEVENT
BEGIN:VEVENT
DTSTART;TZID=America/New_York:20170815T130000
DTEND;TZID=America/New_York:20170815T140000
DTSTAMP:20260421T114159
CREATED:20170725T194622Z
LAST-MODIFIED:20170725T194622Z
UID:2781-1502802000-1502805600@dansvillelibrary.org
SUMMARY:Balloon Cars & Confetti Launchers
DESCRIPTION:Kids will make homemade balloon cars and confetti launchers and then put them to the test.  Don’t miss this special “Build A Better World!” summer reading club event! For more information please call or stop in the library.
URL:https://dansvillelibrary.org/event/balloon-cars-confetti-launchers/
END:VEVENT
BEGIN:VEVENT
DTSTART;TZID=America/New_York:20170810T100000
DTEND;TZID=America/New_York:20170810T103000
DTSTAMP:20260421T114159
CREATED:20170728T150835Z
LAST-MODIFIED:20170728T150835Z
UID:2810-1502359200-1502361000@dansvillelibrary.org
SUMMARY:Baby’s Book Buddies
DESCRIPTION:Baby’s Book Buddies continues this summer with Ms. Brandy introducing children ages 6 to 36 months to the joy of books\, fingerplays and songs! Please call (585)335-6720 to register your child or stop in the library. Today’s theme is Yummy Food!
URL:https://dansvillelibrary.org/event/babys-book-buddies-9/
END:VEVENT
BEGIN:VEVENT
DTSTART;TZID=America/New_York:20170809T100000
DTEND;TZID=America/New_York:20170809T110000
DTSTAMP:20260421T114159
CREATED:20170727T194045Z
LAST-MODIFIED:20170727T194045Z
UID:2805-1502272800-1502276400@dansvillelibrary.org
SUMMARY:Read & Play!
DESCRIPTION:This summer we will continue our early literacy programs with Ms. Brandy in the Story Time Chair! “Read & Play” is for children ages 3-6 years old. Kids can enjoy stories\, songs\, crafts and much more! To pre-register your child call (585)335-6720 or stop in the library! Today’s theme is Food.
URL:https://dansvillelibrary.org/event/read-play-14/
END:VEVENT
BEGIN:VEVENT
DTSTART;TZID=America/New_York:20170808T130000
DTEND;TZID=America/New_York:20170808T140000
DTSTAMP:20260421T114159
CREATED:20170801T151449Z
LAST-MODIFIED:20170801T151449Z
UID:2826-1502197200-1502200800@dansvillelibrary.org
SUMMARY:Building Bridges @ Summer Reading Aug 8
DESCRIPTION:Explore the field of engineering by making bridges with marshmallows & spaghetti!  A Summer Reading Club Build A Better World! program! For more information please call 585-335-6720 or stop in the Library.
URL:https://dansvillelibrary.org/event/building-bridges-summer-reading-aug-8-5-2/
END:VEVENT
BEGIN:VEVENT
DTSTART;TZID=America/New_York:20170808T130000
DTEND;TZID=America/New_York:20170808T140000
DTSTAMP:20260421T114159
CREATED:20170801T151449Z
LAST-MODIFIED:20170801T151449Z
UID:2819-1502197200-1502200800@dansvillelibrary.org
SUMMARY:Building Bridges @ Summer Reading Aug 8
DESCRIPTION:Explore the field of engineering by making bridges with marshmallows & spaghetti!  A Summer Reading Club Build A Better World! program! For more information please call 585-335-6720 or stop in the Library.
URL:https://dansvillelibrary.org/event/building-bridges-summer-reading-aug-8-5/
END:VEVENT
BEGIN:VEVENT
DTSTART;TZID=America/New_York:20170808T130000
DTEND;TZID=America/New_York:20170808T140000
DTSTAMP:20260421T114159
CREATED:20170801T151256Z
LAST-MODIFIED:20170801T151256Z
UID:2825-1502197200-1502200800@dansvillelibrary.org
SUMMARY:Building Bridges @ Summer Reading Aug 8
DESCRIPTION:Explore the field of engineering by making bridges with marshmallows & spaghetti!  A Summer Reading Club Build A Better World! program! For more information please call 585-335-6720 or stop in the Library.
URL:https://dansvillelibrary.org/event/building-bridges-summer-reading-aug-8-4/
END:VEVENT
BEGIN:VEVENT
DTSTART;TZID=America/New_York:20170808T130000
DTEND;TZID=America/New_York:20170808T140000
DTSTAMP:20260421T114159
CREATED:20170801T151153Z
LAST-MODIFIED:20170801T151153Z
UID:2824-1502197200-1502200800@dansvillelibrary.org
SUMMARY:Building Bridges @ Summer Reading Aug 8
DESCRIPTION:Explore the field of engineering by making bridges with marshmallows & spaghetti!  A Summer Reading Club Build A Better World! program! For more information please call 585-335-6720 or stop in the Library.
URL:https://dansvillelibrary.org/event/building-bridges-summer-reading-aug-8-3/
END:VEVENT
BEGIN:VEVENT
DTSTART;TZID=America/New_York:20170808T130000
DTEND;TZID=America/New_York:20170808T140000
DTSTAMP:20260421T114159
CREATED:20170801T151140Z
LAST-MODIFIED:20170801T151140Z
UID:2823-1502197200-1502200800@dansvillelibrary.org
SUMMARY:Building Bridges @ Summer Reading Aug 8
DESCRIPTION:Explore the field of engineering by making bridges with marshmallows & spaghetti!  A Summer Reading Club Build A Better World! program! For more information please call 585-335-6720 or stop in the Library.
URL:https://dansvillelibrary.org/event/building-bridges-summer-reading-aug-8-2/
END:VEVENT
BEGIN:VEVENT
DTSTART;TZID=America/New_York:20170808T130000
DTEND;TZID=America/New_York:20170808T140000
DTSTAMP:20260421T114159
CREATED:20170801T151010Z
LAST-MODIFIED:20170801T151010Z
UID:2821-1502197200-1502200800@dansvillelibrary.org
SUMMARY:Building Bridges @ Summer Reading Aug 8
DESCRIPTION:Explore the field of engineering by making bridges with marshmallows & spaghetti!  A Summer Reading Club Build A Better World! program! For more information please call 585-335-6720 or stop in the Library.
URL:https://dansvillelibrary.org/event/building-bridges-summer-reading-aug-8/
END:VEVENT
BEGIN:VEVENT
DTSTART;TZID=America/New_York:20170808T130000
DTEND;TZID=America/New_York:20170808T140000
DTSTAMP:20260421T114159
CREATED:20170726T153443Z
LAST-MODIFIED:20170726T154027Z
UID:2786-1502197200-1502200800@dansvillelibrary.org
SUMMARY:Summer Reading Club – “Build A Better World!”
DESCRIPTION:Join us every Tuesday at 1 p.m. for the library’s summer reading club for children grades K-6.  Readers of all ages will create\, repurpose\, and build. Participants will also discover news ways of looking at the world around them through books\, games\, and many STEAM (science\, technology\, engineering\, art\, and math) activities. This year’s program will include performers\, storytelling\, crafts and an end of summer reading party! Children will receive a goodie bag for signing up.  Please register your child by calling 585-335-6720 or visiting the library.  Don’t miss this special event!
URL:https://dansvillelibrary.org/event/summer-reading-club-build-a-better-world-2/
END:VEVENT
BEGIN:VEVENT
DTSTART;TZID=America/New_York:20170808T130000
DTEND;TZID=America/New_York:20170808T140000
DTSTAMP:20260421T114159
CREATED:20170725T194451Z
LAST-MODIFIED:20170725T194451Z
UID:2780-1502197200-1502200800@dansvillelibrary.org
SUMMARY:Spaghetti Bridges
DESCRIPTION:Join us for some awesome building as children explore the field of engineering by making bridges using marshmallows and spaghetti as their primary building material. They will create different shapes and make a model bridge that can hold a surprising amount of weight.  Don’t miss this special “Build A Better World!” summer reading club event! For more information please call or stop in the library.
URL:https://dansvillelibrary.org/event/spaghetti-bridges/
END:VEVENT
BEGIN:VEVENT
DTSTART;TZID=America/New_York:20170803T100000
DTEND;TZID=America/New_York:20170803T103000
DTSTAMP:20260421T114159
CREATED:20170728T150651Z
LAST-MODIFIED:20170728T150651Z
UID:2809-1501754400-1501756200@dansvillelibrary.org
SUMMARY:Baby’s Book Buddies
DESCRIPTION:Baby’s Book Buddies continues this summer with Ms. Brandy introducing children ages 6 to 36 months to the joy of books\, fingerplays and songs! Please call (585)335-6720 to register your child or stop in the library. Today’s theme is Emma Dodd stories!
URL:https://dansvillelibrary.org/event/babys-book-buddies-8/
END:VEVENT
BEGIN:VEVENT
DTSTART;TZID=America/New_York:20170802T100000
DTEND;TZID=America/New_York:20170802T110000
DTSTAMP:20260421T114159
CREATED:20170726T205951Z
LAST-MODIFIED:20170726T205951Z
UID:2802-1501668000-1501671600@dansvillelibrary.org
SUMMARY:Read & Play!
DESCRIPTION:This summer we will continue our early literacy programs with Ms. Brandy in the Story Time Chair! “Read & Play” is for children ages 3-6 years old. Kids can enjoy stories\, songs\, crafts and much more! To pre-register your child call (585)335-6720 or stop in the library! Today’s theme is Mo Willems stories.
URL:https://dansvillelibrary.org/event/read-play-13/
END:VEVENT
BEGIN:VEVENT
DTSTART;TZID=America/New_York:20170801T130000
DTEND;TZID=America/New_York:20170801T140000
DTSTAMP:20260421T114159
CREATED:20170726T154232Z
LAST-MODIFIED:20170726T154232Z
UID:2788-1501592400-1501596000@dansvillelibrary.org
SUMMARY:Summer Reading Club - "Build A Better World!"
DESCRIPTION:Readers of all ages will create\, repurpose\, and build. Participants will also discover news ways of looking at the world around them through books\, games\, and many STEAM (science\, technology\, engineering\, art\, and math) activities. This year’s program will include performers\, storytelling\, crafts and an end of summer reading party! Children will receive a goodie bag for signing up. The program is open to children in K-6th grades. Please register your child by calling 585-335-6720 or visiting the library.  Don’t miss this special event!
URL:https://dansvillelibrary.org/event/summer-reading-club-build-a-better-world/
END:VEVENT
BEGIN:VEVENT
DTSTART;TZID=America/New_York:20170801T130000
DTEND;TZID=America/New_York:20170801T140000
DTSTAMP:20260421T114159
CREATED:20170725T184820Z
LAST-MODIFIED:20170725T184820Z
UID:2768-1501592400-1501596000@dansvillelibrary.org
SUMMARY:Paper Bag Fashions
DESCRIPTION:Children will create different fashions using paper bags and duct tape. Don’t miss this special “Build A Better World!” summer reading club event! For information please call or stop in the library.
URL:https://dansvillelibrary.org/event/paper-bag-fashions/
END:VEVENT
BEGIN:VEVENT
DTSTART;TZID=America/New_York:20170731T100000
DTEND;TZID=America/New_York:20170804T120000
DTSTAMP:20260421T114159
CREATED:20170725T184950Z
LAST-MODIFIED:20170725T184950Z
UID:2769-1501495200-1501848000@dansvillelibrary.org
SUMMARY:Floating & Sinking with Joe DeBell
DESCRIPTION:Will it Float or Will it Sink?\nKids will explore buoyancy and how by changing the shape of a hand made clay boat it can affect its buoyancy.  There will be boat races to see who can carry the heaviest load and test out boats in fresh and salt water.  Kids will team up for a challenge to design a boat that can carry a certain load capacity too!  Kids will also have fun playing with Minute to Win It activities and Brain Break Puzzles.  For children ages 8-12. Space is limited! Don’t miss this special “Discovery Workshop” sponsored by the Dansville Lions Club. For more information please call or stop in the library.
URL:https://dansvillelibrary.org/event/floating-sinking-with-joe-debell-2/
END:VEVENT
BEGIN:VEVENT
DTSTART;TZID=America/New_York:20170729T100000
DTEND;TZID=America/New_York:20170729T160000
DTSTAMP:20260421T114159
CREATED:20170628T152756Z
LAST-MODIFIED:20170725T142230Z
UID:2730-1501322400-1501344000@dansvillelibrary.org
SUMMARY:West Sparta Old-Fashioned Day
DESCRIPTION:Country Fun for Everyone—FREE admission and activities! The children’s activity area will be better than ever\, and we will have representatives from 4-H\, Cornell Cooperative Extension and Livingston Arts on hand. Face painting\, pony rides and petting zoo will be back. We still have room for vendors: send an e-mail to ofd@townofwestsparta.org for details and registration forms. For more information contact Town Supervisor at 585-519-5111
URL:https://dansvillelibrary.org/event/west-sparta-old-fashioned-day/
LOCATION:The Park at West Sparta\, 8302 Kysorville-Byersville Rd\, West Sparta
CATEGORIES:Non-Library
END:VEVENT
BEGIN:VEVENT
DTSTART;TZID=America/New_York:20170729T100000
DTEND;TZID=America/New_York:20170729T120000
DTSTAMP:20260421T114159
CREATED:20170726T191720Z
LAST-MODIFIED:20170726T191720Z
UID:2800-1501322400-1501329600@dansvillelibrary.org
SUMMARY:Genesee Valley Arts Grant Seminar
DESCRIPTION:Saturday\, July 29th\, 2017 \nGenesee Valley Arts Grants Seminar-Presented by Livingston Arts \nLocation: Dansville Artworks \nPlease RSVP to melissa@livingstonarts.org \n 
URL:https://dansvillelibrary.org/event/genesee-valley-arts-grant-seminar/
END:VEVENT
BEGIN:VEVENT
DTSTART;VALUE=DATE:20170729
DTEND;VALUE=DATE:20170730
DTSTAMP:20260421T114159
CREATED:20170714T221712Z
LAST-MODIFIED:20170720T155738Z
UID:2751-1501286400-1501372799@dansvillelibrary.org
SUMMARY:West Sparta Old-Fashioned Day
DESCRIPTION:“West Sparta Old-Fashioned Day. Saturday\, July 29\, 2017. 10 a.m. to 4 p.m. Free Admission\, activities and parking. Accessible facilities. Kids Games\, Face Painting (11-2 only) Wagon Rides\, Pony Rides\, Petting Zoo\, Arts\, Crafts & Food Vendors\, Quilt Show\, Life in 1800’s Demonstrations\, Civil War Military Camp\, Vintage Cars\, Classic Tractor Pull (10 – 2)\, History Display. Musical Performances: 11:00 a.m. Genesee Valley Children’s Choir; Noon: Warsaw Barbershop Chorus\, 1:00 p.m. Leslie Lee & Steve Gretz\, 2:00 Ernie Lawrence. Location: West Sparta Town Hall 8302 Kysorville Byersville Road\, 14437. Tel:585 519-5111. Information website: http://townofwestsparta.org/content.”\n“West Sparta Old-Fashioned Day. Saturday\, July 29\, 2017. 10 a.m. to 4 p.m. Free Admission\, activities and parking. Accessible facilities. Kids Games\, Face Painting (11-2 only) Wagon Rides\, Pony Rides\, Petting Zoo\, Arts\, Crafts & Food Vendors\, Quilt Show\, Life in 1800’s Demonstrations\, Civil War Military Camp\, Vintage Cars\, Classic Tractor Pull (10 – 2)\, History Display. Musical Performances: 11:00 a.m. Genesee Valley Children’s Choir; Noon: Warsaw Barbershop Chorus\, 1:00 p.m. Leslie Lee & Steve Gretz\, 2:00 Ernie Lawrence. Location: West Sparta Town Hall 8302 Kysorville Byersville Road\, 14437. Tel:585 519-5111. Information website: http://townofwestsparta.org/content.” \n 
URL:https://dansvillelibrary.org/event/west-sparta-old-fashioned-day-2/
END:VEVENT
BEGIN:VEVENT
DTSTART;TZID=America/New_York:20170727T100000
DTEND;TZID=America/New_York:20170727T103000
DTSTAMP:20260421T114159
CREATED:20170725T185007Z
LAST-MODIFIED:20170725T185007Z
UID:2770-1501149600-1501151400@dansvillelibrary.org
SUMMARY:Baby’s Book Buddies
DESCRIPTION:Baby’s Book Buddies continues this summer with Ms. Brandy introducing children ages 6 to 36 months to the joy of books\, fingerplays and songs! Please call (585)335-6720 to register your child or stop in the library. Today’s theme is Outdoor Fun!
URL:https://dansvillelibrary.org/event/babys-book-buddies-7/
END:VEVENT
BEGIN:VEVENT
DTSTART;TZID=America/New_York:20170726T100000
DTEND;TZID=America/New_York:20170726T110000
DTSTAMP:20260421T114159
CREATED:20170626T013056Z
LAST-MODIFIED:20170626T013056Z
UID:2718-1501063200-1501066800@dansvillelibrary.org
SUMMARY:Read and Play
DESCRIPTION:“Read and Play” storytime for 3-5 year olds Wed. at 10 a.m.  Please call ahead or stop in to register your child.  585-335-6720. Books & crafts for early literacy.
URL:https://dansvillelibrary.org/event/read-and-play-6/
END:VEVENT
BEGIN:VEVENT
DTSTART;TZID=America/New_York:20170719T100000
DTEND;TZID=America/New_York:20170719T110000
DTSTAMP:20260421T114159
CREATED:20170626T012739Z
LAST-MODIFIED:20170626T012739Z
UID:2713-1500458400-1500462000@dansvillelibrary.org
SUMMARY:Read and Play
DESCRIPTION:“Read and Play” storytime for 3-5 year olds Wed. at 10 a.m.  Please call ahead or stop in to register your child.  585-335-6720. Books & crafts for early literacy.
URL:https://dansvillelibrary.org/event/read-and-play-5/
END:VEVENT
BEGIN:VEVENT
DTSTART;TZID=America/New_York:20170712T100000
DTEND;TZID=America/New_York:20170712T110000
DTSTAMP:20260421T114159
CREATED:20170626T012601Z
LAST-MODIFIED:20170626T012601Z
UID:2711-1499853600-1499857200@dansvillelibrary.org
SUMMARY:Read and Play
DESCRIPTION:“Read and Play” storytime for 3-5 year olds Wed. at 10 a.m.  Please call ahead or stop in to register your child.  585-335-6720. Books & crafts for early literacy.
URL:https://dansvillelibrary.org/event/read-and-play-4/
END:VEVENT
BEGIN:VEVENT
DTSTART;TZID=America/New_York:20170706T130000
DTEND;TZID=America/New_York:20170706T143000
DTSTAMP:20260421T114159
CREATED:20170626T194413Z
LAST-MODIFIED:20170626T194413Z
UID:2720-1499346000-1499351400@dansvillelibrary.org
SUMMARY:The Artmobile: 7 Wonders of the World
DESCRIPTION:The ArtMobile of St Bonaventure returns!\nThis Thursday July 6 at 1 p.m. kids can learn about the Seven Wonders of the World with a hands-on workshop for fun and learning! Suitable for ages 5-12\, give us a call so we know to expect you! 585-335-6720. Brought to you by Regina Quick Arts Cntr & funded by Thomas T & Mary W Clarkson Arts Education Endowment.
URL:https://dansvillelibrary.org/event/the-artmobile-7-wonders-of-the-world/
END:VEVENT
BEGIN:VEVENT
DTSTART;TZID=America/New_York:20170705T100000
DTEND;TZID=America/New_York:20170705T110000
DTSTAMP:20260421T114159
CREATED:20170626T012326Z
LAST-MODIFIED:20170626T012326Z
UID:2709-1499248800-1499252400@dansvillelibrary.org
SUMMARY:Read and Play
DESCRIPTION:“Read and Play” storytime for 3-5 year olds begins Wed. July 5 at 10 a.m.  Please call ahead or stop in to register your child.  585-335-6720. Books & crafts for early literacy.
URL:https://dansvillelibrary.org/event/read-and-play-3/
END:VEVENT
END:VCALENDAR