BEGIN:VCALENDAR
VERSION:2.0
PRODID:-//Dansville Public Library - ECPv6.2.3//NONSGML v1.0//EN
CALSCALE:GREGORIAN
METHOD:PUBLISH
X-ORIGINAL-URL:https://dansvillelibrary.org
X-WR-CALDESC:Events for Dansville Public Library
REFRESH-INTERVAL;VALUE=DURATION:PT1H
X-Robots-Tag:noindex
X-PUBLISHED-TTL:PT1H
BEGIN:VTIMEZONE
TZID:America/New_York
BEGIN:DAYLIGHT
TZOFFSETFROM:-0500
TZOFFSETTO:-0400
TZNAME:EDT
DTSTART:20170312T070000
END:DAYLIGHT
BEGIN:STANDARD
TZOFFSETFROM:-0400
TZOFFSETTO:-0500
TZNAME:EST
DTSTART:20171105T060000
END:STANDARD
BEGIN:DAYLIGHT
TZOFFSETFROM:-0500
TZOFFSETTO:-0400
TZNAME:EDT
DTSTART:20180311T070000
END:DAYLIGHT
BEGIN:STANDARD
TZOFFSETFROM:-0400
TZOFFSETTO:-0500
TZNAME:EST
DTSTART:20181104T060000
END:STANDARD
END:VTIMEZONE
BEGIN:VEVENT
DTSTART;TZID=America/New_York:20180113T100000
DTEND;TZID=America/New_York:20180113T120000
DTSTAMP:20260421T055525
CREATED:20171220T211733Z
LAST-MODIFIED:20171220T211733Z
UID:3041-1515837600-1515844800@dansvillelibrary.org
SUMMARY:“LittleBits – Building Blocks & Creative Thinking”
DESCRIPTION:Children will use these electronic magnetic building blocks to create inventions\, large and small. For children ages 5-13. Don’t miss this special event!  Space is limited. Please call (585)335-6720 to register your child or stop in the library.
URL:https://dansvillelibrary.org/event/littlebits-building-blocks-creative-thinking/
END:VEVENT
BEGIN:VEVENT
DTSTART;TZID=America/New_York:20180111T100000
DTEND;TZID=America/New_York:20180111T103000
DTSTAMP:20260421T055525
CREATED:20171220T205921Z
LAST-MODIFIED:20171220T205921Z
UID:3040-1515664800-1515666600@dansvillelibrary.org
SUMMARY:“Baby’s Book Buddies”
DESCRIPTION:Baby’s Book Buddies continues this winter! Ms. Brandy will introduce children ages 6 to 36 months to the joy of books\, fingerplays and songs! Please call (585)335-6720 to register your child or stop in the library.   Today’s theme is Let it Snowman!
URL:https://dansvillelibrary.org/event/babys-book-buddies-18/
END:VEVENT
BEGIN:VEVENT
DTSTART;TZID=America/New_York:20171225T080000
DTEND;TZID=America/New_York:20171225T170000
DTSTAMP:20260421T055525
CREATED:20170623T115956Z
LAST-MODIFIED:20171212T155126Z
UID:2703-1514188800-1514221200@dansvillelibrary.org
SUMMARY:LIBRARY CLOSED DEC 25
DESCRIPTION:Library Closed for Christmas Day. Reopens Tues Dec 26 at 10 AM.
URL:https://dansvillelibrary.org/event/library-closed-3/
END:VEVENT
BEGIN:VEVENT
DTSTART;TZID=America/New_York:20171223T080000
DTEND;TZID=America/New_York:20171223T170000
DTSTAMP:20260421T055525
CREATED:20171212T154605Z
LAST-MODIFIED:20171212T154857Z
UID:3034-1514016000-1514048400@dansvillelibrary.org
SUMMARY:Library Closed Dec 23
DESCRIPTION:The Library will be closed Dec 23 and Dec 25 for the Christmas holiday.  Reopens Tues Dec 26 at 10 A.M.
URL:https://dansvillelibrary.org/event/library-closed-dec-23/
END:VEVENT
BEGIN:VEVENT
DTSTART;TZID=America/New_York:20171216T100000
DTEND;TZID=America/New_York:20171216T120000
DTSTAMP:20260421T055525
CREATED:20170811T155935Z
LAST-MODIFIED:20170815T191250Z
UID:2845-1513418400-1513425600@dansvillelibrary.org
SUMMARY:“Santa & Mrs. Claus Visit the Library!”
DESCRIPTION:Santa and Mrs. Claus will be making a special visit to the Dansville Public Library! Children of all ages can come to hear Santa read stories and have their picture taken with him and Mrs. Claus. They can also make holiday crafts\, as well as enjoy yummy cookies and apple cider! Don’t miss this special event!! For more information please call (585)335-6720.
URL:https://dansvillelibrary.org/event/santa-mrs-claus-visit-the-library/
END:VEVENT
BEGIN:VEVENT
DTSTART;TZID=America/New_York:20171214T100000
DTEND;TZID=America/New_York:20171214T103000
DTSTAMP:20260421T055525
CREATED:20171207T202952Z
LAST-MODIFIED:20171207T202952Z
UID:3032-1513245600-1513247400@dansvillelibrary.org
SUMMARY:“Baby’s Book Buddies”
DESCRIPTION:Baby’s Book Buddies continues this fall with Ms. Brandy introducing children ages 6 to 36 months to the joy of books\, fingerplays and songs! Please call (585)335-6720 to register your child or stop in the library. Today’s theme is Winter Animals.
URL:https://dansvillelibrary.org/event/babys-book-buddies-17/
END:VEVENT
BEGIN:VEVENT
DTSTART;TZID=America/New_York:20171207T100000
DTEND;TZID=America/New_York:20171207T103000
DTSTAMP:20260421T055525
CREATED:20171207T201617Z
LAST-MODIFIED:20171207T202705Z
UID:3029-1512640800-1512642600@dansvillelibrary.org
SUMMARY:"Baby’s Book Buddies"
DESCRIPTION:Baby’s Book Buddies continues this fall with Ms. Brandy introducing children ages 6 to 36 months to the joy of books\, fingerplays and songs! Please call (585)335-6720 to register your child or stop in the library. Today’s theme is Winter!
URL:https://dansvillelibrary.org/event/babys-book-buddies-16/
END:VEVENT
BEGIN:VEVENT
DTSTART;TZID=America/New_York:20171202T170000
DTEND;TZID=America/New_York:20171202T200000
DTSTAMP:20260421T055525
CREATED:20170811T155434Z
LAST-MODIFIED:20170811T155434Z
UID:2844-1512234000-1512244800@dansvillelibrary.org
SUMMARY:“Holiday Crafts at the Library/Winter In the Village”
DESCRIPTION:Celebrate Winter In the Village in downtown Dansville! Plus don’t forget to stop at the Dansville Public Library from 5-8 p.m. for crafts\, cookies and hot apple cider! Don’t miss this spectacular holiday event for children and families! For more information please call (585)335-6720 or stop in the library.
URL:https://dansvillelibrary.org/event/holiday-crafts-at-the-librarywinter-in-the-village/
END:VEVENT
BEGIN:VEVENT
DTSTART;TZID=America/New_York:20171130T100000
DTEND;TZID=America/New_York:20171130T103000
DTSTAMP:20260421T055525
CREATED:20171019T194421Z
LAST-MODIFIED:20171019T194421Z
UID:2969-1512036000-1512037800@dansvillelibrary.org
SUMMARY:“Baby’s Book Buddies”
DESCRIPTION:Baby’s Book Buddies continues this fall with Ms. Brandy introducing children ages 6 to 36 months to the joy of books\, fingerplays and songs! Please call (585)335-6720 to register your child or stop in the library. Today’s theme is All About Baby!
URL:https://dansvillelibrary.org/event/babys-book-buddies-15/
END:VEVENT
BEGIN:VEVENT
DTSTART;TZID=America/New_York:20171124T140000
DTEND;TZID=America/New_York:20171124T160000
DTSTAMP:20260421T055525
CREATED:20171010T210136Z
LAST-MODIFIED:20171024T180454Z
UID:2958-1511532000-1511539200@dansvillelibrary.org
SUMMARY:“Gingerbread House Creations!”
DESCRIPTION:Children will decorate their own Gingerbread House at this special holiday program on Friday\, November 24th from 2-4 p.m. We will provide all of the candy and icing for construction. All houses are completely edible and are taken home after completion. Please note any food allergies with registration. This workshop will get messy\, please pull back long hair and have children wear old clothes or bring an apron. Don’t miss this special holiday event! For ages 5-13. Space is limited! Call (585)335-6720 or stop in the library to register your child.
URL:https://dansvillelibrary.org/event/gingerbread-house-creations/
END:VEVENT
BEGIN:VEVENT
DTSTART;TZID=America/New_York:20171123T100000
DTEND;TZID=America/New_York:20171123T103000
DTSTAMP:20260421T055525
CREATED:20171019T191353Z
LAST-MODIFIED:20171019T191353Z
UID:2968-1511431200-1511433000@dansvillelibrary.org
SUMMARY:No Storytime
DESCRIPTION:There will be no lapsit storytime today due to the Thanksgiving holiday.  Enjoy a wonderful day with your families and friends!  We will resume storytime next week.
URL:https://dansvillelibrary.org/event/no-storytime/
END:VEVENT
BEGIN:VEVENT
DTSTART;VALUE=DATE:20171123
DTEND;VALUE=DATE:20171124
DTSTAMP:20260421T055525
CREATED:20170905T211054Z
LAST-MODIFIED:20170905T211054Z
UID:2879-1511395200-1511481599@dansvillelibrary.org
SUMMARY:Library Closed
DESCRIPTION:Thanksgiving Holiday\, Library closed.
URL:https://dansvillelibrary.org/event/library-closed-5/
END:VEVENT
BEGIN:VEVENT
DTSTART;TZID=America/New_York:20171116T100000
DTEND;TZID=America/New_York:20171116T103000
DTSTAMP:20260421T055525
CREATED:20171019T191037Z
LAST-MODIFIED:20171019T191037Z
UID:2967-1510826400-1510828200@dansvillelibrary.org
SUMMARY:“Baby’s Book Buddies”
DESCRIPTION:Baby’s Book Buddies continues this fall with Ms. Brandy introducing children ages 6 to 36 months to the joy of books\, fingerplays and songs! Please call (585)335-6720 to register your child or stop in the library. Today’s theme is Turkeys!
URL:https://dansvillelibrary.org/event/babys-book-buddies-14/
END:VEVENT
BEGIN:VEVENT
DTSTART;TZID=America/New_York:20171109T100000
DTEND;TZID=America/New_York:20171109T223000
DTSTAMP:20260421T055525
CREATED:20171019T190529Z
LAST-MODIFIED:20171019T190529Z
UID:2965-1510221600-1510266600@dansvillelibrary.org
SUMMARY:"Baby's Book Buddies"
DESCRIPTION:Baby’s Book Buddies continues this fall with Ms. Brandy introducing children ages 6 to 36 months to the joy of books\, fingerplays and songs! Please call (585)335-6720 to register your child or stop in the library. Today’s theme is Puppies.
URL:https://dansvillelibrary.org/event/babys-book-buddies-3/
END:VEVENT
BEGIN:VEVENT
DTSTART;TZID=America/New_York:20171104T100000
DTEND;TZID=America/New_York:20171104T120000
DTSTAMP:20260421T055525
CREATED:20171030T233716Z
LAST-MODIFIED:20171030T233716Z
UID:2987-1509789600-1509796800@dansvillelibrary.org
SUMMARY:“Family Fall Craft Day!”
DESCRIPTION:Dansville Public Library knows fall will be here before we know it. On Saturday\, November 4th from 10 a.m. to Noon we’re jumping right in with some fall-themed craft activities! Families are welcome to stop by to make fall-themed crafts including owls\, pumpkins\, glitter leaves and more! Free and open to the public\, with all supplies provided. Don’t miss this special event!  For more information\, please call 335-6720 or stop in the Library.
URL:https://dansvillelibrary.org/event/family-fall-craft-day-2/
END:VEVENT
BEGIN:VEVENT
DTSTART;TZID=America/New_York:20171102T100000
DTEND;TZID=America/New_York:20171102T103000
DTSTAMP:20260421T055525
CREATED:20171011T193746Z
LAST-MODIFIED:20171011T193746Z
UID:2959-1509616800-1509618600@dansvillelibrary.org
SUMMARY:“Baby’s Book Buddies”
DESCRIPTION:Baby’s Book Buddies continues this fall with Ms. Brandy introducing children ages 6 to 36 months to the joy of books\, fingerplays and songs! Please call (585)335-6720 to register your child or stop in the library. Today’s theme is Blankets.
URL:https://dansvillelibrary.org/event/babys-book-buddies-13/
END:VEVENT
BEGIN:VEVENT
DTSTART;TZID=America/New_York:20171026T100000
DTEND;TZID=America/New_York:20171026T103000
DTSTAMP:20260421T055525
CREATED:20171011T193747Z
LAST-MODIFIED:20171011T193747Z
UID:2960-1509012000-1509013800@dansvillelibrary.org
SUMMARY:“Baby’s Book Buddies”
DESCRIPTION:Baby’s Book Buddies continues this fall with Ms. Brandy introducing children ages 6 to 36 months to the joy of books\, fingerplays and songs! Please call (585)335-6720 to register your child or stop in the library. Today’s theme is Halloween!
URL:https://dansvillelibrary.org/event/babies-book-buddies-11/
END:VEVENT
BEGIN:VEVENT
DTSTART;TZID=America/New_York:20171025T190000
DTEND;TZID=America/New_York:20171025T200000
DTSTAMP:20260421T055525
CREATED:20170925T235126Z
LAST-MODIFIED:20170930T165813Z
UID:2938-1508958000-1508961600@dansvillelibrary.org
SUMMARY:“Spooky Tales” with storyteller Cris Riedel
DESCRIPTION:Join us for fun (and not too scary) Halloween stories with storyteller Cris Riedel at the library on Wednesday\, October 25\, 2017 at 7 p.m.  There were also be treats provided and children may dress up in their Halloween costumes.  For ages 5 and up!  This project is made possible with funds from the Decentralization Program with the support of Governor Andrew Cuomo and the NYS Legislature and administered by the GVCA at the Livingston Arts Center\, a member supported organization.
URL:https://dansvillelibrary.org/event/spooky-stories-with-storyteller-cris-riedel-2/
END:VEVENT
BEGIN:VEVENT
DTSTART;TZID=America/New_York:20171021T100000
DTEND;TZID=America/New_York:20171021T120000
DTSTAMP:20260421T055525
CREATED:20171007T164102Z
LAST-MODIFIED:20171007T164102Z
UID:2957-1508580000-1508587200@dansvillelibrary.org
SUMMARY:“Pumpkin Painting!”
DESCRIPTION:To celebrate the autumn season join us for our annual Pumpkin Painting event at the Library! We will be decorating colorful pumpkins for children to take home and put on display.  Participants will also enjoy tasty apple cider and donut holes from Dunkin’ Donuts.   This special event is FREE for children ages 3-12 years old.  Pumpkins are provided.  Space is limited. Call 335-6720 to register or stop in the library!
URL:https://dansvillelibrary.org/event/pumpkin-painting-2/
END:VEVENT
BEGIN:VEVENT
DTSTART;TZID=America/New_York:20171019T100000
DTEND;TZID=America/New_York:20171019T103000
DTSTAMP:20260421T055525
CREATED:20171011T193747Z
LAST-MODIFIED:20171011T193747Z
UID:2961-1508407200-1508409000@dansvillelibrary.org
SUMMARY:“Baby’s Book Buddies”
DESCRIPTION:Baby’s Book Buddies continues this fall with Ms. Brandy introducing children ages 6 to 36 months to the joy of books\, fingerplays and songs! Please call (585)335-6720 to register your child or stop in the library. Today’s theme is Spooky Spiders!
URL:https://dansvillelibrary.org/event/babies-book-buddies-10/
END:VEVENT
BEGIN:VEVENT
DTSTART;TZID=America/New_York:20171017T183000
DTEND;TZID=America/New_York:20171017T200000
DTSTAMP:20260421T055525
CREATED:20171003T193154Z
LAST-MODIFIED:20171003T193154Z
UID:2952-1508265000-1508270400@dansvillelibrary.org
SUMMARY:A Gathering of Authors
DESCRIPTION:Tues evening October 17 at 6:30 p.m.  Sponsored by The Friends of the Dansville Public Library.  Featuring local authors\, Gus Kenney\, Aaron Lazar\, Bob Sells\, and Kay Thomas.  Refreshments.  Books available for signing.
URL:https://dansvillelibrary.org/event/a-gathering-of-authors/
END:VEVENT
BEGIN:VEVENT
DTSTART;TZID=America/New_York:20171014T160000
DTEND;TZID=America/New_York:20171014T190000
DTSTAMP:20260421T055525
CREATED:20170713T004914Z
LAST-MODIFIED:20170713T004914Z
UID:2749-1507996800-1508007600@dansvillelibrary.org
SUMMARY:Ham Dinner
DESCRIPTION:St. Paul’s Lutheran Church Dansville \nHam Dinner
URL:https://dansvillelibrary.org/event/ham-dinner/
CATEGORIES:Non-Library
END:VEVENT
BEGIN:VEVENT
DTSTART;TZID=America/New_York:20171012T100000
DTEND;TZID=America/New_York:20171012T103000
DTSTAMP:20260421T055525
CREATED:20171011T193748Z
LAST-MODIFIED:20171011T193748Z
UID:2962-1507802400-1507804200@dansvillelibrary.org
SUMMARY:“Baby’s Book Buddies”
DESCRIPTION:Baby’s Book Buddies continues this fall with Ms. Brandy introducing children ages 6 to 36 months to the joy of books\, fingerplays and songs! Please call (585)335-6720 to register your child or stop in the library. Today’s theme is Owls.
URL:https://dansvillelibrary.org/event/babys-book-buddies-12/
END:VEVENT
BEGIN:VEVENT
DTSTART;TZID=America/New_York:20171005T100000
DTEND;TZID=America/New_York:20171005T103000
DTSTAMP:20260421T055525
CREATED:20171011T193748Z
LAST-MODIFIED:20171011T193748Z
UID:2963-1507197600-1507199400@dansvillelibrary.org
SUMMARY:“Baby’s Book Buddies”
DESCRIPTION:Baby’s Book Buddies continues this fall with Ms. Brandy introducing children ages 6 to 36 months to the joy of books\, fingerplays and songs! Please call (585)335-6720 to register your child or stop in the library. Today’s theme is Pumpkins!
URL:https://dansvillelibrary.org/event/babies-book-buddies-9/
END:VEVENT
BEGIN:VEVENT
DTSTART;TZID=America/New_York:20171004T100000
DTEND;TZID=America/New_York:20171004T110000
DTSTAMP:20260421T055525
CREATED:20170930T180348Z
LAST-MODIFIED:20170930T180348Z
UID:2948-1507111200-1507114800@dansvillelibrary.org
SUMMARY:“Read & Play!”
DESCRIPTION:This fall we will continue our early programs with Ms. Brandy in the Story Time Chair! “Read & Play” is for children ages 3-5 years old. Kids can enjoy stories\, songs\, crafts and much more! To pre-register your child call (585)335-6720 or stop in the library! Today’s theme is Perfect Pumpkins.
URL:https://dansvillelibrary.org/event/read-play-21/
END:VEVENT
BEGIN:VEVENT
DTSTART;TZID=America/New_York:20170928T100000
DTEND;TZID=America/New_York:20170928T103000
DTSTAMP:20260421T055525
CREATED:20170905T150711Z
LAST-MODIFIED:20170905T150711Z
UID:2871-1506592800-1506594600@dansvillelibrary.org
SUMMARY:Baby’s Book Buddies
DESCRIPTION:Baby’s Book Buddies continues this fall with Ms. Brandy introducing children ages 6 to 36 months to the joy of books\, fingerplays and songs! Please call (585)335-6720 to register your child or stop in the library. Today’s theme is Moon & Stars.
URL:https://dansvillelibrary.org/event/babies-book-buddies-8-2/
END:VEVENT
BEGIN:VEVENT
DTSTART;TZID=America/New_York:20170927T100000
DTEND;TZID=America/New_York:20170927T110000
DTSTAMP:20260421T055525
CREATED:20170902T154929Z
LAST-MODIFIED:20170902T154929Z
UID:2866-1506506400-1506510000@dansvillelibrary.org
SUMMARY:Read & Play!
DESCRIPTION:This fall we will continue our early programs with Ms. Brandy in the Story Time Chair! “Read & Play” is for children ages 3-5 years old. Kids can enjoy stories\, songs\, crafts and much more! To pre-register your child call (585)335-6720 or stop in the library! Today’s theme is Goodnight Moon.
URL:https://dansvillelibrary.org/event/read-play-20/
END:VEVENT
BEGIN:VEVENT
DTSTART;TZID=America/New_York:20170921T120000
DTEND;TZID=America/New_York:20170921T130000
DTSTAMP:20260421T055525
CREATED:20170817T192643Z
LAST-MODIFIED:20170817T192643Z
UID:2849-1505995200-1505998800@dansvillelibrary.org
SUMMARY:Oh\, My Aching BACK! Information\, tips and treatment for back pain
DESCRIPTION:Lesley Johnson\, Nurse Practitioner from University of Rochester Medical Center\, will speak about relief from back pain in the Kate Gleason Auditorium at the Central Library of Rochester and Monroe County\, 115 South Ave.\, Rochester\, NY 14604. Parking is available in the Court Street garage\, which is connected to the library. The program runs from 12:10-12:50 pm and there will be healthy snacks and a free raffle. Sponsored by the Center for Community Health in partnership with the Central Library\, as part of the “Got Health” series.  To request specific accommodations\, call (585) 428-8304 ten days prior to the program.  If you can’t attend\, the talk will be streamed live by the Central Library\, so you can tune in on Facebook! Please ‘like’ and ‘share’ the broadcast to help us spread the word.
URL:https://dansvillelibrary.org/event/oh-my-aching-back-information-tips-and-treatment-for-back-pain/
END:VEVENT
BEGIN:VEVENT
DTSTART;TZID=America/New_York:20170921T100000
DTEND;TZID=America/New_York:20170921T103000
DTSTAMP:20260421T055525
CREATED:20170905T150733Z
LAST-MODIFIED:20170905T150733Z
UID:2872-1505988000-1505989800@dansvillelibrary.org
SUMMARY:Baby’s Book Buddies
DESCRIPTION:Baby’s Book Buddies continues this fall with Ms. Brandy introducing children ages 6 to 36 months to the joy of books\, fingerplays and songs! Please call (585)335-6720 to register your child or stop in the library. Today’s theme is Autumn Has Arrived!
URL:https://dansvillelibrary.org/event/babies-book-buddies-7-2/
END:VEVENT
BEGIN:VEVENT
DTSTART;TZID=America/New_York:20170920T100000
DTEND;TZID=America/New_York:20170920T110000
DTSTAMP:20260421T055525
CREATED:20170902T154302Z
LAST-MODIFIED:20170902T154302Z
UID:2865-1505901600-1505905200@dansvillelibrary.org
SUMMARY:Read & Play!
DESCRIPTION:This fall we will continue our early programs with Ms. Brandy in the Story Time Chair! “Read & Play” is for children ages 3-5 years old. Kids can enjoy stories\, songs\, crafts and much more! To pre-register your child call (585)335-6720 or stop in the library! Today’s theme is Welcome Fall!
URL:https://dansvillelibrary.org/event/read-play-19/
END:VEVENT
END:VCALENDAR