BEGIN:VCALENDAR
VERSION:2.0
PRODID:-//Dansville Public Library - ECPv6.2.3//NONSGML v1.0//EN
CALSCALE:GREGORIAN
METHOD:PUBLISH
X-ORIGINAL-URL:https://dansvillelibrary.org
X-WR-CALDESC:Events for Dansville Public Library
REFRESH-INTERVAL;VALUE=DURATION:PT1H
X-Robots-Tag:noindex
X-PUBLISHED-TTL:PT1H
BEGIN:VTIMEZONE
TZID:America/New_York
BEGIN:DAYLIGHT
TZOFFSETFROM:-0500
TZOFFSETTO:-0400
TZNAME:EDT
DTSTART:20170312T070000
END:DAYLIGHT
BEGIN:STANDARD
TZOFFSETFROM:-0400
TZOFFSETTO:-0500
TZNAME:EST
DTSTART:20171105T060000
END:STANDARD
BEGIN:DAYLIGHT
TZOFFSETFROM:-0500
TZOFFSETTO:-0400
TZNAME:EDT
DTSTART:20180311T070000
END:DAYLIGHT
BEGIN:STANDARD
TZOFFSETFROM:-0400
TZOFFSETTO:-0500
TZNAME:EST
DTSTART:20181104T060000
END:STANDARD
END:VTIMEZONE
BEGIN:VEVENT
DTSTART;TZID=America/New_York:20180313T173000
DTEND;TZID=America/New_York:20180313T193000
DTSTAMP:20260421T030258
CREATED:20180228T214053Z
LAST-MODIFIED:20180228T214053Z
UID:3142-1520962200-1520969400@dansvillelibrary.org
SUMMARY:Family Night @ the Movies!
DESCRIPTION:Families can enjoy a movie night at the library! We will show a different children’s movie at 5:30 p.m. every 2nd and 4th Tuesday of each month beginning in February and ending in April. Pizza and refreshments will also be provided. The next movie night will be on Tuesday\, March 13 at 5:30 p.m. The event is sponsored by Tony’s Pizzeria and Sherrie Reilly. For more information call 335-6720 or stop in the library.
URL:https://dansvillelibrary.org/event/family-night-the-movies-2-2/
END:VEVENT
BEGIN:VEVENT
DTSTART;TZID=America/New_York:20180308T100000
DTEND;TZID=America/New_York:20180308T103000
DTSTAMP:20260421T030258
CREATED:20180228T211338Z
LAST-MODIFIED:20180228T211338Z
UID:3136-1520503200-1520505000@dansvillelibrary.org
SUMMARY:“Babies Book Buddies”
DESCRIPTION:Baby’s Book Buddies continues this winter! Ms. Brandy will introduce children ages 6 to 36 months to the joy of books\, fingerplays and songs! Please call (585)335-6720 to register your child or stop in the library.   Today’s theme is Rain & Clouds.
URL:https://dansvillelibrary.org/event/babies-book-buddies-13/
END:VEVENT
BEGIN:VEVENT
DTSTART;TZID=America/New_York:20180301T150000
DTEND;TZID=America/New_York:20180301T170000
DTSTAMP:20260421T030258
CREATED:20180201T154138Z
LAST-MODIFIED:20180212T152530Z
UID:3091-1519916400-1519923600@dansvillelibrary.org
SUMMARY:It’s a SEUSS-A-BRATION!
DESCRIPTION:Join us for a Seuss-A-Bration on Thursday\, March 1\, 2018 from 3-5 p.m. We will celebrate Dr. Seuss’s Birthday and NEA’s Read Across America Day\, a nationwide reading celebration that takes place annually on March 2\, Dr. Seuss’s birthday. Children can enjoy crafts\, games and stories! Don’t miss this special event! For more information call the library at 335-6720.
URL:https://dansvillelibrary.org/event/its-a-seuss-a-bration/
END:VEVENT
BEGIN:VEVENT
DTSTART;TZID=America/New_York:20180301T100000
DTEND;TZID=America/New_York:20180301T103000
DTSTAMP:20260421T030258
CREATED:20180228T202445Z
LAST-MODIFIED:20180228T202445Z
UID:3135-1519898400-1519900200@dansvillelibrary.org
SUMMARY:“Babies Book Buddies”
DESCRIPTION:  \nBaby’s Book Buddies continues this winter! Ms. Brandy will introduce children ages 6 to 36 months to the joy of books\, fingerplays and songs! Please call (585)335-6720 to register your child or stop in the library.   Today’s theme is Dinosaurs.
URL:https://dansvillelibrary.org/event/babies-book-buddies-12/
END:VEVENT
BEGIN:VEVENT
DTSTART;TZID=America/New_York:20180227T173000
DTEND;TZID=America/New_York:20180227T193000
DTSTAMP:20260421T030258
CREATED:20180209T160827Z
LAST-MODIFIED:20180209T160827Z
UID:3115-1519752600-1519759800@dansvillelibrary.org
SUMMARY:Family Night at the Movies!
DESCRIPTION:Families can enjoy a movie night at the library! We will show a different children’s movie at 5:30 p.m. every 2nd and 4th Tuesday of each month beginning in February and ending in April. Pizza and refreshments will also be provided. The next movie night will be on Tuesday\, February 27th at 5:30 p.m. The event is sponsored by Tony’s Pizzeria and Dansville Dental Professionals\, LLP. For more information call 335-6720 or stop in the library.
URL:https://dansvillelibrary.org/event/family-night-at-the-movies-2/
END:VEVENT
BEGIN:VEVENT
DTSTART;TZID=America/New_York:20180226T110000
DTEND;TZID=America/New_York:20180226T230000
DTSTAMP:20260421T030259
CREATED:20180201T232334Z
LAST-MODIFIED:20180201T232334Z
UID:3093-1519642800-1519686000@dansvillelibrary.org
SUMMARY:Dining to Donate - for BSA Troop 38\, Dansville
DESCRIPTION:You are invited to join BSA Troop 38/Dansville Fish and Game for a Dining To Donate event! Simply contact the Chad Schuster (585-451-2261) to get your voucher or print one now at the event website\, and come to the Applebee’s on the February\, 26\, 2018 for lunch or dinner – the event runs all day\, open until close! When you are ready to pay\, present your voucher and 10% of your check will go back to BSA Troop 38/Dansville Fish and Game. Now that’s what we call dining for a purpose! \n– MUST PRINT VOUCHER –\n– MUST PRINT VOUCHER –\n– MUST PRINT VOUCHER – \nEvent is at Applebee’s in Hornell\, NY \n 
URL:https://dansvillelibrary.org/event/dining-to-donate-for-bsa-troop-38-dansville/
END:VEVENT
BEGIN:VEVENT
DTSTART;TZID=America/New_York:20180224T110000
DTEND;TZID=America/New_York:20180224T130000
DTSTAMP:20260421T030259
CREATED:20180110T212043Z
LAST-MODIFIED:20180110T212043Z
UID:3060-1519470000-1519477200@dansvillelibrary.org
SUMMARY:Children’s Tea Party
DESCRIPTION:Come join us for our annual Children’s Winter Tea Party at the Dansville Public Library! This event is open to children of all ages and their special guest! Enjoy a light lunch\, refreshments\, music\, and stories. Space is limited! Tickets are $3.00 per person and includes a chance to win a tea set or book. Stop by the library to purchase your tickets to this very special event! Sponsored by the Friends of the Dansville Public Library.
URL:https://dansvillelibrary.org/event/childrens-tea-party-2/
END:VEVENT
BEGIN:VEVENT
DTSTART;TZID=America/New_York:20180222T100000
DTEND;TZID=America/New_York:20180222T103000
DTSTAMP:20260421T030259
CREATED:20180201T154412Z
LAST-MODIFIED:20180201T154412Z
UID:3092-1519293600-1519295400@dansvillelibrary.org
SUMMARY:“Baby’s Book Buddies”
DESCRIPTION:Baby’s Book Buddies continues this winter! Ms. Brandy will introduce children ages 6 to 36 months to the joy of books\, fingerplays and songs! Please call (585)335-6720 to register your child or stop in the library. Today’s theme is Letters
URL:https://dansvillelibrary.org/event/babys-book-buddies-24/
END:VEVENT
BEGIN:VEVENT
DTSTART;TZID=America/New_York:20180215T100000
DTEND;TZID=America/New_York:20180215T103000
DTSTAMP:20260421T030259
CREATED:20180130T194629Z
LAST-MODIFIED:20180130T194629Z
UID:3090-1518688800-1518690600@dansvillelibrary.org
SUMMARY:“Baby’s Book Buddies”
DESCRIPTION:Baby’s Book Buddies continues this winter! Ms. Brandy will introduce children ages 6 to 36 months to the joy of books\, fingerplays and songs! Please call (585)335-6720 to register your child or stop in the library. Today’s theme is Bubbles & Bath Time.
URL:https://dansvillelibrary.org/event/babys-book-buddies-23/
END:VEVENT
BEGIN:VEVENT
DTSTART;TZID=America/New_York:20180213T173000
DTEND;TZID=America/New_York:20180213T193000
DTSTAMP:20260421T030259
CREATED:20180209T160418Z
LAST-MODIFIED:20180209T160418Z
UID:3113-1518543000-1518550200@dansvillelibrary.org
SUMMARY:Family Night at the Movies!
DESCRIPTION:Families can enjoy a movie night at the library! We will show a different children’s movie at 5:30 p.m. every 2nd and 4th Tuesday of each month beginning in February and ending in April. Pizza and refreshments will also be provided. The first movie night will be on Tuesday\, February 13th at 5:30 p.m. The event is sponsored by Tony’s Pizzeria and Peter Goins. For more information call 335-6720 or stop in the library.
URL:https://dansvillelibrary.org/event/family-night-at-the-movies/
END:VEVENT
BEGIN:VEVENT
DTSTART;TZID=America/New_York:20180210T123000
DTEND;TZID=America/New_York:20180210T133000
DTSTAMP:20260421T030259
CREATED:20180205T154030Z
LAST-MODIFIED:20180205T154030Z
UID:3101-1518265800-1518269400@dansvillelibrary.org
SUMMARY:Basic Yoga Feb 10
DESCRIPTION:On Saturday\, February 10\, join Kate Drake at the Library for Basic Yoga–Body Mindfulness.   Kate is a Yoga Alliance 500 member\, and completed her  certification in therapeutic yoga in 2017.  She combines her practice with her Occupational Therapist skills.  She opened “Every Body’s Yoga Studio” in 2008.  This beginners’ session is free and always provides  a comfortable yoga practice you can take home with you.  Please call 585-335-6720 to register.
URL:https://dansvillelibrary.org/event/basic-yoga-feb-10-2/
END:VEVENT
BEGIN:VEVENT
DTSTART;TZID=America/New_York:20180208T100000
DTEND;TZID=America/New_York:20180208T103000
DTSTAMP:20260421T030259
CREATED:20180130T194048Z
LAST-MODIFIED:20180130T194048Z
UID:3089-1518084000-1518085800@dansvillelibrary.org
SUMMARY:“Baby’s Book Buddies”
DESCRIPTION:Baby’s Book Buddies continues this winter! Ms. Brandy will introduce children ages 6 to 36 months to the joy of books\, fingerplays and songs! Please call (585)335-6720 to register your child or stop in the library.   Today’s theme is Love.
URL:https://dansvillelibrary.org/event/babys-book-buddies-22/
END:VEVENT
BEGIN:VEVENT
DTSTART;TZID=America/New_York:20180203T100000
DTEND;TZID=America/New_York:20180203T140000
DTSTAMP:20260421T030259
CREATED:20180105T195830Z
LAST-MODIFIED:20180130T192742Z
UID:3056-1517652000-1517666400@dansvillelibrary.org
SUMMARY:Take Your Child to the Library Day!
DESCRIPTION:Join us at the library for Take Your Child to the Library Day\, an international initiative that encourages families everywhere to take their children to their local library! Browse the children’s book collection and learn more about the public library! Don’t miss this special event that raises community awareness about the importance of the library in the life of a child\, and promotes library services and programs for children and families.
URL:https://dansvillelibrary.org/event/take-your-child-to-the-library-day-2/
END:VEVENT
BEGIN:VEVENT
DTSTART;TZID=America/New_York:20180203T100000
DTEND;TZID=America/New_York:20180203T120000
DTSTAMP:20260421T030259
CREATED:20180105T200650Z
LAST-MODIFIED:20180105T200832Z
UID:3058-1517652000-1517659200@dansvillelibrary.org
SUMMARY:Kids Drive-In Movie!
DESCRIPTION:Kids ages 3-6 years old create and decorate their own cardboard car\, then “drive-in” and watch a movie. A light snack will be provided. The fun time will take place on Saturday\, February 3rd from 10 a.m.-Noon.  This special event celebrates Take Your Child to the Library Day.  Space is limited.  Please call (585) 335-6720 or stop in the library to register your child.
URL:https://dansvillelibrary.org/event/kids-drive-in-movie-february-3rd/
END:VEVENT
BEGIN:VEVENT
DTSTART;TZID=America/New_York:20180202T170000
DTEND;TZID=America/New_York:20180202T190000
DTSTAMP:20260421T030259
CREATED:20180117T163946Z
LAST-MODIFIED:20180117T163946Z
UID:3080-1517590800-1517598000@dansvillelibrary.org
SUMMARY:“Family Board Game Night – Get Unplugged @ the Library!”
DESCRIPTION:Join us for family board game night on Friday\, February 2nd from 5-7 p.m.  There will be lots of games to play including\, Clue\, Monopoly\, Scrabble\, Candyland\, and many more favorites!  Pizza and refreshments will also be provided!  This special program is a Chamber of Commerce First Friday Event and co-sponsored by the Friends of the Dansville Public Library.  For more information please call (585)335-6720 or stop in the Library.
URL:https://dansvillelibrary.org/event/family-board-game-night-get-unplugged-the-library/
END:VEVENT
BEGIN:VEVENT
DTSTART;TZID=America/New_York:20180201T100000
DTEND;TZID=America/New_York:20180201T103000
DTSTAMP:20260421T030259
CREATED:20180117T163006Z
LAST-MODIFIED:20180130T193815Z
UID:3079-1517479200-1517481000@dansvillelibrary.org
SUMMARY:“Baby’s Book Buddies”
DESCRIPTION:Baby’s Book Buddies continues this winter! Ms. Brandy will introduce children ages 6 to 36 months to the joy of books\, fingerplays and songs! Please call (585)335-6720 to register your child or stop in the library.   Today’s theme is Hugs & Kisses.
URL:https://dansvillelibrary.org/event/babys-book-buddies-21/
END:VEVENT
BEGIN:VEVENT
DTSTART;TZID=America/New_York:20180126T150000
DTEND;TZID=America/New_York:20180126T170000
DTSTAMP:20260421T030259
CREATED:20171220T212153Z
LAST-MODIFIED:20171220T212153Z
UID:3043-1516978800-1516986000@dansvillelibrary.org
SUMMARY:“Lego Mania @ The Library!”
DESCRIPTION:Attention Lego lovers\, future inventors\, and engineers!  Join us for this special event where kids can create\, invent\, and build using all sorts of Legos!  For ages children ages 5-13.  Space is limited.  Please call(585)335-6720 to register your child or stop in the library.
URL:https://dansvillelibrary.org/event/lego-mania-the-library-2/
END:VEVENT
BEGIN:VEVENT
DTSTART;TZID=America/New_York:20180125T100000
DTEND;TZID=America/New_York:20180125T103000
DTSTAMP:20260421T030259
CREATED:20180117T162556Z
LAST-MODIFIED:20180117T162556Z
UID:3075-1516874400-1516876200@dansvillelibrary.org
SUMMARY:“Baby’s Book Buddies”
DESCRIPTION:Baby’s Book Buddies continues this winter! Ms. Brandy will introduce children ages 6 to 36 months to the joy of books\, fingerplays and songs! Please call (585)335-6720 to register your child or stop in the library.  Today’s theme is Sleepy Baby.
URL:https://dansvillelibrary.org/event/babys-book-buddies-20-2/
END:VEVENT
BEGIN:VEVENT
DTSTART;TZID=America/New_York:20180120T123000
DTEND;TZID=America/New_York:20180120T133000
DTSTAMP:20260421T030259
CREATED:20180103T152324Z
LAST-MODIFIED:20180116T201049Z
UID:3051-1516451400-1516455000@dansvillelibrary.org
SUMMARY:Learn About Essential Oils Jan 20
DESCRIPTION:Kate Drake has rescheduled her program on Essential Oils to THIS SATURDAY at 12:30 p.m.  We are very sorry that the weather prevented her presentation on Jan 13.  Please come!!  As a reminder:  There will be NO SALES involved\, only helpful guidance on how to dilute\, diffuse\, and use your oils for calming purposes and for healthy living.  Please call the library at 585-335-6720 so Kate can be prepared.  FREE and open to the public.
URL:https://dansvillelibrary.org/event/learn-about-essential-oils-jan-13/
END:VEVENT
BEGIN:VEVENT
DTSTART;TZID=America/New_York:20180118T100000
DTEND;TZID=America/New_York:20180118T103000
DTSTAMP:20260421T030259
CREATED:20180117T162620Z
LAST-MODIFIED:20180117T162620Z
UID:3076-1516269600-1516271400@dansvillelibrary.org
SUMMARY:“Baby’s Book Buddies”
DESCRIPTION:Baby’s Book Buddies continues this winter! Ms. Brandy will introduce children ages 6 to 36 months to the joy of books\, fingerplays and songs! Please call (585)335-6720 to register your child or stop in the library.   Today’s theme is Music.
URL:https://dansvillelibrary.org/event/babys-book-buddies-19-2/
END:VEVENT
BEGIN:VEVENT
DTSTART;TZID=America/New_York:20180113T100000
DTEND;TZID=America/New_York:20180113T120000
DTSTAMP:20260421T030259
CREATED:20171220T211733Z
LAST-MODIFIED:20171220T211733Z
UID:3041-1515837600-1515844800@dansvillelibrary.org
SUMMARY:“LittleBits – Building Blocks & Creative Thinking”
DESCRIPTION:Children will use these electronic magnetic building blocks to create inventions\, large and small. For children ages 5-13. Don’t miss this special event!  Space is limited. Please call (585)335-6720 to register your child or stop in the library.
URL:https://dansvillelibrary.org/event/littlebits-building-blocks-creative-thinking/
END:VEVENT
BEGIN:VEVENT
DTSTART;TZID=America/New_York:20180111T100000
DTEND;TZID=America/New_York:20180111T103000
DTSTAMP:20260421T030259
CREATED:20171220T205921Z
LAST-MODIFIED:20171220T205921Z
UID:3040-1515664800-1515666600@dansvillelibrary.org
SUMMARY:“Baby’s Book Buddies”
DESCRIPTION:Baby’s Book Buddies continues this winter! Ms. Brandy will introduce children ages 6 to 36 months to the joy of books\, fingerplays and songs! Please call (585)335-6720 to register your child or stop in the library.   Today’s theme is Let it Snowman!
URL:https://dansvillelibrary.org/event/babys-book-buddies-18/
END:VEVENT
BEGIN:VEVENT
DTSTART;TZID=America/New_York:20171225T080000
DTEND;TZID=America/New_York:20171225T170000
DTSTAMP:20260421T030259
CREATED:20170623T115956Z
LAST-MODIFIED:20171212T155126Z
UID:2703-1514188800-1514221200@dansvillelibrary.org
SUMMARY:LIBRARY CLOSED DEC 25
DESCRIPTION:Library Closed for Christmas Day. Reopens Tues Dec 26 at 10 AM.
URL:https://dansvillelibrary.org/event/library-closed-3/
END:VEVENT
BEGIN:VEVENT
DTSTART;TZID=America/New_York:20171223T080000
DTEND;TZID=America/New_York:20171223T170000
DTSTAMP:20260421T030259
CREATED:20171212T154605Z
LAST-MODIFIED:20171212T154857Z
UID:3034-1514016000-1514048400@dansvillelibrary.org
SUMMARY:Library Closed Dec 23
DESCRIPTION:The Library will be closed Dec 23 and Dec 25 for the Christmas holiday.  Reopens Tues Dec 26 at 10 A.M.
URL:https://dansvillelibrary.org/event/library-closed-dec-23/
END:VEVENT
BEGIN:VEVENT
DTSTART;TZID=America/New_York:20171216T100000
DTEND;TZID=America/New_York:20171216T120000
DTSTAMP:20260421T030259
CREATED:20170811T155935Z
LAST-MODIFIED:20170815T191250Z
UID:2845-1513418400-1513425600@dansvillelibrary.org
SUMMARY:“Santa & Mrs. Claus Visit the Library!”
DESCRIPTION:Santa and Mrs. Claus will be making a special visit to the Dansville Public Library! Children of all ages can come to hear Santa read stories and have their picture taken with him and Mrs. Claus. They can also make holiday crafts\, as well as enjoy yummy cookies and apple cider! Don’t miss this special event!! For more information please call (585)335-6720.
URL:https://dansvillelibrary.org/event/santa-mrs-claus-visit-the-library/
END:VEVENT
BEGIN:VEVENT
DTSTART;TZID=America/New_York:20171214T100000
DTEND;TZID=America/New_York:20171214T103000
DTSTAMP:20260421T030259
CREATED:20171207T202952Z
LAST-MODIFIED:20171207T202952Z
UID:3032-1513245600-1513247400@dansvillelibrary.org
SUMMARY:“Baby’s Book Buddies”
DESCRIPTION:Baby’s Book Buddies continues this fall with Ms. Brandy introducing children ages 6 to 36 months to the joy of books\, fingerplays and songs! Please call (585)335-6720 to register your child or stop in the library. Today’s theme is Winter Animals.
URL:https://dansvillelibrary.org/event/babys-book-buddies-17/
END:VEVENT
BEGIN:VEVENT
DTSTART;TZID=America/New_York:20171207T100000
DTEND;TZID=America/New_York:20171207T103000
DTSTAMP:20260421T030259
CREATED:20171207T201617Z
LAST-MODIFIED:20171207T202705Z
UID:3029-1512640800-1512642600@dansvillelibrary.org
SUMMARY:"Baby’s Book Buddies"
DESCRIPTION:Baby’s Book Buddies continues this fall with Ms. Brandy introducing children ages 6 to 36 months to the joy of books\, fingerplays and songs! Please call (585)335-6720 to register your child or stop in the library. Today’s theme is Winter!
URL:https://dansvillelibrary.org/event/babys-book-buddies-16/
END:VEVENT
BEGIN:VEVENT
DTSTART;TZID=America/New_York:20171202T170000
DTEND;TZID=America/New_York:20171202T200000
DTSTAMP:20260421T030259
CREATED:20170811T155434Z
LAST-MODIFIED:20170811T155434Z
UID:2844-1512234000-1512244800@dansvillelibrary.org
SUMMARY:“Holiday Crafts at the Library/Winter In the Village”
DESCRIPTION:Celebrate Winter In the Village in downtown Dansville! Plus don’t forget to stop at the Dansville Public Library from 5-8 p.m. for crafts\, cookies and hot apple cider! Don’t miss this spectacular holiday event for children and families! For more information please call (585)335-6720 or stop in the library.
URL:https://dansvillelibrary.org/event/holiday-crafts-at-the-librarywinter-in-the-village/
END:VEVENT
BEGIN:VEVENT
DTSTART;TZID=America/New_York:20171130T100000
DTEND;TZID=America/New_York:20171130T103000
DTSTAMP:20260421T030259
CREATED:20171019T194421Z
LAST-MODIFIED:20171019T194421Z
UID:2969-1512036000-1512037800@dansvillelibrary.org
SUMMARY:“Baby’s Book Buddies”
DESCRIPTION:Baby’s Book Buddies continues this fall with Ms. Brandy introducing children ages 6 to 36 months to the joy of books\, fingerplays and songs! Please call (585)335-6720 to register your child or stop in the library. Today’s theme is All About Baby!
URL:https://dansvillelibrary.org/event/babys-book-buddies-15/
END:VEVENT
BEGIN:VEVENT
DTSTART;TZID=America/New_York:20171124T140000
DTEND;TZID=America/New_York:20171124T160000
DTSTAMP:20260421T030259
CREATED:20171010T210136Z
LAST-MODIFIED:20171024T180454Z
UID:2958-1511532000-1511539200@dansvillelibrary.org
SUMMARY:“Gingerbread House Creations!”
DESCRIPTION:Children will decorate their own Gingerbread House at this special holiday program on Friday\, November 24th from 2-4 p.m. We will provide all of the candy and icing for construction. All houses are completely edible and are taken home after completion. Please note any food allergies with registration. This workshop will get messy\, please pull back long hair and have children wear old clothes or bring an apron. Don’t miss this special holiday event! For ages 5-13. Space is limited! Call (585)335-6720 or stop in the library to register your child.
URL:https://dansvillelibrary.org/event/gingerbread-house-creations/
END:VEVENT
END:VCALENDAR