BEGIN:VCALENDAR
VERSION:2.0
PRODID:-//Dansville Public Library - ECPv6.2.3//NONSGML v1.0//EN
CALSCALE:GREGORIAN
METHOD:PUBLISH
X-ORIGINAL-URL:https://dansvillelibrary.org
X-WR-CALDESC:Events for Dansville Public Library
REFRESH-INTERVAL;VALUE=DURATION:PT1H
X-Robots-Tag:noindex
X-PUBLISHED-TTL:PT1H
BEGIN:VTIMEZONE
TZID:America/New_York
BEGIN:DAYLIGHT
TZOFFSETFROM:-0500
TZOFFSETTO:-0400
TZNAME:EDT
DTSTART:20180311T070000
END:DAYLIGHT
BEGIN:STANDARD
TZOFFSETFROM:-0400
TZOFFSETTO:-0500
TZNAME:EST
DTSTART:20181104T060000
END:STANDARD
END:VTIMEZONE
BEGIN:VEVENT
DTSTART;TZID=America/New_York:20180625T183000
DTEND;TZID=America/New_York:20180625T200000
DTSTAMP:20260420T234206
CREATED:20180617T121713Z
LAST-MODIFIED:20180625T183506Z
UID:3260-1529951400-1529956800@dansvillelibrary.org
SUMMARY:Dansville Summer Concerts
DESCRIPTION:FREE Concert at 7:00 p.m. Featuring Harry & Ken Reynolds playing pop & country music.  At Williams Park\, corner of Washington & Red Jackets Streets. Check for rain location. Co-Sponsored by the following: Village of Dansville\, Town No. Dansville\, Linda & Jon Shay\, Lions Club\, Rotary Club\, Lioness\, Women’s Civic Club\, Chamber of Commerce\, Dans. Dental Professionals\, A Smile By Design\, Scovill’s Grille @ Brae Burn\, Varsity Park Homes\, GCC\, Betty & Bob Minemier\, Gretchen & Lowell George\, Scott & Tamara Kenney\, Barb Kurtz.
URL:https://dansvillelibrary.org/event/dansville-summer-concerts/
CATEGORIES:Non-Library
END:VEVENT
BEGIN:VEVENT
DTSTART;TZID=America/New_York:20180618T180000
DTEND;TZID=America/New_York:20180618T200000
DTSTAMP:20260420T234206
CREATED:20180617T120403Z
LAST-MODIFIED:20180625T183533Z
UID:3255-1529344800-1529352000@dansvillelibrary.org
SUMMARY:Dansville Summer Concerts
DESCRIPTION:FREE Concert at 7:00 p.m. Featuring 78 RPM playing big band music.  At Williams Park\, corner of Washington & Red Jackets Streets. Check for rain location. Co-Sponsored by the following: Village of Dansville\, Town No. Dansville\, Linda & Jon Shay\, Lions Club\, Rotary Club\, Lioness\, Women’s Civic Club\, Chamber of Commerce\, Dans. Dental Professionals\, A Smile By Design\, Scovill’s Grille @ Brae Burn\, Varsity Park Homes\, GCC\, Betty & Bob Minemier\, Gretchen & Lowell George\, Scott & Tamara Kenney\, Barb Kurtz. \n 
URL:https://dansvillelibrary.org/event/3255/
CATEGORIES:Non-Library
END:VEVENT
BEGIN:VEVENT
DTSTART;TZID=America/New_York:20180614T100000
DTEND;TZID=America/New_York:20180614T103000
DTSTAMP:20260420T234206
CREATED:20180411T205237Z
LAST-MODIFIED:20180411T205237Z
UID:3186-1528970400-1528972200@dansvillelibrary.org
SUMMARY:Baby’s Book Buddies
DESCRIPTION:Ms. Brandy presents the Spring session of Baby’s Book Buddies held every Thursday at 10 a.m.  This early literacy program for those ages 6 months to 3 years old instills a love of reading in your child that will help prepare him or her for success in school.  Ms. Brandy wants to know your child is coming so please call the Library at 585-335-6720 to register.  Your Baby will learn new words\, songs and fingerplays\, and there is even space for a “play” session with new friends.  All the books Ms. Brandy reads in Baby’s Book Buddies also qualify for our 1000 Books Before Kindergarten program!  You can sign up for 1000 Books when your child attends Baby’s Book Buddies.  Today’s theme is Going on a Picnic.
URL:https://dansvillelibrary.org/event/babys-book-buddies-33/
END:VEVENT
BEGIN:VEVENT
DTSTART;TZID=America/New_York:20180607T100000
DTEND;TZID=America/New_York:20180607T103000
DTSTAMP:20260420T234206
CREATED:20180411T204615Z
LAST-MODIFIED:20180411T204615Z
UID:3185-1528365600-1528367400@dansvillelibrary.org
SUMMARY:Baby’s Book Buddies
DESCRIPTION:Ms. Brandy presents the Spring session of Baby’s Book Buddies held every Thursday at 10 a.m.  This early literacy program for those ages 6 months to 3 years old instills a love of reading in your child that will help prepare him or her for success in school.  Ms. Brandy wants to know your child is coming so please call the Library at 585-335-6720 to register.  Your Baby will learn new words\, songs and fingerplays\, and there is even space for a “play” session with new friends.  All the books Ms. Brandy reads in Baby’s Book Buddies also qualify for our 1000 Books Before Kindergarten program!  You can sign up for 1000 Books when your child attends Baby’s Book Buddies.  Today’s theme is Ice Cream.
URL:https://dansvillelibrary.org/event/babys-book-buddies-32/
END:VEVENT
BEGIN:VEVENT
DTSTART;TZID=America/New_York:20180531T100000
DTEND;TZID=America/New_York:20180531T103000
DTSTAMP:20260420T234206
CREATED:20180411T201000Z
LAST-MODIFIED:20180411T201000Z
UID:3184-1527760800-1527762600@dansvillelibrary.org
SUMMARY:Baby’s Book Buddies
DESCRIPTION:Ms. Brandy presents the Spring session of Baby’s Book Buddies held every Thursday at 10 a.m.  This early literacy program for those ages 6 months to 3 years old instills a love of reading in your child that will help prepare him or her for success in school.  Ms. Brandy wants to know your child is coming so please call the Library at 585-335-6720 to register.  Your Baby will learn new words\, songs and fingerplays\, and there is even space for a “play” session with new friends.  All the books Ms. Brandy reads in Baby’s Book Buddies also qualify for our 1000 Books Before Kindergarten program!  You can sign up for 1000 Books when your child attends Baby’s Book Buddies.  Today’s theme is Let’s Count.
URL:https://dansvillelibrary.org/event/babys-book-buddies-31/
END:VEVENT
BEGIN:VEVENT
DTSTART;TZID=America/New_York:20180524T100000
DTEND;TZID=America/New_York:20180524T103000
DTSTAMP:20260420T234206
CREATED:20180411T192241Z
LAST-MODIFIED:20180411T192241Z
UID:3179-1527156000-1527157800@dansvillelibrary.org
SUMMARY:Baby’s Book Buddies
DESCRIPTION:Ms. Brandy presents the Spring session of Baby’s Book Buddies held every Thursday at 10 a.m.  This early literacy program for those ages 6 months to 3 years old instills a love of reading in your child that will help prepare him or her for success in school.  Ms. Brandy wants to know your child is coming so please call the Library at 585-335-6720 to register.  Your Baby will learn new words\, songs and fingerplays\, and there is even space for a “play” session with new friends.  All the books Ms. Brandy reads in Baby’s Book Buddies also qualify for our 1000 Books Before Kindergarten program!  You can sign up for 1000 Books when your child attends Baby’s Book Buddies.  Today’s theme is Flowers.
URL:https://dansvillelibrary.org/event/babys-book-buddies-30/
END:VEVENT
BEGIN:VEVENT
DTSTART;TZID=America/New_York:20180517T100000
DTEND;TZID=America/New_York:20180517T103000
DTSTAMP:20260420T234206
CREATED:20180411T191820Z
LAST-MODIFIED:20180411T191820Z
UID:3177-1526551200-1526553000@dansvillelibrary.org
SUMMARY:Baby’s Book Buddies
DESCRIPTION:Ms. Brandy presents the Spring session of Baby’s Book Buddies held every Thursday at 10 a.m.  This early literacy program for those ages 6 months to 3 years old instills a love of reading in your child that will help prepare him or her for success in school.  Ms. Brandy wants to know your child is coming so please call the Library at 585-335-6720 to register.  Your Baby will learn new words\, songs and fingerplays\, and there is even space for a “play” session with new friends.  All the books Ms. Brandy reads in Baby’s Book Buddies also qualify for our 1000 Books Before Kindergarten program!  You can sign up for 1000 Books when your child attends Baby’s Book Buddies.  Today’s theme is Things That Go.
URL:https://dansvillelibrary.org/event/babys-book-buddies-29-2/
END:VEVENT
BEGIN:VEVENT
DTSTART;TZID=America/New_York:20180510T100000
DTEND;TZID=America/New_York:20180510T103000
DTSTAMP:20260420T234206
CREATED:20180411T191322Z
LAST-MODIFIED:20180411T191322Z
UID:3174-1525946400-1525948200@dansvillelibrary.org
SUMMARY:Baby’s Book Buddies
DESCRIPTION:Ms. Brandy presents the Spring session of Baby’s Book Buddies held every Thursday at 10 a.m.  This early literacy program for those ages 6 months to 3 years old instills a love of reading in your child that will help prepare him or her for success in school.  Ms. Brandy wants to know your child is coming so please call the Library at 585-335-6720 to register.  Your Baby will learn new words\, songs and fingerplays\, and there is even space for a “play” session with new friends.  All the books Ms. Brandy reads in Baby’s Book Buddies also qualify for our 1000 Books Before Kindergarten program!  You can sign up for 1000 Books when your child attends Baby’s Book Buddies.  Today’s theme is Butterflies & Caterpillars.
URL:https://dansvillelibrary.org/event/babys-book-buddies-28/
END:VEVENT
BEGIN:VEVENT
DTSTART;TZID=America/New_York:20180505T110000
DTEND;TZID=America/New_York:20180505T130000
DTSTAMP:20260420T234206
CREATED:20180419T183333Z
LAST-MODIFIED:20180419T183333Z
UID:3190-1525518000-1525525200@dansvillelibrary.org
SUMMARY:Book Character Costume Party!
DESCRIPTION:Join us to celebrate Children’s Book Week (April 30 – May 6) with a Book Character Costume Party!  Kids can dress-up as their favorite children’s book character\, make crafts\, and play games.  Space is limited for this special event.  Please call now or stop in the library to register.
URL:https://dansvillelibrary.org/event/book-character-costume-party/
END:VEVENT
BEGIN:VEVENT
DTSTART;TZID=America/New_York:20180503T100000
DTEND;TZID=America/New_York:20180503T103000
DTSTAMP:20260420T234206
CREATED:20180411T190458Z
LAST-MODIFIED:20180411T190458Z
UID:3173-1525341600-1525343400@dansvillelibrary.org
SUMMARY:Baby’s Book Buddies
DESCRIPTION:Ms. Brandy presents the Spring session of Baby’s Book Buddies held every Thursday at 10 a.m.  This early literacy program for those ages 6 months to 3 years old instills a love of reading in your child that will help prepare him or her for success in school.  Ms. Brandy wants to know your child is coming so please call the Library at 585-335-6720 to register.  Your Baby will learn new words\, songs and fingerplays\, and there is even space for a “play” session with new friends.  All the books Ms. Brandy reads in Baby’s Book Buddies also qualify for our 1000 Books Before Kindergarten program!  You can sign up for 1000 Books when your child attends Baby’s Book Buddies.  Today’s theme is Clap\, Tap & Drum.
URL:https://dansvillelibrary.org/event/babys-book-buddies-27/
END:VEVENT
BEGIN:VEVENT
DTSTART;TZID=America/New_York:20180426T100000
DTEND;TZID=America/New_York:20180426T103000
DTSTAMP:20260420T234206
CREATED:20180411T185543Z
LAST-MODIFIED:20180411T185543Z
UID:3172-1524736800-1524738600@dansvillelibrary.org
SUMMARY:Baby’s Book Buddies
DESCRIPTION:Ms. Brandy presents the Spring session of Baby’s Book Buddies held every Thursday at 10 a.m.  This early literacy program for those ages 6 months to 3 years old instills a love of reading in your child that will help prepare him or her for success in school.  Ms. Brandy wants to know your child is coming so please call the Library at 585-335-6720 to register.  Your Baby will learn new words\, songs and fingerplays\, and there is even space for a “play” session with new friends.  All the books Ms. Brandy reads in Baby’s Book Buddies also qualify for our 1000 Books Before Kindergarten program!  You can sign up for 1000 Books when your child attends Baby’s Book Buddies.  Today’s theme is Day & Night.
URL:https://dansvillelibrary.org/event/babys-book-buddies-26/
END:VEVENT
BEGIN:VEVENT
DTSTART;TZID=America/New_York:20180424T173000
DTEND;TZID=America/New_York:20180424T193000
DTSTAMP:20260420T234206
CREATED:20180228T214751Z
LAST-MODIFIED:20180228T214751Z
UID:3147-1524591000-1524598200@dansvillelibrary.org
SUMMARY:Family Night @ the Movies!
DESCRIPTION:Families can enjoy a movie night at the library! We will show a different children’s movie at 5:30 p.m. every 2nd and 4th Tuesday of each month beginning in February and ending in April. Pizza and refreshments will also be provided. The last movie night will be on Tuesday\, April 24 at 5:30 p.m. The event is sponsored by Tony’s Pizzeria and Bill and Norma Forsythe. For more information call 335-6720 or stop in the library. \n\n+ GOOGLE CALENDAR+ ICAL EXPORT
URL:https://dansvillelibrary.org/event/family-night-the-movies-4/
END:VEVENT
BEGIN:VEVENT
DTSTART;TZID=America/New_York:20180419T100000
DTEND;TZID=America/New_York:20180419T103000
DTSTAMP:20260420T234206
CREATED:20180411T185255Z
LAST-MODIFIED:20180411T185255Z
UID:3170-1524132000-1524133800@dansvillelibrary.org
SUMMARY:Baby’s Book Buddies
DESCRIPTION:Ms. Brandy presents the Spring session of Baby’s Book Buddies held every Thursday at 10 a.m.  This early literacy program for those ages 6 months to 3 years old instills a love of reading in your child that will help prepare him or her for success in school.  Ms. Brandy wants to know your child is coming so please call the Library at 585-335-6720 to register.  Your Baby will learn new words\, songs and fingerplays\, and there is even space for a “play” session with new friends.  All the books Ms. Brandy reads in Baby’s Book Buddies also qualify for our 1000 Books Before Kindergarten program!  You can sign up for 1000 Books when your child attends Baby’s Book Buddies.  Today’s theme is Sharing.
URL:https://dansvillelibrary.org/event/babies-book-buddies-15-2/
END:VEVENT
BEGIN:VEVENT
DTSTART;TZID=America/New_York:20180414T100000
DTEND;TZID=America/New_York:20180414T110000
DTSTAMP:20260420T234206
CREATED:20180327T224722Z
LAST-MODIFIED:20180327T224722Z
UID:3154-1523700000-1523703600@dansvillelibrary.org
SUMMARY:Paws for Stories:  Read to a therapy dog!
DESCRIPTION:Is your child reluctant to read? Whether it’s difficulty or shyness we have a book program just for you. Come read to a trained therapy dog at the library! The dog is calm\, reassuring\, and an attentive audience. This takes the pressure off the child and makes reading fun! For children ages 3-12. Space is limited.  Please call or stop in the library to register. In collaboration with Tail Waggin’ Tutors\, a program through Therapy Dogs International and in celebration of National Library Week (April 8-14).
URL:https://dansvillelibrary.org/event/paws-for-stories-read-to-a-therapy-dog/
END:VEVENT
BEGIN:VEVENT
DTSTART;TZID=America/New_York:20180412T100000
DTEND;TZID=America/New_York:20180412T110000
DTSTAMP:20260420T234206
CREATED:20180403T150906Z
LAST-MODIFIED:20180403T150935Z
UID:3165-1523527200-1523530800@dansvillelibrary.org
SUMMARY:Baby's Book Buddies April 12
DESCRIPTION:Ms Brandy presents the Spring session of Baby’s Book Buddies beginning Thursday April 12.  This early literacy program is for children ages 6 months to 3 years.  Please call to register at 585-335-6720.
URL:https://dansvillelibrary.org/event/babys-book-buddies-april-12/
END:VEVENT
BEGIN:VEVENT
DTSTART;TZID=America/New_York:20180412T100000
DTEND;TZID=America/New_York:20180412T103000
DTSTAMP:20260420T234206
CREATED:20180411T184933Z
LAST-MODIFIED:20180411T184933Z
UID:3168-1523527200-1523529000@dansvillelibrary.org
SUMMARY:Baby’s Book Buddies
DESCRIPTION:Ms. Brandy presents the Spring session of Baby’s Book Buddies held every Thursday at 10 a.m.  This early literacy program for those ages 6 months to 3 years old instills a love of reading in your child that will help prepare him or her for success in school.  Ms. Brandy wants to know your child is coming so please call the Library at 585-335-6720 to register.  Your Baby will learn new words\, songs and fingerplays\, and there is even space for a “play” session with new friends.  All the books Ms. Brandy reads in Baby’s Book Buddies also qualify for our 1000 Books Before Kindergarten program!  You can sign up for 1000 Books when your child attends Baby’s Book Buddies.  Today’s theme is Frogs.
URL:https://dansvillelibrary.org/event/babys-book-buddies-25/
END:VEVENT
BEGIN:VEVENT
DTSTART;TZID=America/New_York:20180410T173000
DTEND;TZID=America/New_York:20180410T193000
DTSTAMP:20260420T234206
CREATED:20180228T214604Z
LAST-MODIFIED:20180228T214604Z
UID:3146-1523381400-1523388600@dansvillelibrary.org
SUMMARY:Family Night @ the Movies!
DESCRIPTION:Families can enjoy a movie night at the library! We will show a different children’s movie at 5:30 p.m. every 2nd and 4th Tuesday of each month beginning in February and ending in April. Pizza and refreshments will also be provided. The next movie night will be on Tuesday\, April 10 at 5:30 p.m. The event is sponsored by Tony’s Pizzeria and Mill Creek Optical. For more information call 335-6720 or stop in the library. \n\n+ GOOGLE CALENDAR+ ICAL EXPORT
URL:https://dansvillelibrary.org/event/family-night-the-movies-3/
END:VEVENT
BEGIN:VEVENT
DTSTART;TZID=America/New_York:20180331T100000
DTEND;TZID=America/New_York:20180331T113000
DTSTAMP:20260420T234206
CREATED:20180222T155115Z
LAST-MODIFIED:20180222T155115Z
UID:3126-1522490400-1522495800@dansvillelibrary.org
SUMMARY:Reducing Garden Deer Damage Mar 31
DESCRIPTION:Master Gardener Julie Brocklehurst-Woods returns to the Library to present a helpful gardening workshop\, “Reducing Damage from Deer in Your Garden” on Saturday March 31 2018 at 10:00 AM.  She will highlight strategies to protect your garden including physical barriers\, repellents\, scare tactics\, and plants that are less preferred or deer proof.  Please call to register so the Library will know to expect you at 585-335-6720.  This program is sponsored by the Friends of the Dansville Public Library.
URL:https://dansvillelibrary.org/event/reducing-garden-deer-damage-mar-31/
END:VEVENT
BEGIN:VEVENT
DTSTART;TZID=America/New_York:20180327T173000
DTEND;TZID=America/New_York:20180327T193000
DTSTAMP:20260420T234206
CREATED:20180228T214202Z
LAST-MODIFIED:20180228T214202Z
UID:3143-1522171800-1522179000@dansvillelibrary.org
SUMMARY:Family Night @ the Movies!
DESCRIPTION:Families can enjoy a movie night at the library! We will show a different children’s movie at 5:30 p.m. every 2nd and 4th Tuesday of each month beginning in February and ending in April. Pizza and refreshments will also be provided. The next movie night will be on Tuesday\, March 27th at 5:30 p.m. The event is sponsored by Tony’s Pizzeria and Jason & Beth Wolfanger. For more information call 335-6720 or stop in the library.
URL:https://dansvillelibrary.org/event/family-night/
END:VEVENT
BEGIN:VEVENT
DTSTART;TZID=America/New_York:20180315T100000
DTEND;TZID=America/New_York:20180315T103000
DTSTAMP:20260420T234206
CREATED:20180228T213144Z
LAST-MODIFIED:20180228T213144Z
UID:3138-1521108000-1521109800@dansvillelibrary.org
SUMMARY:“Babies Book Buddies”
DESCRIPTION:The Library will wrap up the last Baby’s Book Buddies for the winter session. Ms. Brandy introduces children ages 6 to 36 months to the joy of books\, fingerplays and songs! Please call (585)335-6720 to register your child or stop in the library.  Today’s theme is Spring.
URL:https://dansvillelibrary.org/event/babies-book-buddies-14-2/
END:VEVENT
BEGIN:VEVENT
DTSTART;TZID=America/New_York:20180313T173000
DTEND;TZID=America/New_York:20180313T193000
DTSTAMP:20260420T234206
CREATED:20180228T214053Z
LAST-MODIFIED:20180228T214053Z
UID:3142-1520962200-1520969400@dansvillelibrary.org
SUMMARY:Family Night @ the Movies!
DESCRIPTION:Families can enjoy a movie night at the library! We will show a different children’s movie at 5:30 p.m. every 2nd and 4th Tuesday of each month beginning in February and ending in April. Pizza and refreshments will also be provided. The next movie night will be on Tuesday\, March 13 at 5:30 p.m. The event is sponsored by Tony’s Pizzeria and Sherrie Reilly. For more information call 335-6720 or stop in the library.
URL:https://dansvillelibrary.org/event/family-night-the-movies-2-2/
END:VEVENT
BEGIN:VEVENT
DTSTART;TZID=America/New_York:20180308T100000
DTEND;TZID=America/New_York:20180308T103000
DTSTAMP:20260420T234206
CREATED:20180228T211338Z
LAST-MODIFIED:20180228T211338Z
UID:3136-1520503200-1520505000@dansvillelibrary.org
SUMMARY:“Babies Book Buddies”
DESCRIPTION:Baby’s Book Buddies continues this winter! Ms. Brandy will introduce children ages 6 to 36 months to the joy of books\, fingerplays and songs! Please call (585)335-6720 to register your child or stop in the library.   Today’s theme is Rain & Clouds.
URL:https://dansvillelibrary.org/event/babies-book-buddies-13/
END:VEVENT
BEGIN:VEVENT
DTSTART;TZID=America/New_York:20180301T150000
DTEND;TZID=America/New_York:20180301T170000
DTSTAMP:20260420T234206
CREATED:20180201T154138Z
LAST-MODIFIED:20180212T152530Z
UID:3091-1519916400-1519923600@dansvillelibrary.org
SUMMARY:It’s a SEUSS-A-BRATION!
DESCRIPTION:Join us for a Seuss-A-Bration on Thursday\, March 1\, 2018 from 3-5 p.m. We will celebrate Dr. Seuss’s Birthday and NEA’s Read Across America Day\, a nationwide reading celebration that takes place annually on March 2\, Dr. Seuss’s birthday. Children can enjoy crafts\, games and stories! Don’t miss this special event! For more information call the library at 335-6720.
URL:https://dansvillelibrary.org/event/its-a-seuss-a-bration/
END:VEVENT
BEGIN:VEVENT
DTSTART;TZID=America/New_York:20180301T100000
DTEND;TZID=America/New_York:20180301T103000
DTSTAMP:20260420T234206
CREATED:20180228T202445Z
LAST-MODIFIED:20180228T202445Z
UID:3135-1519898400-1519900200@dansvillelibrary.org
SUMMARY:“Babies Book Buddies”
DESCRIPTION:  \nBaby’s Book Buddies continues this winter! Ms. Brandy will introduce children ages 6 to 36 months to the joy of books\, fingerplays and songs! Please call (585)335-6720 to register your child or stop in the library.   Today’s theme is Dinosaurs.
URL:https://dansvillelibrary.org/event/babies-book-buddies-12/
END:VEVENT
BEGIN:VEVENT
DTSTART;TZID=America/New_York:20180227T173000
DTEND;TZID=America/New_York:20180227T193000
DTSTAMP:20260420T234206
CREATED:20180209T160827Z
LAST-MODIFIED:20180209T160827Z
UID:3115-1519752600-1519759800@dansvillelibrary.org
SUMMARY:Family Night at the Movies!
DESCRIPTION:Families can enjoy a movie night at the library! We will show a different children’s movie at 5:30 p.m. every 2nd and 4th Tuesday of each month beginning in February and ending in April. Pizza and refreshments will also be provided. The next movie night will be on Tuesday\, February 27th at 5:30 p.m. The event is sponsored by Tony’s Pizzeria and Dansville Dental Professionals\, LLP. For more information call 335-6720 or stop in the library.
URL:https://dansvillelibrary.org/event/family-night-at-the-movies-2/
END:VEVENT
BEGIN:VEVENT
DTSTART;TZID=America/New_York:20180226T110000
DTEND;TZID=America/New_York:20180226T230000
DTSTAMP:20260420T234206
CREATED:20180201T232334Z
LAST-MODIFIED:20180201T232334Z
UID:3093-1519642800-1519686000@dansvillelibrary.org
SUMMARY:Dining to Donate - for BSA Troop 38\, Dansville
DESCRIPTION:You are invited to join BSA Troop 38/Dansville Fish and Game for a Dining To Donate event! Simply contact the Chad Schuster (585-451-2261) to get your voucher or print one now at the event website\, and come to the Applebee’s on the February\, 26\, 2018 for lunch or dinner – the event runs all day\, open until close! When you are ready to pay\, present your voucher and 10% of your check will go back to BSA Troop 38/Dansville Fish and Game. Now that’s what we call dining for a purpose! \n– MUST PRINT VOUCHER –\n– MUST PRINT VOUCHER –\n– MUST PRINT VOUCHER – \nEvent is at Applebee’s in Hornell\, NY \n 
URL:https://dansvillelibrary.org/event/dining-to-donate-for-bsa-troop-38-dansville/
END:VEVENT
BEGIN:VEVENT
DTSTART;TZID=America/New_York:20180224T110000
DTEND;TZID=America/New_York:20180224T130000
DTSTAMP:20260420T234206
CREATED:20180110T212043Z
LAST-MODIFIED:20180110T212043Z
UID:3060-1519470000-1519477200@dansvillelibrary.org
SUMMARY:Children’s Tea Party
DESCRIPTION:Come join us for our annual Children’s Winter Tea Party at the Dansville Public Library! This event is open to children of all ages and their special guest! Enjoy a light lunch\, refreshments\, music\, and stories. Space is limited! Tickets are $3.00 per person and includes a chance to win a tea set or book. Stop by the library to purchase your tickets to this very special event! Sponsored by the Friends of the Dansville Public Library.
URL:https://dansvillelibrary.org/event/childrens-tea-party-2/
END:VEVENT
BEGIN:VEVENT
DTSTART;TZID=America/New_York:20180222T100000
DTEND;TZID=America/New_York:20180222T103000
DTSTAMP:20260420T234206
CREATED:20180201T154412Z
LAST-MODIFIED:20180201T154412Z
UID:3092-1519293600-1519295400@dansvillelibrary.org
SUMMARY:“Baby’s Book Buddies”
DESCRIPTION:Baby’s Book Buddies continues this winter! Ms. Brandy will introduce children ages 6 to 36 months to the joy of books\, fingerplays and songs! Please call (585)335-6720 to register your child or stop in the library. Today’s theme is Letters
URL:https://dansvillelibrary.org/event/babys-book-buddies-24/
END:VEVENT
BEGIN:VEVENT
DTSTART;TZID=America/New_York:20180215T100000
DTEND;TZID=America/New_York:20180215T103000
DTSTAMP:20260420T234206
CREATED:20180130T194629Z
LAST-MODIFIED:20180130T194629Z
UID:3090-1518688800-1518690600@dansvillelibrary.org
SUMMARY:“Baby’s Book Buddies”
DESCRIPTION:Baby’s Book Buddies continues this winter! Ms. Brandy will introduce children ages 6 to 36 months to the joy of books\, fingerplays and songs! Please call (585)335-6720 to register your child or stop in the library. Today’s theme is Bubbles & Bath Time.
URL:https://dansvillelibrary.org/event/babys-book-buddies-23/
END:VEVENT
BEGIN:VEVENT
DTSTART;TZID=America/New_York:20180213T173000
DTEND;TZID=America/New_York:20180213T193000
DTSTAMP:20260420T234206
CREATED:20180209T160418Z
LAST-MODIFIED:20180209T160418Z
UID:3113-1518543000-1518550200@dansvillelibrary.org
SUMMARY:Family Night at the Movies!
DESCRIPTION:Families can enjoy a movie night at the library! We will show a different children’s movie at 5:30 p.m. every 2nd and 4th Tuesday of each month beginning in February and ending in April. Pizza and refreshments will also be provided. The first movie night will be on Tuesday\, February 13th at 5:30 p.m. The event is sponsored by Tony’s Pizzeria and Peter Goins. For more information call 335-6720 or stop in the library.
URL:https://dansvillelibrary.org/event/family-night-at-the-movies/
END:VEVENT
END:VCALENDAR