BEGIN:VCALENDAR
VERSION:2.0
PRODID:-//Dansville Public Library - ECPv6.2.3//NONSGML v1.0//EN
CALSCALE:GREGORIAN
METHOD:PUBLISH
X-WR-CALNAME:Dansville Public Library
X-ORIGINAL-URL:https://dansvillelibrary.org
X-WR-CALDESC:Events for Dansville Public Library
REFRESH-INTERVAL;VALUE=DURATION:PT1H
X-Robots-Tag:noindex
X-PUBLISHED-TTL:PT1H
BEGIN:VTIMEZONE
TZID:America/New_York
BEGIN:DAYLIGHT
TZOFFSETFROM:-0500
TZOFFSETTO:-0400
TZNAME:EDT
DTSTART:20180311T070000
END:DAYLIGHT
BEGIN:STANDARD
TZOFFSETFROM:-0400
TZOFFSETTO:-0500
TZNAME:EST
DTSTART:20181104T060000
END:STANDARD
END:VTIMEZONE
BEGIN:VEVENT
DTSTART;TZID=America/New_York:20180822T080000
DTEND;TZID=America/New_York:20180822T170000
DTSTAMP:20260420T174040
CREATED:20180822T155411Z
LAST-MODIFIED:20180822T155411Z
UID:3344-1534924800-1534957200@dansvillelibrary.org
SUMMARY:Butterflies & Crafts Oct 9
DESCRIPTION:Butterflies: Habits and Habitats will be presented for kids and families at the Library on Tuesday evening October 9 at 7 p.m.  For ages 5 and up\, Jerry Schneider will talk about butterfly varieties\, how to attract them\, and how to maintain a butterfly habitat.  After the slide show\, children will craft their own butterfly tee shirts to keep.  Bring a clean cotton T-shirt from home\, or purchase one at the program for $4.00.   For more information or to sign up\, stop in at the Library or call 585-335-6720.  Limited to 25 participants.
URL:https://dansvillelibrary.org/event/butterflies-crafts-oct-9/
END:VEVENT
BEGIN:VEVENT
DTSTART;TZID=America/New_York:20180820T183000
DTEND;TZID=America/New_York:20180820T200000
DTSTAMP:20260420T174040
CREATED:20180627T204932Z
LAST-MODIFIED:20180627T204932Z
UID:3288-1534789800-1534795200@dansvillelibrary.org
SUMMARY:Dansville Summer Concerts
DESCRIPTION:FREE Concert at 7:00 p.m. Featuring Andrew VanNorstrand & Tim Ball  playing fiddle music.  At Williams Park\, corner of Washington & Red Jackets Streets. Check for rain location. Co-Sponsored by the following: Village of Dansville\, Town No. Dansville\, Linda & Jon Shay\, Lions Club\, Rotary Club\, Lioness\, Women’s Civic Club\, Chamber of Commerce\, Dans. Dental Professionals\, A Smile By Design\, Scovill’s Grille @ Brae Burn\, Varsity Park Homes\, GCC\, Betty & Bob Minemier\, Gretchen & Lowell George\, Scott & Tamara Kenney\, Barb Kurtz.
URL:https://dansvillelibrary.org/event/dansville-summer-concerts-9/
CATEGORIES:Non-Library
END:VEVENT
BEGIN:VEVENT
DTSTART;TZID=America/New_York:20180817T100000
DTEND;TZID=America/New_York:20180817T120000
DTSTAMP:20260420T174040
CREATED:20180511T151238Z
LAST-MODIFIED:20180511T151238Z
UID:3245-1534500000-1534507200@dansvillelibrary.org
SUMMARY:“Metal Casting Magic”
DESCRIPTION:Don’t miss this week-long ‘Discovery Workshop’ with Jeff Swift from Swift Custom Metal. For children ages 8-12. This workshop will teach children the traditional process of sand molding and casting of aluminum. Children will learn about the history of making metal\, metallurgy\, and examples of art casting. They will also learn the pattern making molding investment of the patterns in sand and then the crowd favorite the pour! Children participate in heating metal and the kids will help pour their very own molds off in the front yard of the library. This program is sponsored by the Dansville Lions Club. Space is limited! Please call the library at (585)335-6720 or stop in the library to register.
URL:https://dansvillelibrary.org/event/metal-casting-magic-5/
END:VEVENT
BEGIN:VEVENT
DTSTART;TZID=America/New_York:20180816T100000
DTEND;TZID=America/New_York:20180816T120000
DTSTAMP:20260420T174040
CREATED:20180511T151204Z
LAST-MODIFIED:20180511T151204Z
UID:3244-1534413600-1534420800@dansvillelibrary.org
SUMMARY:“Metal Casting Magic”
DESCRIPTION:Don’t miss this week-long ‘Discovery Workshop’ with Jeff Swift from Swift Custom Metal. For children ages 8-12. This workshop will teach children the traditional process of sand molding and casting of aluminum. Children will learn about the history of making metal\, metallurgy\, and examples of art casting. They will also learn the pattern making molding investment of the patterns in sand and then the crowd favorite the pour! Children participate in heating metal and the kids will help pour their very own molds off in the front yard of the library. This program is sponsored by the Dansville Lions Club. Space is limited! Please call the library at (585)335-6720 or stop in the library to register.
URL:https://dansvillelibrary.org/event/metal-casting-magic-4/
END:VEVENT
BEGIN:VEVENT
DTSTART;TZID=America/New_York:20180815T100000
DTEND;TZID=America/New_York:20180815T120000
DTSTAMP:20260420T174040
CREATED:20180511T151116Z
LAST-MODIFIED:20180511T151116Z
UID:3243-1534327200-1534334400@dansvillelibrary.org
SUMMARY:“Metal Casting Magic”
DESCRIPTION:Don’t miss this week-long ‘Discovery Workshop’ with Jeff Swift from Swift Custom Metal. For children ages 8-12. This workshop will teach children the traditional process of sand molding and casting of aluminum. Children will learn about the history of making metal\, metallurgy\, and examples of art casting. They will also learn the pattern making molding investment of the patterns in sand and then the crowd favorite the pour! Children participate in heating metal and the kids will help pour their very own molds off in the front yard of the library. This program is sponsored by the Dansville Lions Club. Space is limited! Please call the library at (585)335-6720 or stop in the library to register.
URL:https://dansvillelibrary.org/event/metal-casting-magic-3/
END:VEVENT
BEGIN:VEVENT
DTSTART;TZID=America/New_York:20180814T133000
DTEND;TZID=America/New_York:20180814T143000
DTSTAMP:20260420T174040
CREATED:20180509T142650Z
LAST-MODIFIED:20180807T182607Z
UID:3212-1534253400-1534257000@dansvillelibrary.org
SUMMARY:LP Spin Art with Geoff Clough - Summer Reading Finale!
DESCRIPTION:Don’t miss the summer reading finale with a special program by musician Geoff Clough.  Children will be designing their own LP Spin Art!  Vinyl records will be spinning on turn tables has children add paint to them creating a cool design!  This special event is co-sponsored by Mill Creek Optical and the Dansville Public Library.  For more information please the call the library at (585) 335-6720.
URL:https://dansvillelibrary.org/event/lp-spin-art-with-geoff-cough-summer-reading-finale/
END:VEVENT
BEGIN:VEVENT
DTSTART;TZID=America/New_York:20180814T130000
DTEND;TZID=America/New_York:20180814T140000
DTSTAMP:20260420T174040
CREATED:20180505T170021Z
LAST-MODIFIED:20180505T170021Z
UID:3209-1534251600-1534255200@dansvillelibrary.org
SUMMARY:Summer Reading Club – “Libraries Rock!”
DESCRIPTION:Join us every Tuesday at 1 p.m. for the library’s summer reading club for children grades K-6. Through books\, games\, musical experiences\, and STEAM (science\, technology\, engineering\, art\, and math) activities\, participants will interact with music and sound in a wide variety of ways. This year’s program will include performers\, storytelling\, crafts and an end of summer reading party! Children will receive a goodie bag for signing up.  Please register your child by calling 585-335-6720 or visiting the library.  Don’t miss this special event!
URL:https://dansvillelibrary.org/event/summer-reading-club-libraries-rock-6-2/
END:VEVENT
BEGIN:VEVENT
DTSTART;TZID=America/New_York:20180814T100000
DTEND;TZID=America/New_York:20180814T120000
DTSTAMP:20260420T174040
CREATED:20180511T150758Z
LAST-MODIFIED:20180511T151000Z
UID:3240-1534240800-1534248000@dansvillelibrary.org
SUMMARY:“Metal Casting Magic”
DESCRIPTION:Don’t miss this week-long ‘Discovery Workshop’ with Jeff Swift from Swift Custom Metal. For children ages 8-12. This workshop will teach children the traditional process of sand molding and casting of aluminum. Children will learn about the history of making metal\, metallurgy\, and examples of art casting. They will also learn the pattern making molding investment of the patterns in sand and then the crowd favorite the pour! Children participate in heating metal and the kids will help pour their very own molds off in the front yard of the library. This program is sponsored by the Dansville Lions Club. Space is limited! Please call the library at (585)335-6720 or stop in the library to register.
URL:https://dansvillelibrary.org/event/metal-casting-magic-2/
END:VEVENT
BEGIN:VEVENT
DTSTART;TZID=America/New_York:20180813T183000
DTEND;TZID=America/New_York:20180813T200000
DTSTAMP:20260420T174040
CREATED:20180627T204804Z
LAST-MODIFIED:20180627T204804Z
UID:3286-1534185000-1534190400@dansvillelibrary.org
SUMMARY:Dansville Summer Concerts
DESCRIPTION:FREE Concert at 7:00 p.m. Featuring J.B. & Company  playing country.  At Williams Park\, corner of Washington & Red Jackets Streets. Check for rain location. Co-Sponsored by the following: Village of Dansville\, Town No. Dansville\, Linda & Jon Shay\, Lions Club\, Rotary Club\, Lioness\, Women’s Civic Club\, Chamber of Commerce\, Dans. Dental Professionals\, A Smile By Design\, Scovill’s Grille @ Brae Burn\, Varsity Park Homes\, GCC\, Betty & Bob Minemier\, Gretchen & Lowell George\, Scott & Tamara Kenney\, Barb Kurtz.
URL:https://dansvillelibrary.org/event/dansville-summer-concerts-8/
CATEGORIES:Non-Library
END:VEVENT
BEGIN:VEVENT
DTSTART;TZID=America/New_York:20180813T100000
DTEND;TZID=America/New_York:20180813T120000
DTSTAMP:20260420T174040
CREATED:20180511T150657Z
LAST-MODIFIED:20180511T150657Z
UID:3239-1534154400-1534161600@dansvillelibrary.org
SUMMARY:“Metal Casting Magic”
DESCRIPTION:Don’t miss this week-long ‘Discovery Workshop’ with Jeff Swift from Swift Custom Metal. For children ages 8-12. This workshop will teach children the traditional process of sand molding and casting of aluminum. Children will learn about the history of making metal\, metallurgy\, and examples of art casting. They will also learn the pattern making molding investment of the patterns in sand and then the crowd favorite the pour! Children participate in heating metal and the kids will help pour their very own molds off in the front yard of the library. This program is sponsored by the Dansville Lions Club. Space is limited! Please call the library at (585)335-6720 or stop in the library to register.
URL:https://dansvillelibrary.org/event/metal-casting-magic/
END:VEVENT
BEGIN:VEVENT
DTSTART;TZID=America/New_York:20180807T130000
DTEND;TZID=America/New_York:20180807T140000
DTSTAMP:20260420T174040
CREATED:20180509T144029Z
LAST-MODIFIED:20180509T144029Z
UID:3215-1533646800-1533650400@dansvillelibrary.org
SUMMARY:Meet Riley the Mini Therapy Horse
DESCRIPTION:Children will meet and learn about Riley the mini therapy horse from Jackson Creek Farms in Dansville.  The farm\, owned by the Betts’ family\, offers educational farm visits with lessons about the care of animals\, agriculture\, life cycles\, community and storytelling to people of all ages.  Don’t miss this special “Libraries Rock!” summer reading club event! For more information please call the library at (585) 335-6720.
URL:https://dansvillelibrary.org/event/meet-riley-the-mini-therapy-horse/
END:VEVENT
BEGIN:VEVENT
DTSTART;TZID=America/New_York:20180807T130000
DTEND;TZID=America/New_York:20180807T140000
DTSTAMP:20260420T174040
CREATED:20180505T165930Z
LAST-MODIFIED:20180505T165930Z
UID:3208-1533646800-1533650400@dansvillelibrary.org
SUMMARY:Summer Reading Club – “Libraries Rock!”
DESCRIPTION:Join us every Tuesday at 1 p.m. for the library’s summer reading club for children grades K-6. Through books\, games\, musical experiences\, and STEAM (science\, technology\, engineering\, art\, and math) activities\, participants will interact with music and sound in a wide variety of ways. This year’s program will include performers\, storytelling\, crafts and an end of summer reading party! Children will receive a goodie bag for signing up.  Please register your child by calling 585-335-6720 or visiting the library.  Don’t miss this special event!
URL:https://dansvillelibrary.org/event/summer-reading-club-libraries-rock-5-2/
END:VEVENT
BEGIN:VEVENT
DTSTART;TZID=America/New_York:20180806T183000
DTEND;TZID=America/New_York:20180806T200000
DTSTAMP:20260420T174040
CREATED:20180627T204459Z
LAST-MODIFIED:20180627T204459Z
UID:3283-1533580200-1533585600@dansvillelibrary.org
SUMMARY:Dansville Summer Concerts
DESCRIPTION:FREE Concert at 7:00 p.m. Featuring The Coachmen\, rockin’ horn band.  At Williams Park\, corner of Washington & Red Jackets Streets. Check for rain location. Co-Sponsored by the following: Village of Dansville\, Town No. Dansville\, Linda & Jon Shay\, Lions Club\, Rotary Club\, Lioness\, Women’s Civic Club\, Chamber of Commerce\, Dans. Dental Professionals\, A Smile By Design\, Scovill’s Grille @ Brae Burn\, Varsity Park Homes\, GCC\, Betty & Bob Minemier\, Gretchen & Lowell George\, Scott & Tamara Kenney\, Barb Kurtz.
URL:https://dansvillelibrary.org/event/dansville-summer-concerts-7/
CATEGORIES:Non-Library
END:VEVENT
BEGIN:VEVENT
DTSTART;TZID=America/New_York:20180803T100000
DTEND;TZID=America/New_York:20180803T120000
DTSTAMP:20260420T174040
CREATED:20180511T145646Z
LAST-MODIFIED:20180511T145646Z
UID:3235-1533290400-1533297600@dansvillelibrary.org
SUMMARY:“Ideas & Inventions”
DESCRIPTION:Don’t miss this special week-long ‘Discovery Workshop’ with Joe DeBell! For children ages 8-12. Children will be learning techniques for observing things that would be otherwise difficult to see.  They will explore the techniques of rubbings\, carbon printing\, chromatography\, and mirror imagery.  They will also experiment with texture and pattern in a variety of materials. After learning each technique\, the children will be challenged to use insight and creativity to come up with an invention of their own.  They will also be learning about great inventors throughout history and learn about “kid inventors” who have made valuable contributions to society.  This program is sponsored by the Dansville Lions Club. Space is limited! Please call the library at (585)335-6720 or stop in to register.
URL:https://dansvillelibrary.org/event/ideas-inventions-5/
END:VEVENT
BEGIN:VEVENT
DTSTART;TZID=America/New_York:20180802T100000
DTEND;TZID=America/New_York:20180802T120000
DTSTAMP:20260420T174040
CREATED:20180511T145604Z
LAST-MODIFIED:20180511T145604Z
UID:3234-1533204000-1533211200@dansvillelibrary.org
SUMMARY:“Ideas & Inventions”
DESCRIPTION:Don’t miss this special week-long ‘Discovery Workshop’ with Joe DeBell! For children ages 8-12. Children will be learning techniques for observing things that would be otherwise difficult to see.  They will explore the techniques of rubbings\, carbon printing\, chromatography\, and mirror imagery.  They will also experiment with texture and pattern in a variety of materials. After learning each technique\, the children will be challenged to use insight and creativity to come up with an invention of their own.  They will also be learning about great inventors throughout history and learn about “kid inventors” who have made valuable contributions to society.  This program is sponsored by the Dansville Lions Club. Space is limited! Please call the library at (585)335-6720 or stop in to register.
URL:https://dansvillelibrary.org/event/ideas-inventions-4/
END:VEVENT
BEGIN:VEVENT
DTSTART;TZID=America/New_York:20180801T100000
DTEND;TZID=America/New_York:20180801T120000
DTSTAMP:20260420T174040
CREATED:20180511T145519Z
LAST-MODIFIED:20180511T145519Z
UID:3233-1533117600-1533124800@dansvillelibrary.org
SUMMARY:“Ideas & Inventions”
DESCRIPTION:Don’t miss this special week-long ‘Discovery Workshop’ with Joe DeBell! For children ages 8-12. Children will be learning techniques for observing things that would be otherwise difficult to see.  They will explore the techniques of rubbings\, carbon printing\, chromatography\, and mirror imagery.  They will also experiment with texture and pattern in a variety of materials. After learning each technique\, the children will be challenged to use insight and creativity to come up with an invention of their own.  They will also be learning about great inventors throughout history and learn about “kid inventors” who have made valuable contributions to society.  This program is sponsored by the Dansville Lions Club. Space is limited! Please call the library at (585)335-6720 or stop in to register.
URL:https://dansvillelibrary.org/event/ideas-inventions-2-2/
END:VEVENT
BEGIN:VEVENT
DTSTART;TZID=America/New_York:20180731T130000
DTEND;TZID=America/New_York:20180731T140000
DTSTAMP:20260420T174040
CREATED:20180509T142954Z
LAST-MODIFIED:20180509T142954Z
UID:3214-1533042000-1533045600@dansvillelibrary.org
SUMMARY:Summer Reading Club – “Libraries Rock!”
DESCRIPTION:Join us every Tuesday at 1 p.m. for the library’s summer reading club for children grades K-6. Through books\, games\, musical experiences\, and STEAM (science\, technology\, engineering\, art\, and math) activities\, participants will interact with music and sound in a wide variety of ways. This year’s program will include performers\, storytelling\, crafts and an end of summer reading party! Children will receive a goodie bag for signing up.  Please register your child by calling 585-335-6720 or visiting the library.  Don’t miss this special event!
URL:https://dansvillelibrary.org/event/summer-reading-club-libraries-rock-7/
END:VEVENT
BEGIN:VEVENT
DTSTART;TZID=America/New_York:20180731T100000
DTEND;TZID=America/New_York:20180731T120000
DTSTAMP:20260420T174040
CREATED:20180511T145335Z
LAST-MODIFIED:20180511T145335Z
UID:3232-1533031200-1533038400@dansvillelibrary.org
SUMMARY:“Ideas & Inventions”
DESCRIPTION:Don’t miss this special week-long ‘Discovery Workshop’ with Joe DeBell! For children ages 8-12. Children will be learning techniques for observing things that would be otherwise difficult to see.  They will explore the techniques of rubbings\, carbon printing\, chromatography\, and mirror imagery.  They will also experiment with texture and pattern in a variety of materials. After learning each technique\, the children will be challenged to use insight and creativity to come up with an invention of their own.  They will also be learning about great inventors throughout history and learn about “kid inventors” who have made valuable contributions to society.  This program is sponsored by the Dansville Lions Club. Space is limited! Please call the library at (585)335-6720 or stop in to register. \n 
URL:https://dansvillelibrary.org/event/ideas-inventions-3/
END:VEVENT
BEGIN:VEVENT
DTSTART;TZID=America/New_York:20180730T190000
DTEND;TZID=America/New_York:20180730T203000
DTSTAMP:20260420T174040
CREATED:20180627T204227Z
LAST-MODIFIED:20180627T204227Z
UID:3280-1532977200-1532982600@dansvillelibrary.org
SUMMARY:Dansville Summer Concerts
DESCRIPTION:FREE Concert at 7:00 p.m. Featuring Gap Mangione & the New Blues Band  playing jazz and pop.  At Williams Park\, corner of Washington & Red Jackets Streets. Check for rain location. Co-Sponsored by the following: Village of Dansville\, Town No. Dansville\, Linda & Jon Shay\, Lions Club\, Rotary Club\, Lioness\, Women’s Civic Club\, Chamber of Commerce\, Dans. Dental Professionals\, A Smile By Design\, Scovill’s Grille @ Brae Burn\, Varsity Park Homes\, GCC\, Betty & Bob Minemier\, Gretchen & Lowell George\, Scott & Tamara Kenney\, Barb Kurtz.
URL:https://dansvillelibrary.org/event/dansville-summer-concerts-6/
CATEGORIES:Non-Library
END:VEVENT
BEGIN:VEVENT
DTSTART;TZID=America/New_York:20180730T100000
DTEND;TZID=America/New_York:20180730T120000
DTSTAMP:20260420T174040
CREATED:20180511T144837Z
LAST-MODIFIED:20180511T144837Z
UID:3229-1532944800-1532952000@dansvillelibrary.org
SUMMARY:“Ideas & Inventions”
DESCRIPTION:Don’t miss this special week-long ‘Discovery Workshop’ with Joe DeBell! For children ages 8-12. Children will be learning techniques for observing things that would be otherwise difficult to see.  They will explore the techniques of rubbings\, carbon printing\, chromatography\, and mirror imagery.  They will also experiment with texture and pattern in a variety of materials. After learning each technique\, the children will be challenged to use insight and creativity to come up with an invention of their own.  They will also be learning about great inventors throughout history and learn about “kid inventors” who have made valuable contributions to society.  This program is sponsored by the Dansville Lions Club. Space is limited! Please call the library at (585)335-6720 or stop in to register.
URL:https://dansvillelibrary.org/event/ideas-inventions/
END:VEVENT
BEGIN:VEVENT
DTSTART;TZID=America/New_York:20180724T130000
DTEND;TZID=America/New_York:20180724T140000
DTSTAMP:20260420T174040
CREATED:20180510T134224Z
LAST-MODIFIED:20180510T134224Z
UID:3216-1532437200-1532440800@dansvillelibrary.org
SUMMARY:Makerspace Fun with Katie Infantino
DESCRIPTION:Do you like to tinker\, create\, invent\, and learn? Join us for this fun makerspace program where kids will explore science\, technology\, art\, engineering\, and math. Don’t miss this special “Libraries Rock!” summer reading club event! For more information please call the library at (585) 335-6720.
URL:https://dansvillelibrary.org/event/makerspace-fun-with-katie-infantino/
END:VEVENT
BEGIN:VEVENT
DTSTART;TZID=America/New_York:20180724T130000
DTEND;TZID=America/New_York:20180724T140000
DTSTAMP:20260420T174040
CREATED:20180505T165703Z
LAST-MODIFIED:20180505T165703Z
UID:3204-1532437200-1532440800@dansvillelibrary.org
SUMMARY:Summer Reading Club – “Libraries Rock!”
DESCRIPTION:Join us every Tuesday at 1 p.m. for the library’s summer reading club for children grades K-6. Through books\, games\, musical experiences\, and STEAM (science\, technology\, engineering\, art\, and math) activities\, participants will interact with music and sound in a wide variety of ways. This year’s program will include performers\, storytelling\, crafts and an end of summer reading party! Children will receive a goodie bag for signing up.  Please register your child by calling 585-335-6720 or visiting the library.  Don’t miss this special event!
URL:https://dansvillelibrary.org/event/summer-reading-club-libraries-rock-4/
END:VEVENT
BEGIN:VEVENT
DTSTART;TZID=America/New_York:20180723T190000
DTEND;TZID=America/New_York:20180723T203000
DTSTAMP:20260420T174040
CREATED:20180627T203536Z
LAST-MODIFIED:20180708T225723Z
UID:3278-1532372400-1532377800@dansvillelibrary.org
SUMMARY:Dansville Summer Concerts
DESCRIPTION:FREE Concert at 7:00 p.m. Featuring The Pearlz Band  playing Americana music.  At Williams Park\, corner of Washington & Red Jackets Streets. Check for rain location. Co-Sponsored by the following: Village of Dansville\, Town No. Dansville\, Linda & Jon Shay\, Lions Club\, Rotary Club\, Lioness\, Women’s Civic Club\, Chamber of Commerce\, Dans. Dental Professionals\, A Smile By Design\, Scovill’s Grille @ Brae Burn\, Varsity Park Homes\, GCC\, Betty & Bob Minemier\, Gretchen & Lowell George\, Scott & Tamara Kenney\, Barb Kurtz.
URL:https://dansvillelibrary.org/event/dansville-summer-concerts-5/
CATEGORIES:Non-Library
END:VEVENT
BEGIN:VEVENT
DTSTART;TZID=America/New_York:20180721T103000
DTEND;TZID=America/New_York:20180721T133000
DTSTAMP:20260420T174040
CREATED:20180720T142922Z
LAST-MODIFIED:20180720T143113Z
UID:3308-1532169000-1532179800@dansvillelibrary.org
SUMMARY:DAR Patriot Genealogy
DESCRIPTION:The Corporal Josiah Griswold Chapter of South Dansville will present Researching Your DAR Patriot\, a free workshop\, on Saturday July 21 at Dansville Public Library from 10:30 a.m. to 1:30 p.m.  Bring your genealogy work with you for a hands-on experience in family research.
URL:https://dansvillelibrary.org/event/dar-patriot-genealogy/
CATEGORIES:Non-Library
END:VEVENT
BEGIN:VEVENT
DTSTART;TZID=America/New_York:20180717T130000
DTEND;TZID=America/New_York:20180717T140000
DTSTAMP:20260420T174040
CREATED:20180505T171107Z
LAST-MODIFIED:20180511T153615Z
UID:3210-1531832400-1531836000@dansvillelibrary.org
SUMMARY:“Hooping For Every Body”
DESCRIPTION:Don’t miss this special “Libraries Rock!” summer reading program! Children will learn all about hula hooping with performer Benjamin Berry.  Mr. Berry will explain the secret to finding the perfect size for a beginner hoop. He will also demonstrate how to build and connect hoops\, followed by the audience choosing their colors\, tapes\, and materials to decorate the hoop. Children will learn the fundamentals of waist hooping and then leave with all of the tools they need to enjoy their new hoop for fitness\, expression\, and play! Co-sponsored by Mill Creek Optical and the Friends of the Dansville Public Library. For more information please call the library at (585) 335-6720.
URL:https://dansvillelibrary.org/event/hooping-for-every-body/
END:VEVENT
BEGIN:VEVENT
DTSTART;TZID=America/New_York:20180717T130000
DTEND;TZID=America/New_York:20180717T140000
DTSTAMP:20260420T174040
CREATED:20180505T165522Z
LAST-MODIFIED:20180505T165522Z
UID:3203-1531832400-1531836000@dansvillelibrary.org
SUMMARY:Summer Reading Club – “Libraries Rock!”
DESCRIPTION:Join us every Tuesday at 1 p.m. for the library’s summer reading club for children grades K-6. Through books\, games\, musical experiences\, and STEAM (science\, technology\, engineering\, art\, and math) activities\, participants will interact with music and sound in a wide variety of ways. This year’s program will include performers\, storytelling\, crafts and an end of summer reading party! Children will receive a goodie bag for signing up.  Please register your child by calling 585-335-6720 or visiting the library.  Don’t miss this special event!
URL:https://dansvillelibrary.org/event/summer-reading-club-libraries-rock-3/
END:VEVENT
BEGIN:VEVENT
DTSTART;TZID=America/New_York:20180716T190000
DTEND;TZID=America/New_York:20180716T203000
DTSTAMP:20260420T174040
CREATED:20180627T202439Z
LAST-MODIFIED:20180627T202439Z
UID:3274-1531767600-1531773000@dansvillelibrary.org
SUMMARY:Dansville Summer Concerts
DESCRIPTION:FREE Concert at 7:00 p.m. Featuring The Warsaw Barbershoppers and Connie & Henry  playing sweet harmonies.  At Williams Park\, corner of Washington & Red Jackets Streets. Check for rain location. Co-Sponsored by the following: Village of Dansville\, Town No. Dansville\, Linda & Jon Shay\, Lions Club\, Rotary Club\, Lioness\, Women’s Civic Club\, Chamber of Commerce\, Dans. Dental Professionals\, A Smile By Design\, Scovill’s Grille @ Brae Burn\, Varsity Park Homes\, GCC\, Betty & Bob Minemier\, Gretchen & Lowell George\, Scott & Tamara Kenney\, Barb Kurtz.
URL:https://dansvillelibrary.org/event/dansville-summer-concerts-4/
CATEGORIES:Non-Library
END:VEVENT
BEGIN:VEVENT
DTSTART;TZID=America/New_York:20180713T100000
DTEND;TZID=America/New_York:20180713T120000
DTSTAMP:20260420T174040
CREATED:20180511T143823Z
LAST-MODIFIED:20180511T143823Z
UID:3227-1531476000-1531483200@dansvillelibrary.org
SUMMARY:“Intro to Theatre”
DESCRIPTION:Don’t miss this week-long ‘Discovery Workshop’ with Bettina DeBell! For children ages 8-12. This workshop will encourage kids to discover their creative potential by exploring the art of acting. Instruction will include theatre games\, speech and movement exercises\, theatre basics\, musical theatre dance and scene/monologue practice.  The final class will include an opportunity for students to share their new skills in a brief showcase performance. This program is sponsored by the Dansville Lions Club. Space is limited! Please call the library at (585)335-6720 or stop in to register.
URL:https://dansvillelibrary.org/event/intro-to-theatre-5/
END:VEVENT
BEGIN:VEVENT
DTSTART;TZID=America/New_York:20180712T100000
DTEND;TZID=America/New_York:20180712T120000
DTSTAMP:20260420T174040
CREATED:20180511T143733Z
LAST-MODIFIED:20180511T143733Z
UID:3226-1531389600-1531396800@dansvillelibrary.org
SUMMARY:“Intro to Theatre”
DESCRIPTION:Don’t miss this week-long ‘Discovery Workshop’ with Bettina DeBell! For children ages 8-12. This workshop will encourage kids to discover their creative potential by exploring the art of acting. Instruction will include theatre games\, speech and movement exercises\, theatre basics\, musical theatre dance and scene/monologue practice.  The final class will include an opportunity for students to share their new skills in a brief showcase performance. This program is sponsored by the Dansville Lions Club. Space is limited! Please call the library at (585)335-6720 or stop in to register. \n\n\n 
URL:https://dansvillelibrary.org/event/intro-to-theatre-4/
END:VEVENT
BEGIN:VEVENT
DTSTART;TZID=America/New_York:20180711T100000
DTEND;TZID=America/New_York:20180711T120000
DTSTAMP:20260420T174040
CREATED:20180511T143629Z
LAST-MODIFIED:20180511T143629Z
UID:3225-1531303200-1531310400@dansvillelibrary.org
SUMMARY:“Intro to Theatre”
DESCRIPTION:Don’t miss this week-long ‘Discovery Workshop’ with Bettina DeBell! For children ages 8-12. This workshop will encourage kids to discover their creative potential by exploring the art of acting. Instruction will include theatre games\, speech and movement exercises\, theatre basics\, musical theatre dance and scene/monologue practice.  The final class will include an opportunity for students to share their new skills in a brief showcase performance. This program is sponsored by the Dansville Lions Club. Space is limited! Please call the library at (585)335-6720 or stop in to register.
URL:https://dansvillelibrary.org/event/intro-to-theatre-3/
END:VEVENT
END:VCALENDAR