BEGIN:VCALENDAR
VERSION:2.0
PRODID:-//Dansville Public Library - ECPv6.2.3//NONSGML v1.0//EN
CALSCALE:GREGORIAN
METHOD:PUBLISH
X-WR-CALNAME:Dansville Public Library
X-ORIGINAL-URL:https://dansvillelibrary.org
X-WR-CALDESC:Events for Dansville Public Library
REFRESH-INTERVAL;VALUE=DURATION:PT1H
X-Robots-Tag:noindex
X-PUBLISHED-TTL:PT1H
BEGIN:VTIMEZONE
TZID:America/New_York
BEGIN:DAYLIGHT
TZOFFSETFROM:-0500
TZOFFSETTO:-0400
TZNAME:EDT
DTSTART:20180311T070000
END:DAYLIGHT
BEGIN:STANDARD
TZOFFSETFROM:-0400
TZOFFSETTO:-0500
TZNAME:EST
DTSTART:20181104T060000
END:STANDARD
BEGIN:DAYLIGHT
TZOFFSETFROM:-0500
TZOFFSETTO:-0400
TZNAME:EDT
DTSTART:20190310T070000
END:DAYLIGHT
BEGIN:STANDARD
TZOFFSETFROM:-0400
TZOFFSETTO:-0500
TZNAME:EST
DTSTART:20191103T060000
END:STANDARD
END:VTIMEZONE
BEGIN:VEVENT
DTSTART;TZID=America/New_York:20190126T103000
DTEND;TZID=America/New_York:20190126T113000
DTSTAMP:20260420T143938
CREATED:20190124T211810Z
LAST-MODIFIED:20190124T211812Z
UID:3493-1548498600-1548502200@dansvillelibrary.org
SUMMARY:Celebrating 1000 Books Before Kindergarten  Jan 26
DESCRIPTION:  \n  \n 
URL:https://dansvillelibrary.org/event/celebrating-1000-books-before-kindergarten-jan-26/
END:VEVENT
BEGIN:VEVENT
DTSTART;TZID=America/New_York:20190123T100000
DTEND;TZID=America/New_York:20190123T110000
DTSTAMP:20260420T143938
CREATED:20181217T205812Z
LAST-MODIFIED:20181217T210515Z
UID:3474-1548237600-1548241200@dansvillelibrary.org
SUMMARY:Baby's Book Buddies Winter Session
DESCRIPTION:Ms. Mary Ellen  presents the  Winter session of Baby’s Book Buddies held every Wednesday at 10 a.m.  This early literacy program for those ages 6 months to 3 years old instills a love of reading in your child that will help prepare him or her for success in school.  Ms. Mary Ellen  wants to know your child is coming so please call the Library at 585-335-6720 to register.  Your Baby will learn new words\, songs and fingerplays\, and there is even space for a “play” session with new friends.  All the books Ms. Mary Ellen  reads in Baby’s Book Buddies also qualify for our 1000 Books Before Kindergarten program!  You can sign up for 1000 Books when your child attends Baby’s Book Buddies.  Today’s theme is winter.
URL:https://dansvillelibrary.org/event/babys-book-buddies-winter-session/
END:VEVENT
BEGIN:VEVENT
DTSTART;TZID=America/New_York:20190116T100000
DTEND;TZID=America/New_York:20190116T110000
DTSTAMP:20260420T143938
CREATED:20181217T205040Z
LAST-MODIFIED:20181227T152854Z
UID:3469-1547632800-1547636400@dansvillelibrary.org
SUMMARY:Baby's Book Buddies Winter Session
DESCRIPTION:Ms. Mary Ellen  presents the  Winter session of Baby’s Book Buddies held every Wednesday at 10 a.m.  This early literacy program for those ages 6 months to 3 years old instills a love of reading in your child that will help prepare him or her for success in school.  Your Baby will learn new words\, songs and fingerplays\, and there is even space for a “play” session with new friends.  Ms. Mary Ellen  wants to know your child is coming so please call the Library at 585-335-6720 to register.    All the books Ms. Mary Ellen  reads in Baby’s Book Buddies also qualify for our 1000 Books Before Kindergarten program!  You can sign up for 1000 Books when your child attends Baby’s Book Buddies.  The theme for Jan 16 is “Hello”.
URL:https://dansvillelibrary.org/event/3469/
END:VEVENT
BEGIN:VEVENT
DTSTART;TZID=America/New_York:20190110T183000
DTEND;TZID=America/New_York:20190110T200000
DTSTAMP:20260420T143938
CREATED:20181214T152351Z
LAST-MODIFIED:20190104T190103Z
UID:3443-1547145000-1547150400@dansvillelibrary.org
SUMMARY:Ravenous Readers
DESCRIPTION:Ravenous Readers book discussion group.  Meets second Thursday of every month at Dansville Public Library at 6:30 p.m.   For more information call the Library 585-335-6720.
URL:https://dansvillelibrary.org/event/ravenous-readers-3/
CATEGORIES:Non-Library
END:VEVENT
BEGIN:VEVENT
DTSTART;TZID=America/New_York:20181224T080000
DTEND;TZID=America/New_York:20181224T170000
DTSTAMP:20260420T143938
CREATED:20181214T144304Z
LAST-MODIFIED:20181214T144304Z
UID:3440-1545638400-1545670800@dansvillelibrary.org
SUMMARY:Library Closed
DESCRIPTION:Library Closed Dec 24 and 25 for the Christmas Holiday.  Merry Christmas & Happy Holidays to all from our Staff!
URL:https://dansvillelibrary.org/event/library-closed-6/
END:VEVENT
BEGIN:VEVENT
DTSTART;TZID=America/New_York:20181215T100000
DTEND;TZID=America/New_York:20181215T120000
DTSTAMP:20260420T143938
CREATED:20181126T210634Z
LAST-MODIFIED:20181214T144127Z
UID:3418-1544868000-1544875200@dansvillelibrary.org
SUMMARY:Santa & Mrs. Claus Visit the Library!
DESCRIPTION:  \n  \nSanta and Mrs. Claus will be making a special visit from 10 a.m. – Noon at the Dansville Public Library. Children of all ages can come to hear Santa read stories and have their picture taken with him and Mrs. Claus. They can also make holiday crafts\, as well as enjoy yummy cookies and apple cider! Don’t miss this special event!! For more information please call (585)335-6720.
URL:https://dansvillelibrary.org/event/santa-mrs-claus-visits-the-library/
END:VEVENT
BEGIN:VEVENT
DTSTART;TZID=America/New_York:20181211T183000
DTEND;TZID=America/New_York:20181211T200000
DTSTAMP:20260420T143938
CREATED:20181126T212358Z
LAST-MODIFIED:20181126T212358Z
UID:3424-1544553000-1544558400@dansvillelibrary.org
SUMMARY:Poetry Reading Dec 11
DESCRIPTION:“Poetry Reading” preceded by Open Mic.  Featuring Writer/Poet Michael Czarnecki.  Dansville Public Library 6:30 p.m.   For more information call 585-335-6720.  Funded by NYSCA through Poets and Writers & with the support of Gov A. Cuomo & NYS Legislature.
URL:https://dansvillelibrary.org/event/poetry-reading-dec-11/
END:VEVENT
BEGIN:VEVENT
DTSTART;TZID=America/New_York:20181211T140000
DTEND;TZID=America/New_York:20181211T160000
DTSTAMP:20260420T143938
CREATED:20181126T211821Z
LAST-MODIFIED:20181214T143823Z
UID:3421-1544536800-1544544000@dansvillelibrary.org
SUMMARY:Palm of Hand Memoir Workshop Dec 11
DESCRIPTION:Writer/Poet Michael Czarnecki “Palm of Hand” memoir writing workshop.  Tues Dec 11 from 2  to 4 p.m.  Please call to register at 585-335-6720.  Funded by NYSCA through Poets and Writers & with the support of Gov A. Cuomo & NYS Legislature.
URL:https://dansvillelibrary.org/event/palm-of-hand-memoir-workshop-dec-11/
END:VEVENT
BEGIN:VEVENT
DTSTART;TZID=America/New_York:20181201T170000
DTEND;TZID=America/New_York:20181201T200000
DTSTAMP:20260420T143938
CREATED:20181126T211030Z
LAST-MODIFIED:20181126T211030Z
UID:3420-1543683600-1543694400@dansvillelibrary.org
SUMMARY:Holiday Crafts at the Library/ Winter In the Village
DESCRIPTION:Celebrate Winter In the Village in downtown Dansville! Plus don’t forget to stop at the Dansville Public Library from 5-8 p.m. for crafts\, cookies and hot apple cider! Don’t miss this spectacular holiday event for children and families! For more information please call (585)335-6720 or stop in the library.
URL:https://dansvillelibrary.org/event/holiday-crafts-at-the-library-winter-in-the-village/
END:VEVENT
BEGIN:VEVENT
DTSTART;TZID=America/New_York:20181123T140000
DTEND;TZID=America/New_York:20181123T160000
DTSTAMP:20260420T143938
CREATED:20181029T180050Z
LAST-MODIFIED:20181029T180050Z
UID:3396-1542981600-1542988800@dansvillelibrary.org
SUMMARY:Gingerbread Creations Nov 23
DESCRIPTION:Gingerbread Craft  Nov 23rd 2-4 pm ages 5-13.  Please pre-register by calling 585-335-6720 \n 
URL:https://dansvillelibrary.org/event/gingerbread-creations-nov-23-2/
CATEGORIES:Children's
END:VEVENT
BEGIN:VEVENT
DTSTART;TZID=America/New_York:20181123T140000
DTEND;TZID=America/New_York:20181123T160000
DTSTAMP:20260420T143938
CREATED:20181022T203653Z
LAST-MODIFIED:20181029T180049Z
UID:3390-1542981600-1542988800@dansvillelibrary.org
SUMMARY:Gingerbread Creations Nov 23
DESCRIPTION:Gingerbread Craft  Nov 23rd 2-4 pm ages 5-13.  Please pre-register by calling 585-335-6720 \n 
URL:https://dansvillelibrary.org/event/gingerbread-creations-nov-23/
CATEGORIES:Children's
END:VEVENT
BEGIN:VEVENT
DTSTART;TZID=America/New_York:20181123T100000
DTEND;TZID=America/New_York:20181123T103000
DTSTAMP:20260420T143938
CREATED:20181102T181447Z
LAST-MODIFIED:20181116T211622Z
UID:3410-1542967200-1542969000@dansvillelibrary.org
SUMMARY:Gingerbread Man Nov 23 @10:30 AM
DESCRIPTION:For children ages 2 to 5 years old.  Friday\, November 23 at 10:30 a.m. until 11:00.  Stories and craft an edible gingerbread man.  Please call to register at 585-335-6720.  A 1000 Books Before Kindergarten program. \n \n  \n  \n  \n  \n  \n 
URL:https://dansvillelibrary.org/event/gingerbread-man-nov-23-10-am/
END:VEVENT
BEGIN:VEVENT
DTSTART;TZID=America/New_York:20181105T100000
DTEND;TZID=America/New_York:20181105T200000
DTSTAMP:20260420T143938
CREATED:20181015T211007Z
LAST-MODIFIED:20181015T212259Z
UID:3383-1541412000-1541448000@dansvillelibrary.org
SUMMARY:Expressions of World War One
DESCRIPTION:FINAL WEEK:  The office of the Livingston County Historian presents Expressions of World War One in Photographs and Letters Home\, selections from the County archives that are now display at Dansville Public Library through November 10 during regular Library operating hours.   About 1700 men from Livingston County left families to answer the call to duty.   This display\, previously featured at Genesee Valley Council on the Arts\, is modified to fit the Library’s display space in the adult nonfiction area.
URL:https://dansvillelibrary.org/event/expressions-of-world-war-one/
END:VEVENT
BEGIN:VEVENT
DTSTART;TZID=America/New_York:20181022T100000
DTEND;TZID=America/New_York:20181022T200000
DTSTAMP:20260420T143938
CREATED:20181015T210630Z
LAST-MODIFIED:20181022T202846Z
UID:3381-1540202400-1540238400@dansvillelibrary.org
SUMMARY:Expressions of WW One
DESCRIPTION:The office of the Livingston County Historian presents Expressions of World War One in Photographs and Letters Home\, selections from the County archives that are now display at Dansville Public Library through November 10 during regular Library operating hours.   About 1700 men from Livingston County left families to answer the call to duty.   This display\, previously featured at Genesee Valley Council on the Arts\, is modified to fit the Library’s display space in the adult nonfiction area.
URL:https://dansvillelibrary.org/event/expressions-of-ww-one/
END:VEVENT
BEGIN:VEVENT
DTSTART;TZID=America/New_York:20181020T170000
DTEND;TZID=America/New_York:20181020T190000
DTSTAMP:20260420T143938
CREATED:20180919T165809Z
LAST-MODIFIED:20180919T170028Z
UID:2748-1540054800-1540062000@dansvillelibrary.org
SUMMARY:Ham Dinner
DESCRIPTION:Ham Dinner – St. Paul’s Lutheran Church Clara Barton St Dansville NY \n  \n 
URL:https://dansvillelibrary.org/event/ham-dinner-2/
END:VEVENT
BEGIN:VEVENT
DTSTART;TZID=America/New_York:20181010T100000
DTEND;TZID=America/New_York:20181010T120000
DTSTAMP:20260420T143938
CREATED:20180905T143110Z
LAST-MODIFIED:20180905T143110Z
UID:3355-1539165600-1539172800@dansvillelibrary.org
SUMMARY:Library Closed 'til Noon Oct 10
DESCRIPTION:The Library will be closed the morning of Wednesday October 10 while all staff members attend a continuing education event.  We will open at 12:00 noon.  Thank you for supporting our efforts to improve our services to you.
URL:https://dansvillelibrary.org/event/library-closed-til-noon-oct-10/
END:VEVENT
BEGIN:VEVENT
DTSTART;TZID=America/New_York:20181009T190000
DTEND;TZID=America/New_York:20181009T201500
DTSTAMP:20260420T143938
CREATED:20181003T105856Z
LAST-MODIFIED:20181003T105856Z
UID:3376-1539111600-1539116100@dansvillelibrary.org
SUMMARY:Butterflies Habits/Habitats Oct 9
DESCRIPTION:Families and children ages 5 and up are invited to Butterflies: Habits & Habitats on Tues Oct 9 at 7 p.m. with educator Jerry Schneider.  Bring a T shirt to decorate or get one for $2 (donation to cover cost)  Learn about these delightful creatures; decorate a shirt to take home.  To sign up call 585-335-6720
URL:https://dansvillelibrary.org/event/butterflies-habits-habitats-oct-9/
END:VEVENT
BEGIN:VEVENT
DTSTART;TZID=America/New_York:20181005T170000
DTEND;TZID=America/New_York:20181005T190000
DTSTAMP:20260420T143938
CREATED:20180919T122858Z
LAST-MODIFIED:20180919T192629Z
UID:3363-1538758800-1538766000@dansvillelibrary.org
SUMMARY:October Rocks! Oct 5
DESCRIPTION:All children ages 2 years and up are invited to join artists Jessica Gardner Taranko and Amy Gardner for painting fun at 5 p.m. on October 5.  October Rocks! is a Dansville community First Friday Event sponsored by the Dansville Chamber of Commerce.  For more information\, call 585-335-6720.
URL:https://dansvillelibrary.org/event/october-rocks-oct-5/
ATTACH;FMTTYPE=image/jpeg:https://dansvillelibrary.org/wp-content/uploads/2018/09/October-Rocks-10.5.18.jpg
END:VEVENT
BEGIN:VEVENT
DTSTART;TZID=America/New_York:20180903T090000
DTEND;TZID=America/New_York:20180903T200000
DTSTAMP:20260420T143938
CREATED:20180822T160542Z
LAST-MODIFIED:20180822T160007Z
UID:3335-1535965200-1536004800@dansvillelibrary.org
SUMMARY:Closed Sep 3 Labor Day
DESCRIPTION:The Dansville Public Library will be closed on Monday\, September 3 for the Labor Day Holiday.  Our staff members wish you and yours a very safe holiday; enjoy the NYS Festival of Balloons Sep 6-9\, and the Library will re-open on Tuesday\, September 4 at 10:00 a.m.
URL:https://dansvillelibrary.org/event/closed-sep-3-labor-day/
END:VEVENT
BEGIN:VEVENT
DTSTART;TZID=America/New_York:20180827T183000
DTEND;TZID=America/New_York:20180827T200000
DTSTAMP:20260420T143938
CREATED:20180627T205203Z
LAST-MODIFIED:20180627T205203Z
UID:3290-1535394600-1535400000@dansvillelibrary.org
SUMMARY:Dansville Summer Concerts
DESCRIPTION:FREE Concert at 7:00 p.m. Featuring The Dady Brothers  playing Irish music.  At Williams Park\, corner of Washington & Red Jackets Streets. Check for rain location. Co-Sponsored by the following: Village of Dansville\, Town No. Dansville\, Linda & Jon Shay\, Lions Club\, Rotary Club\, Lioness\, Women’s Civic Club\, Chamber of Commerce\, Dans. Dental Professionals\, A Smile By Design\, Scovill’s Grille @ Brae Burn\, Varsity Park Homes\, GCC\, Betty & Bob Minemier\, Gretchen & Lowell George\, Scott & Tamara Kenney\, Barb Kurtz.
URL:https://dansvillelibrary.org/event/dansville-summer-concerts-10/
CATEGORIES:Non-Library
END:VEVENT
BEGIN:VEVENT
DTSTART;TZID=America/New_York:20180822T080000
DTEND;TZID=America/New_York:20180822T170000
DTSTAMP:20260420T143938
CREATED:20180822T155411Z
LAST-MODIFIED:20180822T155411Z
UID:3344-1534924800-1534957200@dansvillelibrary.org
SUMMARY:Butterflies & Crafts Oct 9
DESCRIPTION:Butterflies: Habits and Habitats will be presented for kids and families at the Library on Tuesday evening October 9 at 7 p.m.  For ages 5 and up\, Jerry Schneider will talk about butterfly varieties\, how to attract them\, and how to maintain a butterfly habitat.  After the slide show\, children will craft their own butterfly tee shirts to keep.  Bring a clean cotton T-shirt from home\, or purchase one at the program for $4.00.   For more information or to sign up\, stop in at the Library or call 585-335-6720.  Limited to 25 participants.
URL:https://dansvillelibrary.org/event/butterflies-crafts-oct-9/
END:VEVENT
BEGIN:VEVENT
DTSTART;TZID=America/New_York:20180820T183000
DTEND;TZID=America/New_York:20180820T200000
DTSTAMP:20260420T143938
CREATED:20180627T204932Z
LAST-MODIFIED:20180627T204932Z
UID:3288-1534789800-1534795200@dansvillelibrary.org
SUMMARY:Dansville Summer Concerts
DESCRIPTION:FREE Concert at 7:00 p.m. Featuring Andrew VanNorstrand & Tim Ball  playing fiddle music.  At Williams Park\, corner of Washington & Red Jackets Streets. Check for rain location. Co-Sponsored by the following: Village of Dansville\, Town No. Dansville\, Linda & Jon Shay\, Lions Club\, Rotary Club\, Lioness\, Women’s Civic Club\, Chamber of Commerce\, Dans. Dental Professionals\, A Smile By Design\, Scovill’s Grille @ Brae Burn\, Varsity Park Homes\, GCC\, Betty & Bob Minemier\, Gretchen & Lowell George\, Scott & Tamara Kenney\, Barb Kurtz.
URL:https://dansvillelibrary.org/event/dansville-summer-concerts-9/
CATEGORIES:Non-Library
END:VEVENT
BEGIN:VEVENT
DTSTART;TZID=America/New_York:20180817T100000
DTEND;TZID=America/New_York:20180817T120000
DTSTAMP:20260420T143938
CREATED:20180511T151238Z
LAST-MODIFIED:20180511T151238Z
UID:3245-1534500000-1534507200@dansvillelibrary.org
SUMMARY:“Metal Casting Magic”
DESCRIPTION:Don’t miss this week-long ‘Discovery Workshop’ with Jeff Swift from Swift Custom Metal. For children ages 8-12. This workshop will teach children the traditional process of sand molding and casting of aluminum. Children will learn about the history of making metal\, metallurgy\, and examples of art casting. They will also learn the pattern making molding investment of the patterns in sand and then the crowd favorite the pour! Children participate in heating metal and the kids will help pour their very own molds off in the front yard of the library. This program is sponsored by the Dansville Lions Club. Space is limited! Please call the library at (585)335-6720 or stop in the library to register.
URL:https://dansvillelibrary.org/event/metal-casting-magic-5/
END:VEVENT
BEGIN:VEVENT
DTSTART;TZID=America/New_York:20180816T100000
DTEND;TZID=America/New_York:20180816T120000
DTSTAMP:20260420T143938
CREATED:20180511T151204Z
LAST-MODIFIED:20180511T151204Z
UID:3244-1534413600-1534420800@dansvillelibrary.org
SUMMARY:“Metal Casting Magic”
DESCRIPTION:Don’t miss this week-long ‘Discovery Workshop’ with Jeff Swift from Swift Custom Metal. For children ages 8-12. This workshop will teach children the traditional process of sand molding and casting of aluminum. Children will learn about the history of making metal\, metallurgy\, and examples of art casting. They will also learn the pattern making molding investment of the patterns in sand and then the crowd favorite the pour! Children participate in heating metal and the kids will help pour their very own molds off in the front yard of the library. This program is sponsored by the Dansville Lions Club. Space is limited! Please call the library at (585)335-6720 or stop in the library to register.
URL:https://dansvillelibrary.org/event/metal-casting-magic-4/
END:VEVENT
BEGIN:VEVENT
DTSTART;TZID=America/New_York:20180815T100000
DTEND;TZID=America/New_York:20180815T120000
DTSTAMP:20260420T143938
CREATED:20180511T151116Z
LAST-MODIFIED:20180511T151116Z
UID:3243-1534327200-1534334400@dansvillelibrary.org
SUMMARY:“Metal Casting Magic”
DESCRIPTION:Don’t miss this week-long ‘Discovery Workshop’ with Jeff Swift from Swift Custom Metal. For children ages 8-12. This workshop will teach children the traditional process of sand molding and casting of aluminum. Children will learn about the history of making metal\, metallurgy\, and examples of art casting. They will also learn the pattern making molding investment of the patterns in sand and then the crowd favorite the pour! Children participate in heating metal and the kids will help pour their very own molds off in the front yard of the library. This program is sponsored by the Dansville Lions Club. Space is limited! Please call the library at (585)335-6720 or stop in the library to register.
URL:https://dansvillelibrary.org/event/metal-casting-magic-3/
END:VEVENT
BEGIN:VEVENT
DTSTART;TZID=America/New_York:20180814T133000
DTEND;TZID=America/New_York:20180814T143000
DTSTAMP:20260420T143938
CREATED:20180509T142650Z
LAST-MODIFIED:20180807T182607Z
UID:3212-1534253400-1534257000@dansvillelibrary.org
SUMMARY:LP Spin Art with Geoff Clough - Summer Reading Finale!
DESCRIPTION:Don’t miss the summer reading finale with a special program by musician Geoff Clough.  Children will be designing their own LP Spin Art!  Vinyl records will be spinning on turn tables has children add paint to them creating a cool design!  This special event is co-sponsored by Mill Creek Optical and the Dansville Public Library.  For more information please the call the library at (585) 335-6720.
URL:https://dansvillelibrary.org/event/lp-spin-art-with-geoff-cough-summer-reading-finale/
END:VEVENT
BEGIN:VEVENT
DTSTART;TZID=America/New_York:20180814T130000
DTEND;TZID=America/New_York:20180814T140000
DTSTAMP:20260420T143938
CREATED:20180505T170021Z
LAST-MODIFIED:20180505T170021Z
UID:3209-1534251600-1534255200@dansvillelibrary.org
SUMMARY:Summer Reading Club – “Libraries Rock!”
DESCRIPTION:Join us every Tuesday at 1 p.m. for the library’s summer reading club for children grades K-6. Through books\, games\, musical experiences\, and STEAM (science\, technology\, engineering\, art\, and math) activities\, participants will interact with music and sound in a wide variety of ways. This year’s program will include performers\, storytelling\, crafts and an end of summer reading party! Children will receive a goodie bag for signing up.  Please register your child by calling 585-335-6720 or visiting the library.  Don’t miss this special event!
URL:https://dansvillelibrary.org/event/summer-reading-club-libraries-rock-6-2/
END:VEVENT
BEGIN:VEVENT
DTSTART;TZID=America/New_York:20180814T100000
DTEND;TZID=America/New_York:20180814T120000
DTSTAMP:20260420T143938
CREATED:20180511T150758Z
LAST-MODIFIED:20180511T151000Z
UID:3240-1534240800-1534248000@dansvillelibrary.org
SUMMARY:“Metal Casting Magic”
DESCRIPTION:Don’t miss this week-long ‘Discovery Workshop’ with Jeff Swift from Swift Custom Metal. For children ages 8-12. This workshop will teach children the traditional process of sand molding and casting of aluminum. Children will learn about the history of making metal\, metallurgy\, and examples of art casting. They will also learn the pattern making molding investment of the patterns in sand and then the crowd favorite the pour! Children participate in heating metal and the kids will help pour their very own molds off in the front yard of the library. This program is sponsored by the Dansville Lions Club. Space is limited! Please call the library at (585)335-6720 or stop in the library to register.
URL:https://dansvillelibrary.org/event/metal-casting-magic-2/
END:VEVENT
BEGIN:VEVENT
DTSTART;TZID=America/New_York:20180813T183000
DTEND;TZID=America/New_York:20180813T200000
DTSTAMP:20260420T143938
CREATED:20180627T204804Z
LAST-MODIFIED:20180627T204804Z
UID:3286-1534185000-1534190400@dansvillelibrary.org
SUMMARY:Dansville Summer Concerts
DESCRIPTION:FREE Concert at 7:00 p.m. Featuring J.B. & Company  playing country.  At Williams Park\, corner of Washington & Red Jackets Streets. Check for rain location. Co-Sponsored by the following: Village of Dansville\, Town No. Dansville\, Linda & Jon Shay\, Lions Club\, Rotary Club\, Lioness\, Women’s Civic Club\, Chamber of Commerce\, Dans. Dental Professionals\, A Smile By Design\, Scovill’s Grille @ Brae Burn\, Varsity Park Homes\, GCC\, Betty & Bob Minemier\, Gretchen & Lowell George\, Scott & Tamara Kenney\, Barb Kurtz.
URL:https://dansvillelibrary.org/event/dansville-summer-concerts-8/
CATEGORIES:Non-Library
END:VEVENT
BEGIN:VEVENT
DTSTART;TZID=America/New_York:20180813T100000
DTEND;TZID=America/New_York:20180813T120000
DTSTAMP:20260420T143938
CREATED:20180511T150657Z
LAST-MODIFIED:20180511T150657Z
UID:3239-1534154400-1534161600@dansvillelibrary.org
SUMMARY:“Metal Casting Magic”
DESCRIPTION:Don’t miss this week-long ‘Discovery Workshop’ with Jeff Swift from Swift Custom Metal. For children ages 8-12. This workshop will teach children the traditional process of sand molding and casting of aluminum. Children will learn about the history of making metal\, metallurgy\, and examples of art casting. They will also learn the pattern making molding investment of the patterns in sand and then the crowd favorite the pour! Children participate in heating metal and the kids will help pour their very own molds off in the front yard of the library. This program is sponsored by the Dansville Lions Club. Space is limited! Please call the library at (585)335-6720 or stop in the library to register.
URL:https://dansvillelibrary.org/event/metal-casting-magic/
END:VEVENT
END:VCALENDAR