BEGIN:VCALENDAR
VERSION:2.0
PRODID:-//Dansville Public Library - ECPv6.2.3//NONSGML v1.0//EN
CALSCALE:GREGORIAN
METHOD:PUBLISH
X-ORIGINAL-URL:https://dansvillelibrary.org
X-WR-CALDESC:Events for Dansville Public Library
REFRESH-INTERVAL;VALUE=DURATION:PT1H
X-Robots-Tag:noindex
X-PUBLISHED-TTL:PT1H
BEGIN:VTIMEZONE
TZID:America/New_York
BEGIN:DAYLIGHT
TZOFFSETFROM:-0500
TZOFFSETTO:-0400
TZNAME:EDT
DTSTART:20190310T070000
END:DAYLIGHT
BEGIN:STANDARD
TZOFFSETFROM:-0400
TZOFFSETTO:-0500
TZNAME:EST
DTSTART:20191103T060000
END:STANDARD
END:VTIMEZONE
BEGIN:VEVENT
DTSTART;TZID=America/New_York:20190703T130000
DTEND;TZID=America/New_York:20190703T140000
DTSTAMP:20260420T085746
CREATED:20190620T140832Z
LAST-MODIFIED:20190628T195219Z
UID:3727-1562158800-1562162400@dansvillelibrary.org
SUMMARY:Summer Crafts & Books Wednesday
DESCRIPTION:Summer Crafts & Books \nWednesday 1-2 p.m. \nJuly 3- Aug 14\, 2019 \nThis summer we are excited to announce our early childhood program\, Summer Craft & Books! “Craft and Books” is a early childhood program for children ages 3-6 years old. Kids will enjoy stories\, dancing\, songs\,crafts and a lot of fun! To pre-register your child call (585)335-6720 or stop in the library!
URL:https://dansvillelibrary.org/event/summer-crafts-books-wednesday-1-p-m/
CATEGORIES:Children's
END:VEVENT
BEGIN:VEVENT
DTSTART;TZID=America/New_York:20190703T101500
DTEND;TZID=America/New_York:20190703T110000
DTSTAMP:20260420T085746
CREATED:20190613T175057Z
LAST-MODIFIED:20190628T195113Z
UID:3679-1562148900-1562151600@dansvillelibrary.org
SUMMARY:Baby's Book Buddies  Summer Session
DESCRIPTION:  \n \nMs. Mary Ellen  presents the  Summer session of Baby’s Book Buddies held every Wednesday at 10:15 a.m.  This early literacy program for those ages 6 months to 3 years old instills a love of reading in your child that will help prepare him or her for success in school. Your Baby will learn new words\, songs and fingerplays\, and there is even space for a “play” session with new friends.   Ms. Mary Ellen  wants to know your child is coming so please call the Library at 585-335-6720 to register.  All the books Ms. Mary Ellen  reads in Baby’s Book Buddies also qualify for our 1000 Books Before Kindergarten program!  You can sign up for 1000 Books when your child attends Baby’s Book Buddies.
URL:https://dansvillelibrary.org/event/babys-book-buddies-summer-session-july-3-aug-14-2019-2/
END:VEVENT
BEGIN:VEVENT
DTSTART;TZID=America/New_York:20190702T130000
DTEND;TZID=America/New_York:20190702T140000
DTSTAMP:20260420T085746
CREATED:20190612T171146Z
LAST-MODIFIED:20190628T194913Z
UID:3666-1562072400-1562076000@dansvillelibrary.org
SUMMARY:SUMMER READING KICK-OFF
DESCRIPTION:Summer Reading Kick-off  July 2 @1 P.M. \n  \n\nThe Library will kick-off the 2019 Summer Reading Program: “Universe of Stories”\, with registration and a performance by A Barrel of Fun Productions with “Alien on the Loose” on Tuesday\, July 2  at 1 p.m. Through books\, games\, musical experiences\, makerspace  and STEAM (science\, technology\, engineering\, art\, and math)\, kids will explore the universe.    This year’s program will include performers\, yoga\, crafts\, movie\,  reading aboard a spaceship and an end of summer reading finale! Children will receive a goodie bag for signing up. The program is open to children in K-6th grades. Please register your child by calling 585-335-6720 or visiting the library. Don’t miss this special event!
URL:https://dansvillelibrary.org/event/summer-reading-kick-off-july-2-1-p-m-2/
END:VEVENT
BEGIN:VEVENT
DTSTART;TZID=America/New_York:20190702T100000
DTEND;TZID=America/New_York:20190702T110000
DTSTAMP:20260420T085746
CREATED:20190612T171232Z
LAST-MODIFIED:20190628T195434Z
UID:3667-1562061600-1562065200@dansvillelibrary.org
SUMMARY:ARTMOBILE  SUMMER LIBRARY PROGRAM
DESCRIPTION:St Bonaventure presents Comet*Atcha! Join us as we go whizzing through space and around the sun on the tails of a comet.  Participants will experience this phenomenon first hand using three dimensional geometry to build their own comet wind sock!The Artmobile is part of Art Education Programming at the Regina A. Quick Center and is fully supported by funds from the Thomas T. and Mary W. Clarkson Arts Education Endowment. \nJuly 2\, 2019      10-11 A.M.  Call the library to sign-up for this program!  All are welcome! \n 
URL:https://dansvillelibrary.org/event/artmobile-summer-library-program-july-2-10-11-a-m/
CATEGORIES:Children's
END:VEVENT
BEGIN:VEVENT
DTSTART;TZID=America/New_York:20190701T190000
DTEND;TZID=America/New_York:20190701T203000
DTSTAMP:20260420T085746
CREATED:20190701T181709Z
LAST-MODIFIED:20190701T181709Z
UID:3774-1562007600-1562013000@dansvillelibrary.org
SUMMARY:Summer Concerts
DESCRIPTION:Annual Concerts in the Park in William Park Gazebo.  Paulsen & Baker 7 p.m.  Rain locations Babcock Park Firemen’s Pavilion off Morey Ave.
URL:https://dansvillelibrary.org/event/summer-concerts/
CATEGORIES:Non-Library
END:VEVENT
BEGIN:VEVENT
DTSTART;TZID=America/New_York:20190627T183000
DTEND;TZID=America/New_York:20190627T183000
DTSTAMP:20260420T085746
CREATED:20190624T234544Z
LAST-MODIFIED:20190624T234544Z
UID:3762-1561660200-1561660200@dansvillelibrary.org
SUMMARY:Ravenous Readers
DESCRIPTION:Ravenous Readers book discussion group.  Meets second Thursday of every month at Dansville Public Library at 6:30 p.m.   For more information call the Library 585-335-6720.
URL:https://dansvillelibrary.org/event/ravenous-readers-17/
CATEGORIES:Non-Library
END:VEVENT
BEGIN:VEVENT
DTSTART;TZID=America/New_York:20190621T160000
DTEND;TZID=America/New_York:20190621T180000
DTSTAMP:20260420T085746
CREATED:20190612T141328Z
LAST-MODIFIED:20190612T141328Z
UID:3659-1561132800-1561140000@dansvillelibrary.org
SUMMARY:STEAM TECH LAB! June 21 @ 4-6
DESCRIPTION:Come join Us!  Explore the STEAM TECH LAB! \nJune 21\, 2019  4-6  P.M.  Ages 5 and UP
URL:https://dansvillelibrary.org/event/steam-tech-lab-june-21-4-6-3/
END:VEVENT
BEGIN:VEVENT
DTSTART;TZID=America/New_York:20190613T183000
DTEND;TZID=America/New_York:20190613T200000
DTSTAMP:20260420T085746
CREATED:20181214T171428Z
LAST-MODIFIED:20190104T190310Z
UID:3453-1560450600-1560456000@dansvillelibrary.org
SUMMARY:Ravenous Readers
DESCRIPTION:Ravenous Readers book discussion group.  Meets second Thursday of every month at Dansville Public Library at 6:30 p.m.   For more information call the Library 585-335-6720.
URL:https://dansvillelibrary.org/event/ravenous-readers-8/
CATEGORIES:Non-Library
END:VEVENT
BEGIN:VEVENT
DTSTART;TZID=America/New_York:20190612T101500
DTEND;TZID=America/New_York:20190612T110000
DTSTAMP:20260420T085746
CREATED:20190418T140601Z
LAST-MODIFIED:20190418T140603Z
UID:3579-1560334500-1560337200@dansvillelibrary.org
SUMMARY:Baby’s Book Buddies Spring Session
DESCRIPTION:Lapsit storytime starts today! Baby’s Book Buddies begins this spring with Ms. Mary Ellen  introducing children ages 6 to 36 months to the joy of books\, fingerplays and songs! Please call (585)335-6720 to register your child or stop in the library.  Last session of Spring Storytime!
URL:https://dansvillelibrary.org/event/babys-book-buddies-spring-session-8/
END:VEVENT
BEGIN:VEVENT
DTSTART;TZID=America/New_York:20190607T170000
DTEND;TZID=America/New_York:20190607T190000
DTSTAMP:20260420T085746
CREATED:20190522T142853Z
LAST-MODIFIED:20190522T180021Z
UID:3638-1559926800-1559934000@dansvillelibrary.org
SUMMARY:Down at the Farm Stories
DESCRIPTION:Bring your children to this First Friday event\, from 5 to 7 p.m.  For more information call 585-335-6720.
URL:https://dansvillelibrary.org/event/down-at-the-farm-stories-jun-7/
END:VEVENT
BEGIN:VEVENT
DTSTART;TZID=America/New_York:20190605T101500
DTEND;TZID=America/New_York:20190605T110000
DTSTAMP:20260420T085746
CREATED:20190418T140612Z
LAST-MODIFIED:20190418T140613Z
UID:3582-1559729700-1559732400@dansvillelibrary.org
SUMMARY:Baby’s Book Buddies Spring Session
DESCRIPTION:Lapsit storytime starts today! Baby’s Book Buddies begins this spring with Ms. Mary Ellen  introducing children ages 6 to 36 months to the joy of books\, fingerplays and songs! Please call (585)335-6720 to register your child or stop in the library.
URL:https://dansvillelibrary.org/event/babys-book-buddies-spring-session-7/
END:VEVENT
BEGIN:VEVENT
DTSTART;TZID=America/New_York:20190529T101500
DTEND;TZID=America/New_York:20190529T110000
DTSTAMP:20260420T085746
CREATED:20190418T140637Z
LAST-MODIFIED:20190418T140638Z
UID:3584-1559124900-1559127600@dansvillelibrary.org
SUMMARY:Baby’s Book Buddies Spring Session
DESCRIPTION:Lapsit storytime starts today! Baby’s Book Buddies begins this spring with Ms. Mary Ellen  introducing children ages 6 to 36 months to the joy of books\, fingerplays and songs! Please call (585)335-6720 to register your child or stop in the library.
URL:https://dansvillelibrary.org/event/babys-book-buddies-spring-session-6/
END:VEVENT
BEGIN:VEVENT
DTSTART;TZID=America/New_York:20190522T101500
DTEND;TZID=America/New_York:20190522T110000
DTSTAMP:20260420T085746
CREATED:20190418T140649Z
LAST-MODIFIED:20190418T140650Z
UID:3586-1558520100-1558522800@dansvillelibrary.org
SUMMARY:Baby’s Book Buddies Spring Session
DESCRIPTION:Lapsit storytime starts today! Baby’s Book Buddies begins this spring with Ms. Mary Ellen  introducing children ages 6 to 36 months to the joy of books\, fingerplays and songs! Please call (585)335-6720 to register your child or stop in the library.
URL:https://dansvillelibrary.org/event/babys-book-buddies-spring-session-5/
END:VEVENT
BEGIN:VEVENT
DTSTART;TZID=America/New_York:20190519T140000
DTEND;TZID=America/New_York:20190519T153000
DTSTAMP:20260420T085746
CREATED:20190512T195044Z
LAST-MODIFIED:20190512T195044Z
UID:3632-1558274400-1558279800@dansvillelibrary.org
SUMMARY:Global Security Technology Invented in West Sparta
DESCRIPTION:May 19\, 2019\, Sunday\, 2 p.m. “Global Security Technology Invented in West Sparta\, NY”. Counterfeiting threatens everyone. Thirty-five years ago\, David Wicker and his wife Lisa made it their family business to tackle this issue. David invented technologies that enable safer ways to travel\, shop\, transfer information and ensure authenticity of many things including money\, documents\, automotive and tractor parts\, pharmaceuticals\, and even food. He has worked with all types of clients in thirty-seven U.S. states\, and many countries. David’s Power Point presentation will highlight this technology and how it has affected our lives. Hosted by West Sparta Historical Society at West Sparta Town Hall\, 8302 Kysorville Byersville Road\, Dansville\, 14437. Free\, accessible\, open to the public\, light refreshments\, donations accepted. For info email: margecansdale@gmail.com.
URL:https://dansvillelibrary.org/event/global-security-technology-invented-in-west-sparta/
END:VEVENT
BEGIN:VEVENT
DTSTART;TZID=America/New_York:20190515T101500
DTEND;TZID=America/New_York:20190515T110000
DTSTAMP:20260420T085746
CREATED:20190418T140702Z
LAST-MODIFIED:20190418T140704Z
UID:3588-1557915300-1557918000@dansvillelibrary.org
SUMMARY:Baby’s Book Buddies Spring Session
DESCRIPTION:Lapsit storytime starts today! Baby’s Book Buddies begins this spring with Ms. Mary Ellen  introducing children ages 6 to 36 months to the joy of books\, fingerplays and songs! Please call (585)335-6720 to register your child or stop in the library.
URL:https://dansvillelibrary.org/event/babys-book-buddies-spring-session-4/
END:VEVENT
BEGIN:VEVENT
DTSTART;TZID=America/New_York:20190514T180000
DTEND;TZID=America/New_York:20190514T180000
DTSTAMP:20260420T085746
CREATED:20190507T114434Z
LAST-MODIFIED:20190507T114434Z
UID:3625-1557856800-1557856800@dansvillelibrary.org
SUMMARY:My Best Shots May 14
DESCRIPTION:Photographer John Adamski presents slides of his best photos taken during his photography career.  6:00 p.m. at the Library in the upstairs Shepard Memorial Meeting Room.  Elevator is available as needed.
URL:https://dansvillelibrary.org/event/my-best-shots-may-14/
END:VEVENT
BEGIN:VEVENT
DTSTART;TZID=America/New_York:20190509T183000
DTEND;TZID=America/New_York:20190509T200000
DTSTAMP:20260420T085746
CREATED:20181214T171340Z
LAST-MODIFIED:20190104T190257Z
UID:3451-1557426600-1557432000@dansvillelibrary.org
SUMMARY:Ravenous Readers
DESCRIPTION:Ravenous Readers book discussion group.  Meets second Thursday of every month at Dansville Public Library at 6:30 p.m.   For more information call the Library 585-335-6720.
URL:https://dansvillelibrary.org/event/ravenous-readers-7/
CATEGORIES:Non-Library
END:VEVENT
BEGIN:VEVENT
DTSTART;TZID=America/New_York:20190508T101500
DTEND;TZID=America/New_York:20190508T110000
DTSTAMP:20260420T085746
CREATED:20190418T140720Z
LAST-MODIFIED:20190418T140721Z
UID:3590-1557310500-1557313200@dansvillelibrary.org
SUMMARY:Baby’s Book Buddies Spring Session
DESCRIPTION:Lapsit storytime starts today! Baby’s Book Buddies begins this spring with Ms. Mary Ellen  introducing children ages 6 to 36 months to the joy of books\, fingerplays and songs! Please call (585)335-6720 to register your child or stop in the library.
URL:https://dansvillelibrary.org/event/babys-book-buddies-spring-session-3/
END:VEVENT
BEGIN:VEVENT
DTSTART;TZID=America/New_York:20190502T103000
DTEND;TZID=America/New_York:20190502T113000
DTSTAMP:20260420T085746
CREATED:20190417T154031Z
LAST-MODIFIED:20190417T154032Z
UID:3575-1556793000-1556796600@dansvillelibrary.org
SUMMARY:WIGGLE and BOP!
DESCRIPTION:Welcome to WIGGLE AND BOP music and movement class! Enjoy songs and movement  activities that build motor and social skills\, and increase independence as well as language ability in your child. These are essential to learning and development and are fun. We’ll use shakers\, beanbags\, scarves\, stories and other items to move to the music and keep the beat! \n 
URL:https://dansvillelibrary.org/event/wiggle-and-bop-2/
END:VEVENT
BEGIN:VEVENT
DTSTART;TZID=America/New_York:20190501T101500
DTEND;TZID=America/New_York:20190501T110000
DTSTAMP:20260420T085746
CREATED:20190418T140744Z
LAST-MODIFIED:20190418T140745Z
UID:3592-1556705700-1556708400@dansvillelibrary.org
SUMMARY:Baby’s Book Buddies Spring Session
DESCRIPTION:Lapsit storytime starts today! Baby’s Book Buddies begins this spring with Ms. Mary Ellen  introducing children ages 6 to 36 months to the joy of books\, fingerplays and songs! Please call (585)335-6720 to register your child or stop in the library.
URL:https://dansvillelibrary.org/event/babys-book-buddies-spring-session-2/
END:VEVENT
BEGIN:VEVENT
DTSTART;TZID=America/New_York:20190429T180000
DTEND;TZID=America/New_York:20190429T193000
DTSTAMP:20260420T085746
CREATED:20190410T133048Z
LAST-MODIFIED:20190410T141130Z
UID:3570-1556560800-1556566200@dansvillelibrary.org
SUMMARY:Lady Long Rider
DESCRIPTION:Bernice Ende\, Lady Long Rider\, presents a slide show & talk about traveling across North America on horseback.  Copies of her book will be available & personally autographed.  For more information call 585-335-6720.
URL:https://dansvillelibrary.org/event/lady-long-rider/
END:VEVENT
BEGIN:VEVENT
DTSTART;TZID=America/New_York:20190427T110000
DTEND;TZID=America/New_York:20190427T130000
DTSTAMP:20260420T085746
CREATED:20190422T140024Z
LAST-MODIFIED:20190422T140025Z
UID:3611-1556362800-1556370000@dansvillelibrary.org
SUMMARY:Very Fairy Tea Party
DESCRIPTION:Come join us for our annual Children’s  Tea Party at the Dansville Public Library! This event is open to children of all ages and their special guest! Enjoy a light lunch\, refreshments\, music\, craft and stories. Space is limited! Stop by the library to register for  this very special event! Sponsored by the Friends of the Dansville Public Library.
URL:https://dansvillelibrary.org/event/3066-2/
END:VEVENT
BEGIN:VEVENT
DTSTART;TZID=America/New_York:20190425T103000
DTEND;TZID=America/New_York:20190425T113000
DTSTAMP:20260420T085746
CREATED:20190418T140823Z
LAST-MODIFIED:20190418T140824Z
UID:3597-1556188200-1556191800@dansvillelibrary.org
SUMMARY:WIGGLE and BOP!
DESCRIPTION:Welcome to WIGGLE AND BOP music and movement class! Enjoy songs and movement  activities that build motor and social skills\, and increase independence as well as language ability in your child. These are essential to learning and development and are fun. We’ll use shakers\, beanbags\, scarves\, stories  and other items to move to the music and keep the beat! \n 
URL:https://dansvillelibrary.org/event/wiggle-and-bop/
END:VEVENT
BEGIN:VEVENT
DTSTART;TZID=America/New_York:20190424T101500
DTEND;TZID=America/New_York:20190424T110000
DTSTAMP:20260420T085746
CREATED:20190418T140838Z
LAST-MODIFIED:20190418T140839Z
UID:3599-1556100900-1556103600@dansvillelibrary.org
SUMMARY:Baby’s Book Buddies Spring Session
DESCRIPTION:Lapsit storytime starts today! Baby’s Book Buddies begins this spring with Ms. Mary Ellen  introducing children ages 6 to 36 months to the joy of books\, fingerplays and songs! Please call (585)335-6720 to register your child or stop in the library.
URL:https://dansvillelibrary.org/event/babys-book-buddies-spring-session/
END:VEVENT
BEGIN:VEVENT
DTSTART;TZID=America/New_York:20190417T101500
DTEND;TZID=America/New_York:20190417T110000
DTSTAMP:20260420T085746
CREATED:20190418T140853Z
LAST-MODIFIED:20190418T140854Z
UID:3601-1555496100-1555498800@dansvillelibrary.org
SUMMARY:Baby Book Buddies  Spring Session
DESCRIPTION:Lapsit storytime starts today! Baby’s Book Buddies begins this spring with Ms. Mary Ellen  introducing children ages 6 to 36 months to the joy of books\, fingerplays and songs! Please call (585)335-6720 to register your child or stop in the library.
URL:https://dansvillelibrary.org/event/baby-book-buddies-spring-session/
END:VEVENT
BEGIN:VEVENT
DTSTART;TZID=America/New_York:20190413T110000
DTEND;TZID=America/New_York:20190413T140000
DTSTAMP:20260420T085746
CREATED:20190328T014907Z
LAST-MODIFIED:20190328T014907Z
UID:3561-1555153200-1555164000@dansvillelibrary.org
SUMMARY:17th Annual Child Health and Safety Fair
DESCRIPTION:Livingston County Cornell Cooperative Extension’s Traffic Safety Education Program invites you to join us at Dansville Elementary School on Saturday\, April 13\, 2019 from 11AM-2PM for our 17th Annual Child Health and Safety Fair. This fun\, family event will feature demonstrations from community health and safety organizations\, a scavenger hunt with prizes\, an exciting door prize give-away and interactive activities for all ages. \nCome experience the NYS Police Department’s Rollover Simulator and DWI Simulation Goggles\, and explore an Emergency Rescue Fire Truck\, ambulance and Utility Rescue Vehicle. Meet a K-9 officer and his human partner and interact with the Livingston County Mounted Patrol. Families can also assemble personalized child safety ID kits with officers from the sheriff’s department at the Operation Safe Child ID kit creation station. \nThe award ceremony for the 2019 Safety on Wheels Contest will kick-off at 12PM. Contest winners from grades Pre-K thru 6\, who were selected from schools throughout Livingston County\, will be recognized and awarded their prizes\, including new bicycles and helmets. \nThis event is free and open to the public. \nFor questions about this or other Traffic Safety Education programs and events\, please contact Jaime Johnson\, Traffic Safety Education Program Coordinator\, at jj623@cornell.edu or 585-991-5420. \nBuilding Strong & Vibrant New York Communities\n\nThe mission\, vision and values of Cornell Cooperative Extension are entrenched in the principles of diversity\, equal opportunity and affirmative action\, and provide the foundation through which we operate. This Traffic Safety Education program is made possible through funding from the National Highway Traffic Safety Administration\, the New York State Governor’s Traffic Safety Committee and from the generosity of many community members and organizations\, with additional support provided by Safe Kids Worldwide®\, the Livingston County Traffic Safety Board and Cornell Cooperative Extension of Livingston County.
URL:https://dansvillelibrary.org/event/17th-annual-child-health-and-safety-fair/
CATEGORIES:Children's
END:VEVENT
BEGIN:VEVENT
DTSTART;TZID=America/New_York:20190411T183000
DTEND;TZID=America/New_York:20190411T200000
DTSTAMP:20260420T085746
CREATED:20181214T171216Z
LAST-MODIFIED:20190104T190242Z
UID:3449-1555007400-1555012800@dansvillelibrary.org
SUMMARY:Ravenous Readers
DESCRIPTION:Ravenous Readers book discussion group.  Meets second Thursday of every month at Dansville Public Library at 6:30 p.m.   For more information call the Library 585-335-6720.
URL:https://dansvillelibrary.org/event/ravenous-readers-6/
CATEGORIES:Non-Library
END:VEVENT
BEGIN:VEVENT
DTSTART;TZID=America/New_York:20190411T173000
DTEND;TZID=America/New_York:20190411T193000
DTSTAMP:20260420T085746
CREATED:20190221T162336Z
LAST-MODIFIED:20190221T162337Z
UID:3525-1555003800-1555011000@dansvillelibrary.org
SUMMARY:Family Movie Night
DESCRIPTION:Family Night @ the Movies!  with Dinner! \nApr 11 2019 \nThursdays 5:30 p.m. \nIncludes pizza & a drink.
URL:https://dansvillelibrary.org/event/family-movie-night-6/
END:VEVENT
BEGIN:VEVENT
DTSTART;TZID=America/New_York:20190328T173000
DTEND;TZID=America/New_York:20190328T193000
DTSTAMP:20260420T085746
CREATED:20190221T162818Z
LAST-MODIFIED:20190221T162936Z
UID:3527-1553794200-1553801400@dansvillelibrary.org
SUMMARY:Family Movie Night
DESCRIPTION:Family Night @ the Movies!  with Dinner! \nMar 28 \nThursdays 5:30 p.m. \nIncludes pizza & a drink.
URL:https://dansvillelibrary.org/event/family-movie-night-3/
END:VEVENT
BEGIN:VEVENT
DTSTART;TZID=America/New_York:20190323T110000
DTEND;TZID=America/New_York:20190323T120000
DTSTAMP:20260420T085746
CREATED:20190220T210905Z
LAST-MODIFIED:20190220T210905Z
UID:3516-1553338800-1553342400@dansvillelibrary.org
SUMMARY:How Do Bears Smell? -- AWFUL! Mar 23
DESCRIPTION:The public is invited to hear Jerry Fazackerley speak about bears in this special informational program Saturday March 23\, 2019 at 11 a.m.  The event is free and promises to be entertaining as well as informative.   For more information please call the Library at 585-335-6720.
URL:https://dansvillelibrary.org/event/how-do-bears-smell-awful-mar-23/
END:VEVENT
END:VCALENDAR