BEGIN:VCALENDAR
VERSION:2.0
PRODID:-//Dansville Public Library - ECPv6.2.3//NONSGML v1.0//EN
CALSCALE:GREGORIAN
METHOD:PUBLISH
X-WR-CALNAME:Dansville Public Library
X-ORIGINAL-URL:https://dansvillelibrary.org
X-WR-CALDESC:Events for Dansville Public Library
REFRESH-INTERVAL;VALUE=DURATION:PT1H
X-Robots-Tag:noindex
X-PUBLISHED-TTL:PT1H
BEGIN:VTIMEZONE
TZID:America/New_York
BEGIN:DAYLIGHT
TZOFFSETFROM:-0500
TZOFFSETTO:-0400
TZNAME:EDT
DTSTART:20190310T070000
END:DAYLIGHT
BEGIN:STANDARD
TZOFFSETFROM:-0400
TZOFFSETTO:-0500
TZNAME:EST
DTSTART:20191103T060000
END:STANDARD
END:VTIMEZONE
BEGIN:VEVENT
DTSTART;TZID=America/New_York:20190902T090000
DTEND;TZID=America/New_York:20190902T200000
DTSTAMP:20260420T044609
CREATED:20190815T120010Z
LAST-MODIFIED:20190815T121136Z
UID:3810-1567414800-1567454400@dansvillelibrary.org
SUMMARY:Library Closed Sep 2
DESCRIPTION:The Library will be closed Sept 2 in observance of the Labor Day holiday.
URL:https://dansvillelibrary.org/event/library-closed-holiday/
END:VEVENT
BEGIN:VEVENT
DTSTART;TZID=America/New_York:20190814T130000
DTEND;TZID=America/New_York:20190814T140000
DTSTAMP:20260420T044609
CREATED:20190620T144528Z
LAST-MODIFIED:20190620T144529Z
UID:3745-1565787600-1565791200@dansvillelibrary.org
SUMMARY:Summer Craft & Books Aug 14 @ 1 p.m.
DESCRIPTION:Summer Crafts & Books \nWednesday 1-2 p.m. \nThis summer we are excited to announce our early childhood program\, Summer Craft & Books! “Craft and Books” is a early childhood program for children ages 3-6 years old. Kids will enjoy stories\, dancing\, songs\,crafts and a lot of fun! To pre-register your child call (585)335-6720 or stop in the library!
URL:https://dansvillelibrary.org/event/summer-craft-books-aug-14-1-p-m/
END:VEVENT
BEGIN:VEVENT
DTSTART;TZID=America/New_York:20190814T101500
DTEND;TZID=America/New_York:20190814T110000
DTSTAMP:20260420T044609
CREATED:20190613T192344Z
LAST-MODIFIED:20190613T193222Z
UID:3702-1565777700-1565780400@dansvillelibrary.org
SUMMARY:Baby Book Buddies Summer Session Aug 14 @ 10:15 a.m.
DESCRIPTION:Last session of Summer! \nMs. Mary Ellen  presents the  Summer session of Baby’s Book Buddies held every Wednesday at 10:15 a.m.  This early literacy program for those ages 6 months to 3 years old instills a love of reading in your child that will help prepare him or her for success in school. Your Baby will learn new words\, songs and fingerplays\, and there is even space for a “play” session with new friends.   Ms. Mary Ellen  wants to know your child is coming so please call the Library at 585-335-6720 to register.  All the books Ms. Mary Ellen  reads in Baby’s Book Buddies also qualify for our 1000 Books Before Kindergarten program!  You can sign up for 1000 Books when your child attends Baby’s Book Buddies.
URL:https://dansvillelibrary.org/event/baby-book-buddies-summer-session-aug-14-1015-a-m/
END:VEVENT
BEGIN:VEVENT
DTSTART;TZID=America/New_York:20190813T130000
DTEND;TZID=America/New_York:20190813T140000
DTSTAMP:20260420T044609
CREATED:20190612T201741Z
LAST-MODIFIED:20190612T201741Z
UID:3674-1565701200-1565704800@dansvillelibrary.org
SUMMARY:SUMMER READING FINALE!  Make Space in YOUR Universe for Books & Music.  Aug 13 @1 p.m.
DESCRIPTION:Join us for Summer Reading Finale and “Make Space in YOUR Universe for Books & Music” musical show with Nan Hoffman. Don’t miss this special “Universe of Stories” summer reading club event! For more information please call the library at (585) 335-6720. \n 
URL:https://dansvillelibrary.org/event/summer-reading-finale-make-space-in-your-universe-for-books-music-aug-13-1-p-m/
END:VEVENT
BEGIN:VEVENT
DTSTART;TZID=America/New_York:20190812T100000
DTEND;TZID=America/New_York:20190812T120000
DTSTAMP:20260420T044609
CREATED:20190612T202522Z
LAST-MODIFIED:20190807T180723Z
UID:3675-1565604000-1565611200@dansvillelibrary.org
SUMMARY:“Metal Casting” Aug 12-16\, 2019 @10 a.m.-Noon
DESCRIPTION:Metal Casting with Jeff Swift\, Aug 12-16\, 2019 @ 10 a. m.- Noon \nDon’t miss this week-long ‘Discovery Workshop’ with Jeff Swift from Swift Custom Metal. For children ages 8-12. This workshop will teach children a unique method of creating a mold and casting of bismuth\, a metallic element  In addition\, children will learn about the history of making metal\, metallurgy\, and examples of art casting. They will assist with the “pour” of the metal into their very own mold\, right here on the library’s lawn!  This program is sponsored by the Dansville Lions Club. Space is limited! Please call the library at (585)335-6720 or stop in the library to register.
URL:https://dansvillelibrary.org/event/metal-casting-aug-12-16-2019-10-a-m-noon/
END:VEVENT
BEGIN:VEVENT
DTSTART;TZID=America/New_York:20190808T183000
DTEND;TZID=America/New_York:20190808T200000
DTSTAMP:20260420T044609
CREATED:20181214T171653Z
LAST-MODIFIED:20190104T190339Z
UID:3457-1565289000-1565294400@dansvillelibrary.org
SUMMARY:Ravenous Readers
DESCRIPTION:Ravenous Readers book discussion group.  Meets second Thursday of every month at Dansville Public Library at 6:30 p.m.   For more information call the Library 585-335-6720.
URL:https://dansvillelibrary.org/event/ravenous-readers-10/
CATEGORIES:Non-Library
END:VEVENT
BEGIN:VEVENT
DTSTART;TZID=America/New_York:20190807T130000
DTEND;TZID=America/New_York:20190807T140000
DTSTAMP:20260420T044609
CREATED:20190620T144402Z
LAST-MODIFIED:20190620T144403Z
UID:3743-1565182800-1565186400@dansvillelibrary.org
SUMMARY:Summer Crafts & Books Aug 7 @ 1 p.m.
DESCRIPTION:Summer Crafts & Books \nWednesday 1-2 p.m. \nThis summer we are excited to announce our early childhood program\, Summer Craft & Books! “Craft and Books” is a early childhood program for children ages 3-6 years old. Kids will enjoy stories\, dancing\, songs\,crafts and a lot of fun! To pre-register your child call (585)335-6720 or stop in the library!
URL:https://dansvillelibrary.org/event/summer-crafts-books-aug-7-1-p-m/
END:VEVENT
BEGIN:VEVENT
DTSTART;TZID=America/New_York:20190807T101500
DTEND;TZID=America/New_York:20190807T110000
DTSTAMP:20260420T044609
CREATED:20190613T192134Z
LAST-MODIFIED:20190613T193111Z
UID:3700-1565172900-1565175600@dansvillelibrary.org
SUMMARY:Baby’s Book Buddies Summer Session Aug 7 @ 10:15 a.m.
DESCRIPTION:Ms. Mary Ellen  presents the  Summer session of Baby’s Book Buddies held every Wednesday at 10:15 a.m.  This early literacy program for those ages 6 months to 3 years old instills a love of reading in your child that will help prepare him or her for success in school. Your Baby will learn new words\, songs and fingerplays\, and there is even space for a “play” session with new friends.   Ms. Mary Ellen  wants to know your child is coming so please call the Library at 585-335-6720 to register.  All the books Ms. Mary Ellen  reads in Baby’s Book Buddies also qualify for our 1000 Books Before Kindergarten program!  You can sign up for 1000 Books when your child attends Baby’s Book Buddies.
URL:https://dansvillelibrary.org/event/babys-book-buddies-summer-session-aug-7-1015-a-m/
END:VEVENT
BEGIN:VEVENT
DTSTART;TZID=America/New_York:20190806T130000
DTEND;TZID=America/New_York:20190806T140000
DTSTAMP:20260420T044609
CREATED:20190612T200617Z
LAST-MODIFIED:20190612T200617Z
UID:3673-1565096400-1565100000@dansvillelibrary.org
SUMMARY:Out Of This World Yoga- Summer Reading Club Aug 6 @1 p.m.
DESCRIPTION:Come joins us for Out of This World Yoga!  Everybody’s Yoga Studio  presents Kids Yoga at summer reading.  Come to Yoga  and  learn to manage stress and big emotions\, while developing strength and co-ordination. Don’t miss this special “Universe of Stories” summer reading club event! For more information please call the library at (585) 335-6720.
URL:https://dansvillelibrary.org/event/out-of-this-world-yoga-summer-reading-club-aug-6-1-p-m/
END:VEVENT
BEGIN:VEVENT
DTSTART;TZID=America/New_York:20190731T130000
DTEND;TZID=America/New_York:20190731T140000
DTSTAMP:20260420T044609
CREATED:20190620T144219Z
LAST-MODIFIED:20190620T144220Z
UID:3741-1564578000-1564581600@dansvillelibrary.org
SUMMARY:Summer Crafts & Books July 31@1 p.m.
DESCRIPTION:Summer Crafts & Books \nWednesday 1-2 p.m. \nThis summer we are excited to announce our early childhood program\, Summer Craft & Books! “Craft and Books” is a early childhood program for children ages 3-6 years old. Kids will enjoy stories\, dancing\, songs\,crafts and a lot of fun! To pre-register your child call (585)335-6720 or stop in the library!
URL:https://dansvillelibrary.org/event/summer-crafts-books-july-311-p-m/
END:VEVENT
BEGIN:VEVENT
DTSTART;TZID=America/New_York:20190731T101500
DTEND;TZID=America/New_York:20190731T110000
DTSTAMP:20260420T044609
CREATED:20190613T191906Z
LAST-MODIFIED:20190613T192956Z
UID:3696-1564568100-1564570800@dansvillelibrary.org
SUMMARY:Baby’s Book Buddies Summer Session July 31 @ 10:15 a.m.
DESCRIPTION:Ms. Mary Ellen  presents the  Summer session of Baby’s Book Buddies held every Wednesday at 10:15 a.m.  This early literacy program for those ages 6 months to 3 years old instills a love of reading in your child that will help prepare him or her for success in school. Your Baby will learn new words\, songs and fingerplays\, and there is even space for a “play” session with new friends.   Ms. Mary Ellen  wants to know your child is coming so please call the Library at 585-335-6720 to register.  All the books Ms. Mary Ellen  reads in Baby’s Book Buddies also qualify for our 1000 Books Before Kindergarten program!  You can sign up for 1000 Books when your child attends Baby’s Book Buddies.
URL:https://dansvillelibrary.org/event/babys-book-buddies-summer-session-july-31-1015-a-m/
END:VEVENT
BEGIN:VEVENT
DTSTART;TZID=America/New_York:20190730T130000
DTEND;TZID=America/New_York:20190730T140000
DTSTAMP:20260420T044609
CREATED:20190612T195041Z
LAST-MODIFIED:20190612T195041Z
UID:3672-1564491600-1564495200@dansvillelibrary.org
SUMMARY:Summer Reading Club July 30 @1 p.m.
DESCRIPTION:Come join us and  climb aboard a spaceship!  Listen as crew members read  stories from space.  After reading books together\, kids will enjoy  making galaxy sensory bags and Cosmic Space Dough. \n\nDon’t miss this special “Universe of Stories!” summer reading club event! For more information please call the library at (585) 335-6720.
URL:https://dansvillelibrary.org/event/summer-reading-club-july-30-1-p-m/
END:VEVENT
BEGIN:VEVENT
DTSTART;TZID=America/New_York:20190729T100000
DTEND;TZID=America/New_York:20190729T120000
DTSTAMP:20260420T044609
CREATED:20190612T203932Z
LAST-MODIFIED:20190612T203932Z
UID:3677-1564394400-1564401600@dansvillelibrary.org
SUMMARY:Drawing & Painting With Renee July 29- Aug 2 @10 a.m.- Noon
DESCRIPTION:Don’t miss this week-long ‘Discovery Workshop’ with Renee Coombs! For children ages 8-12.Children will explore the world of art and imagination and let their creative senses come alive at this workshop. They will also learn how to use different art mediums and make artistic creations of animals . Features painting\, and drawing. For children ages 8-12. Space is limited! Don’t miss this special “Discovery Workshop” sponsored by the Dansville Lions Club. For more information please call or stop in the library.
URL:https://dansvillelibrary.org/event/drawing-painting-with-renee-july-29-aug-2-10-a-m-noon/
END:VEVENT
BEGIN:VEVENT
DTSTART;TZID=America/New_York:20190725T183000
DTEND;TZID=America/New_York:20190725T183000
DTSTAMP:20260420T044609
CREATED:20190624T234408Z
LAST-MODIFIED:20190624T234408Z
UID:3760-1564079400-1564079400@dansvillelibrary.org
SUMMARY:Ravenous Readers
DESCRIPTION:Ravenous Readers book discussion group.  Meets second Thursday of every month at Dansville Public Library at 6:30 p.m.   For more information call the Library 585-335-6720.
URL:https://dansvillelibrary.org/event/ravenous-readers-16/
CATEGORIES:Non-Library
END:VEVENT
BEGIN:VEVENT
DTSTART;TZID=America/New_York:20190724T130000
DTEND;TZID=America/New_York:20190724T140000
DTSTAMP:20260420T044609
CREATED:20190620T141759Z
LAST-MODIFIED:20190620T141800Z
UID:3739-1563973200-1563976800@dansvillelibrary.org
SUMMARY:Summer Crafts & Books July 24 @ 1 p.m.
DESCRIPTION:Summer Crafts & Books \nWednesday 1-2 p.m. \nThis summer we are excited to announce our early childhood program\, Summer Craft & Books! “Craft and Books” is a early childhood program for children ages 3-6 years old. Kids will enjoy stories\, dancing\, songs\,crafts and a lot of fun! To pre-register your child call (585)335-6720 or stop in the library!
URL:https://dansvillelibrary.org/event/summer-crafts-books-july-24-1-p-m/
END:VEVENT
BEGIN:VEVENT
DTSTART;TZID=America/New_York:20190724T101500
DTEND;TZID=America/New_York:20190724T110000
DTSTAMP:20260420T044609
CREATED:20190613T191608Z
LAST-MODIFIED:20190613T192831Z
UID:3692-1563963300-1563966000@dansvillelibrary.org
SUMMARY:Baby’s Book Buddies Summer Session July 24 @10:15 a.m.
DESCRIPTION:Ms. Mary Ellen  presents the  Summer session of Baby’s Book Buddies held every Wednesday at 10:15 a.m.  This early literacy program for those ages 6 months to 3 years old instills a love of reading in your child that will help prepare him or her for success in school. Your Baby will learn new words\, songs and fingerplays\, and there is even space for a “play” session with new friends.   Ms. Mary Ellen  wants to know your child is coming so please call the Library at 585-335-6720 to register.  All the books Ms. Mary Ellen  reads in Baby’s Book Buddies also qualify for our 1000 Books Before Kindergarten program!  You can sign up for 1000 Books when your child attends Baby’s Book Buddies.
URL:https://dansvillelibrary.org/event/babys-book-buddies-summer-session-july-24-1015-a-m/
END:VEVENT
BEGIN:VEVENT
DTSTART;TZID=America/New_York:20190723T130000
DTEND;TZID=America/New_York:20190723T140000
DTSTAMP:20260420T044609
CREATED:20190612T192829Z
LAST-MODIFIED:20190613T150509Z
UID:3671-1563886800-1563890400@dansvillelibrary.org
SUMMARY:Song &  Dance Around the Planet- Summer Reading Club July 23 @ 1 p.m.
DESCRIPTION:Song and Dance Around the Planet \nDance to\, sing along with\, and experience traditional & folk music from cultures across the world!   International performer Sagit Zilberman performs and facilitates an interactive global music program which introduces children to instruments such as the didgeridoo\, space-drum\, recorder and saxophone in a new and exciting way\, and empowers them to use their voices and body to dance and sing in harmony with her and others in the group.  Don’t miss this special “Universe of Stories” summer reading club event! For more information please call the library at (585) 335-6720.
URL:https://dansvillelibrary.org/event/sing-dance-around-the-planet-summer-reading-club-july-23-1-p-m/
END:VEVENT
BEGIN:VEVENT
DTSTART;TZID=America/New_York:20190720T103000
DTEND;TZID=America/New_York:20190720T120000
DTSTAMP:20260420T044609
CREATED:20190620T180656Z
LAST-MODIFIED:20190620T180657Z
UID:3750-1563618600-1563624000@dansvillelibrary.org
SUMMARY:Tinker Lab  July 20 @10:30 a.m.
DESCRIPTION:Tinker Lab \nJuly 20 @ 10:30-noon \nages 3-6 \nCome play\,read and talk about creating and building!  Kids will used their imagination and ingenuity to design and build towers\, skyscrapers\, castles and  houses.There will be a wide variety of STEAM based activities!
URL:https://dansvillelibrary.org/event/3204-2/
END:VEVENT
BEGIN:VEVENT
DTSTART;TZID=America/New_York:20190720T103000
DTEND;TZID=America/New_York:20190720T120000
DTSTAMP:20260420T044609
CREATED:20190620T180057Z
LAST-MODIFIED:20190620T180058Z
UID:3747-1563618600-1563624000@dansvillelibrary.org
SUMMARY:
DESCRIPTION:Tinker Lab \nJuly 20 @ 10:30-noon \nages 3-6 \nCome play\,read and talk about creating and building!  Kids will used their imagination and ingenuity to design and build towers\, skyscrapers\, castles and  houses.There will be a wide variety of STEAM based activities!
URL:https://dansvillelibrary.org/event/3204/
END:VEVENT
BEGIN:VEVENT
DTSTART;TZID=America/New_York:20190718T183000
DTEND;TZID=America/New_York:20190718T183000
DTSTAMP:20260420T044609
CREATED:20190624T234143Z
LAST-MODIFIED:20190624T234143Z
UID:3756-1563474600-1563474600@dansvillelibrary.org
SUMMARY:Ravenous Readers
DESCRIPTION:Ravenous Readers book discussion group.  Meets second Thursday of every month at Dansville Public Library at 6:30 p.m.   For more information call the Library 585-335-6720.
URL:https://dansvillelibrary.org/event/ravenous-readers-15/
CATEGORIES:Non-Library
END:VEVENT
BEGIN:VEVENT
DTSTART;TZID=America/New_York:20190717T130000
DTEND;TZID=America/New_York:20190717T140000
DTSTAMP:20260420T044609
CREATED:20190620T141519Z
LAST-MODIFIED:20190620T141520Z
UID:3735-1563368400-1563372000@dansvillelibrary.org
SUMMARY:Summer Crafts & Books July 17 @ 1 p.m.
DESCRIPTION:Summer Crafts & Books \nWednesday 1-2 p.m. \nThis summer we are excited to announce our early childhood program\, Summer Craft & Books! “Craft and Books” is a early childhood program for children ages 3-6 years old. Kids will enjoy stories\, dancing\, songs\,crafts and a lot of fun! To pre-register your child call (585)335-6720 or stop in the library!
URL:https://dansvillelibrary.org/event/summer-crafts-books-july-17-1-p-m/
END:VEVENT
BEGIN:VEVENT
DTSTART;TZID=America/New_York:20190717T101500
DTEND;TZID=America/New_York:20190717T110000
DTSTAMP:20260420T044609
CREATED:20190613T191737Z
LAST-MODIFIED:20190613T192922Z
UID:3694-1563358500-1563361200@dansvillelibrary.org
SUMMARY:Baby’s Book Buddies Summer Session July 17 @10:15 a.m.
DESCRIPTION:Ms. Mary Ellen  presents the  Summer session of Baby’s Book Buddies held every Wednesday at 10:15 a.m.  This early literacy program for those ages 6 months to 3 years old instills a love of reading in your child that will help prepare him or her for success in school. Your Baby will learn new words\, songs and fingerplays\, and there is even space for a “play” session with new friends.   Ms. Mary Ellen  wants to know your child is coming so please call the Library at 585-335-6720 to register.  All the books Ms. Mary Ellen  reads in Baby’s Book Buddies also qualify for our 1000 Books Before Kindergarten program!  You can sign up for 1000 Books when your child attends Baby’s Book Buddies.
URL:https://dansvillelibrary.org/event/babys-book-buddies-summer-session-july-17-1015-a-m/
END:VEVENT
BEGIN:VEVENT
DTSTART;TZID=America/New_York:20190716T130000
DTEND;TZID=America/New_York:20190716T140000
DTSTAMP:20260420T044609
CREATED:20190612T191110Z
LAST-MODIFIED:20190612T191110Z
UID:3669-1563282000-1563285600@dansvillelibrary.org
SUMMARY:Summer Reading Club July 16 @1 p.m.
DESCRIPTION:Do you like to create\, invent and learn?  Come enjoy a makerspace time!  Kids will be creating “robots.”  3 Challenge-  Whose robot is the strongest?  Whose robot is the tallest? Whose robot is the smallest? Don’t miss this special “Universe of Stories” summer reading club event! For more information please call the library at (585) 335-6720.
URL:https://dansvillelibrary.org/event/summer-reading-club-july-16-1-p-m/
END:VEVENT
BEGIN:VEVENT
DTSTART;TZID=America/New_York:20190711T183000
DTEND;TZID=America/New_York:20190711T200000
DTSTAMP:20260420T044609
CREATED:20181214T171534Z
LAST-MODIFIED:20190104T190323Z
UID:3455-1562869800-1562875200@dansvillelibrary.org
SUMMARY:Ravenous Readers
DESCRIPTION:Ravenous Readers book discussion group.  Meets second Thursday of every month at Dansville Public Library at 6:30 p.m.   For more information call the Library 585-335-6720.
URL:https://dansvillelibrary.org/event/ravenous-readers-9/
CATEGORIES:Non-Library
END:VEVENT
BEGIN:VEVENT
DTSTART;TZID=America/New_York:20190710T130000
DTEND;TZID=America/New_York:20190710T140000
DTSTAMP:20260420T044609
CREATED:20190620T141329Z
LAST-MODIFIED:20190620T141330Z
UID:3732-1562763600-1562767200@dansvillelibrary.org
SUMMARY:Summer Crafts & Books Wednesday July 10 @ 1 p.m.
DESCRIPTION:Summer Crafts & Books \nWednesday 1-2 p.m. \nThis summer we are excited to announce our early childhood program\, Summer Craft & Books! “Craft and Books” is a early childhood program for children ages 3-6 years old. Kids will enjoy stories\, dancing\, songs\,crafts and a lot of fun! To pre-register your child call (585)335-6720 or stop in the library!
URL:https://dansvillelibrary.org/event/summer-crafts-books-wednesday-july-10-1-p-m/
END:VEVENT
BEGIN:VEVENT
DTSTART;TZID=America/New_York:20190710T101500
DTEND;TZID=America/New_York:20190710T110000
DTSTAMP:20260420T044609
CREATED:20190613T175855Z
LAST-MODIFIED:20190613T193029Z
UID:3687-1562753700-1562756400@dansvillelibrary.org
SUMMARY:Baby’s Book Buddies Summer Session July 10 @ 10:15 a.m.
DESCRIPTION:Ms. Mary Ellen  presents the  Summer session of Baby’s Book Buddies held every Wednesday at 10:15 a.m.  This early literacy program for those ages 6 months to 3 years old instills a love of reading in your child that will help prepare him or her for success in school. Your Baby will learn new words\, songs and fingerplays\, and there is even space for a “play” session with new friends.   Ms. Mary Ellen  wants to know your child is coming so please call the Library at 585-335-6720 to register.  All the books Ms. Mary Ellen  reads in Baby’s Book Buddies also qualify for our 1000 Books Before Kindergarten program!  You can sign up for 1000 Books when your child attends Baby’s Book Buddies.
URL:https://dansvillelibrary.org/event/babys-book-buddies-summer-session-july-10-1015-a-m/
END:VEVENT
BEGIN:VEVENT
DTSTART;TZID=America/New_York:20190709T130000
DTEND;TZID=America/New_York:20190709T143000
DTSTAMP:20260420T044609
CREATED:20190612T190241Z
LAST-MODIFIED:20190612T191428Z
UID:3668-1562677200-1562682600@dansvillelibrary.org
SUMMARY:Summer reading Club July 9 @ 1 p.m.
DESCRIPTION:Come enjoy a movie @ the library! Call the library to see what will be showing.  Don’t miss this special “Universe of Stories” summer reading club event! For more information please call the library at (585) 335-6720.
URL:https://dansvillelibrary.org/event/summer-reading-event-1-p-m/
END:VEVENT
BEGIN:VEVENT
DTSTART;TZID=America/New_York:20190708T100000
DTEND;TZID=America/New_York:20190708T120000
DTSTAMP:20260420T044609
CREATED:20190612T203441Z
LAST-MODIFIED:20190612T203441Z
UID:3676-1562580000-1562587200@dansvillelibrary.org
SUMMARY:“Electric Circuits” with Joe Debell July 8-12 @ 10 a.m.-Noon
DESCRIPTION:Don’t miss this special week-long ‘Discovery Workshop’ with Joe DeBell! For children ages 8-12. Kids would investigate electricity by wiring a circuit to a bulb.  How to form a complete circuit and other electrical concepts such a conductors and insulators.  Kids  would learn about the symbolic language of electricity and use and read diagrams for wiring circuits and constructing a flashlight.  Kids would apply what they learn to design a wiring plan for a cardboard house. These activities cultivate students’ abilities to analyze problems\, think critically\, and develop solutions. For children ages 8-12. Space is limited! Don’t miss this special “Discovery Workshop” sponsored by the Dansville Lions Club. For more information please call or stop in the library.
URL:https://dansvillelibrary.org/event/electric-circuits-with-joe-debell-july-8-12-10-a-m-noon/
END:VEVENT
BEGIN:VEVENT
DTSTART;TZID=America/New_York:20190705T170000
DTEND;TZID=America/New_York:20190705T190000
DTSTAMP:20260420T044609
CREATED:20190701T180508Z
LAST-MODIFIED:20190701T180508Z
UID:3770-1562346000-1562353200@dansvillelibrary.org
SUMMARY:Dragons\, Fairies & Gnomes\, OH MY! July 5 @5-7 p.m.
DESCRIPTION:First Friday Event! \nJuly 5th \n5-7 pm \nOpen to ages 2 years old and up! \n 
URL:https://dansvillelibrary.org/event/dragons-fairies-gnomes-oh-my-july-5-5-7-p-m/
END:VEVENT
BEGIN:VEVENT
DTSTART;VALUE=DATE:20190704
DTEND;VALUE=DATE:20190705
DTSTAMP:20260420T044609
CREATED:20190624T233925Z
LAST-MODIFIED:20190624T233925Z
UID:3442-1562198400-1562284799@dansvillelibrary.org
SUMMARY:Library Closed
DESCRIPTION:Library Closed for the Fourth of July.  Have a festive and safe holiday!
URL:https://dansvillelibrary.org/event/library-closed-7/
END:VEVENT
END:VCALENDAR