BEGIN:VCALENDAR
VERSION:2.0
PRODID:-//Dansville Public Library - ECPv6.2.3//NONSGML v1.0//EN
CALSCALE:GREGORIAN
METHOD:PUBLISH
X-ORIGINAL-URL:https://dansvillelibrary.org
X-WR-CALDESC:Events for Dansville Public Library
REFRESH-INTERVAL;VALUE=DURATION:PT1H
X-Robots-Tag:noindex
X-PUBLISHED-TTL:PT1H
BEGIN:VTIMEZONE
TZID:America/New_York
BEGIN:DAYLIGHT
TZOFFSETFROM:-0500
TZOFFSETTO:-0400
TZNAME:EDT
DTSTART:20170312T070000
END:DAYLIGHT
BEGIN:STANDARD
TZOFFSETFROM:-0400
TZOFFSETTO:-0500
TZNAME:EST
DTSTART:20171105T060000
END:STANDARD
BEGIN:DAYLIGHT
TZOFFSETFROM:-0500
TZOFFSETTO:-0400
TZNAME:EDT
DTSTART:20180311T070000
END:DAYLIGHT
BEGIN:STANDARD
TZOFFSETFROM:-0400
TZOFFSETTO:-0500
TZNAME:EST
DTSTART:20181104T060000
END:STANDARD
END:VTIMEZONE
BEGIN:VEVENT
DTSTART;TZID=America/New_York:20180618T180000
DTEND;TZID=America/New_York:20180618T200000
DTSTAMP:20260420T103936
CREATED:20180617T120403Z
LAST-MODIFIED:20180625T183533Z
UID:3255-1529344800-1529352000@dansvillelibrary.org
SUMMARY:Dansville Summer Concerts
DESCRIPTION:FREE Concert at 7:00 p.m. Featuring 78 RPM playing big band music.  At Williams Park\, corner of Washington & Red Jackets Streets. Check for rain location. Co-Sponsored by the following: Village of Dansville\, Town No. Dansville\, Linda & Jon Shay\, Lions Club\, Rotary Club\, Lioness\, Women’s Civic Club\, Chamber of Commerce\, Dans. Dental Professionals\, A Smile By Design\, Scovill’s Grille @ Brae Burn\, Varsity Park Homes\, GCC\, Betty & Bob Minemier\, Gretchen & Lowell George\, Scott & Tamara Kenney\, Barb Kurtz. \n 
URL:https://dansvillelibrary.org/event/3255/
CATEGORIES:Non-Library
END:VEVENT
BEGIN:VEVENT
DTSTART;TZID=America/New_York:20171014T160000
DTEND;TZID=America/New_York:20171014T190000
DTSTAMP:20260420T103936
CREATED:20170713T004914Z
LAST-MODIFIED:20170713T004914Z
UID:2749-1507996800-1508007600@dansvillelibrary.org
SUMMARY:Ham Dinner
DESCRIPTION:St. Paul’s Lutheran Church Dansville \nHam Dinner
URL:https://dansvillelibrary.org/event/ham-dinner/
CATEGORIES:Non-Library
END:VEVENT
BEGIN:VEVENT
DTSTART;TZID=America/New_York:20170729T100000
DTEND;TZID=America/New_York:20170729T160000
DTSTAMP:20260420T103936
CREATED:20170628T152756Z
LAST-MODIFIED:20170725T142230Z
UID:2730-1501322400-1501344000@dansvillelibrary.org
SUMMARY:West Sparta Old-Fashioned Day
DESCRIPTION:Country Fun for Everyone—FREE admission and activities! The children’s activity area will be better than ever\, and we will have representatives from 4-H\, Cornell Cooperative Extension and Livingston Arts on hand. Face painting\, pony rides and petting zoo will be back. We still have room for vendors: send an e-mail to ofd@townofwestsparta.org for details and registration forms. For more information contact Town Supervisor at 585-519-5111
URL:https://dansvillelibrary.org/event/west-sparta-old-fashioned-day/
LOCATION:The Park at West Sparta\, 8302 Kysorville-Byersville Rd\, West Sparta
CATEGORIES:Non-Library
END:VEVENT
BEGIN:VEVENT
DTSTART;TZID=America/New_York:20170703T190000
DTEND;TZID=America/New_York:20170703T203000
DTSTAMP:20260420T103936
CREATED:20170623T115720Z
LAST-MODIFIED:20170702T031028Z
UID:2701-1499108400-1499113800@dansvillelibrary.org
SUMMARY:Dansville Summer Concerts
DESCRIPTION:Dansville Summer Concerts at 7 p.m. Don Newcomb Band playing traditional country music.  All events are held at Williams Park @ corner of Washington & Red Jackets Streets.  Concerts are Co-Sponsored by the following: Dansville Chamber of Commerce\, Dansville Dental Professionals\, Genesee Community College\, Lioness Club\, Lion’s Club\, Betty & Bob Minemier\, NYS Festival of Balloons\, Rotary Club\, Jon & Linda Shay\, Scovill’s Grille & Brae Burn Recreation\, A Smile by Design\, Town of North Dansville\, Varsity Park Homes.com\, Village of Dansville\, Wegmans (Geneseo)\, Women’s Civic Club. 
URL:https://dansvillelibrary.org/event/2701/
CATEGORIES:Non-Library
END:VEVENT
END:VCALENDAR